BEGIN:VCALENDAR
VERSION:2.0
PRODID:-//Getaway Girls - ECPv6.15.20//NONSGML v1.0//EN
CALSCALE:GREGORIAN
METHOD:PUBLISH
X-WR-CALNAME:Getaway Girls
X-ORIGINAL-URL:https://getawaygirls.co.uk
X-WR-CALDESC:Events for Getaway Girls
REFRESH-INTERVAL;VALUE=DURATION:PT1H
X-Robots-Tag:noindex
X-PUBLISHED-TTL:PT1H
BEGIN:VTIMEZONE
TZID:UTC
BEGIN:STANDARD
TZOFFSETFROM:+0000
TZOFFSETTO:+0000
TZNAME:UTC
DTSTART:20240101T000000
END:STANDARD
END:VTIMEZONE
BEGIN:VEVENT
DTSTART;TZID=UTC:20250704T123000
DTEND;TZID=UTC:20250704T143000
DTSTAMP:20260420T205647
CREATED:20250729T060752Z
LAST-MODIFIED:20250729T060752Z
UID:10001042-1751632200-1751639400@getawaygirls.co.uk
SUMMARY:Cooking together
DESCRIPTION:Cooking together for young women aged 16-25 yrs\, creché available
URL:https://getawaygirls.co.uk/group/cooking-together-11/2025-07-04/
LOCATION:Getaway Girls\, 19 Brooklands Avenue\, Leeds\, West Yorkshire\, LS14 6SG\, United Kingdom
ATTACH;FMTTYPE=image/jpeg:https://getawaygirls.co.uk/wp-content/uploads/2024/01/Cooking-together.jpg
END:VEVENT
BEGIN:VEVENT
DTSTART;TZID=UTC:20250707T123000
DTEND;TZID=UTC:20250707T143000
DTSTAMP:20260420T205647
CREATED:20250729T060652Z
LAST-MODIFIED:20250729T060652Z
UID:10001034-1751891400-1751898600@getawaygirls.co.uk
SUMMARY:Proud to be Mum group
DESCRIPTION:Proud to be Mums group\, upto 25yrs\, with creché
URL:https://getawaygirls.co.uk/group/proud-to-be-mum-group-8/2025-07-07/
LOCATION:Getaway Girls\, 19 Brooklands Avenue\, Leeds\, West Yorkshire\, LS14 6SG\, United Kingdom
ATTACH;FMTTYPE=image/jpeg:https://getawaygirls.co.uk/wp-content/uploads/2024/01/Proud-to-be-Mum.jpg
END:VEVENT
BEGIN:VEVENT
DTSTART;TZID=UTC:20250711T123000
DTEND;TZID=UTC:20250711T143000
DTSTAMP:20260420T205647
CREATED:20250729T060752Z
LAST-MODIFIED:20250729T060752Z
UID:10001043-1752237000-1752244200@getawaygirls.co.uk
SUMMARY:Cooking together
DESCRIPTION:Cooking together for young women aged 16-25 yrs\, creché available
URL:https://getawaygirls.co.uk/group/cooking-together-11/2025-07-11/
LOCATION:Getaway Girls\, 19 Brooklands Avenue\, Leeds\, West Yorkshire\, LS14 6SG\, United Kingdom
ATTACH;FMTTYPE=image/jpeg:https://getawaygirls.co.uk/wp-content/uploads/2024/01/Cooking-together.jpg
END:VEVENT
BEGIN:VEVENT
DTSTART;TZID=UTC:20250714T123000
DTEND;TZID=UTC:20250714T143000
DTSTAMP:20260420T205647
CREATED:20250729T060652Z
LAST-MODIFIED:20250729T060652Z
UID:10001035-1752496200-1752503400@getawaygirls.co.uk
SUMMARY:Proud to be Mum group
DESCRIPTION:Proud to be Mums group\, upto 25yrs\, with creché
URL:https://getawaygirls.co.uk/group/proud-to-be-mum-group-8/2025-07-14/
LOCATION:Getaway Girls\, 19 Brooklands Avenue\, Leeds\, West Yorkshire\, LS14 6SG\, United Kingdom
ATTACH;FMTTYPE=image/jpeg:https://getawaygirls.co.uk/wp-content/uploads/2024/01/Proud-to-be-Mum.jpg
END:VEVENT
BEGIN:VEVENT
DTSTART;TZID=UTC:20250718T123000
DTEND;TZID=UTC:20250718T143000
DTSTAMP:20260420T205647
CREATED:20250729T060752Z
LAST-MODIFIED:20250729T060752Z
UID:10001044-1752841800-1752849000@getawaygirls.co.uk
SUMMARY:Cooking together
DESCRIPTION:Cooking together for young women aged 16-25 yrs\, creché available
URL:https://getawaygirls.co.uk/group/cooking-together-11/2025-07-18/
LOCATION:Getaway Girls\, 19 Brooklands Avenue\, Leeds\, West Yorkshire\, LS14 6SG\, United Kingdom
ATTACH;FMTTYPE=image/jpeg:https://getawaygirls.co.uk/wp-content/uploads/2024/01/Cooking-together.jpg
END:VEVENT
BEGIN:VEVENT
DTSTART;TZID=UTC:20250721T123000
DTEND;TZID=UTC:20250721T143000
DTSTAMP:20260420T205647
CREATED:20250729T060652Z
LAST-MODIFIED:20250729T060652Z
UID:10001036-1753101000-1753108200@getawaygirls.co.uk
SUMMARY:Proud to be Mum group
DESCRIPTION:Proud to be Mums group\, upto 25yrs\, with creché
URL:https://getawaygirls.co.uk/group/proud-to-be-mum-group-8/2025-07-21/
LOCATION:Getaway Girls\, 19 Brooklands Avenue\, Leeds\, West Yorkshire\, LS14 6SG\, United Kingdom
ATTACH;FMTTYPE=image/jpeg:https://getawaygirls.co.uk/wp-content/uploads/2024/01/Proud-to-be-Mum.jpg
END:VEVENT
BEGIN:VEVENT
DTSTART;TZID=UTC:20250725T123000
DTEND;TZID=UTC:20250725T143000
DTSTAMP:20260420T205647
CREATED:20250729T060752Z
LAST-MODIFIED:20250729T060752Z
UID:10001045-1753446600-1753453800@getawaygirls.co.uk
SUMMARY:Cooking together
DESCRIPTION:Cooking together for young women aged 16-25 yrs\, creché available
URL:https://getawaygirls.co.uk/group/cooking-together-11/2025-07-25/
LOCATION:Getaway Girls\, 19 Brooklands Avenue\, Leeds\, West Yorkshire\, LS14 6SG\, United Kingdom
ATTACH;FMTTYPE=image/jpeg:https://getawaygirls.co.uk/wp-content/uploads/2024/01/Cooking-together.jpg
END:VEVENT
BEGIN:VEVENT
DTSTART;TZID=UTC:20250729T113000
DTEND;TZID=UTC:20250729T153000
DTSTAMP:20260420T205647
CREATED:20250729T061726Z
LAST-MODIFIED:20250729T061829Z
UID:10001051-1753788600-1753803000@getawaygirls.co.uk
SUMMARY:8-13’s Summer Scheme
DESCRIPTION:You must book through Healthy Holidays and be on free school meals
URL:https://getawaygirls.co.uk/group/8-13s-summer-scheme/2025-07-29/
LOCATION:Getaway Girls\, 19 Brooklands Avenue\, Leeds\, West Yorkshire\, LS14 6SG\, United Kingdom
ATTACH;FMTTYPE=image/png:https://getawaygirls.co.uk/wp-content/uploads/2025/07/8-13s-Summer-Scheme.png
END:VEVENT
BEGIN:VEVENT
DTSTART;TZID=UTC:20250730T113000
DTEND;TZID=UTC:20250730T153000
DTSTAMP:20260420T205647
CREATED:20250729T062513Z
LAST-MODIFIED:20250729T075939Z
UID:10001072-1753875000-1753889400@getawaygirls.co.uk
SUMMARY:13-17’s Summer Scheme
DESCRIPTION:You must book through Healthy Holidays and be on free school meals
URL:https://getawaygirls.co.uk/group/13-17s-summer-scheme/
LOCATION:Getaway Girls\, 19 Brooklands Avenue\, Leeds\, West Yorkshire\, LS14 6SG\, United Kingdom
ATTACH;FMTTYPE=image/png:https://getawaygirls.co.uk/wp-content/uploads/2025/07/13-17s-summer-scheme.png
END:VEVENT
BEGIN:VEVENT
DTSTART;TZID=UTC:20250731T113000
DTEND;TZID=UTC:20250731T153000
DTSTAMP:20260420T205647
CREATED:20250729T062114Z
LAST-MODIFIED:20250729T062748Z
UID:10001078-1753961400-1753975800@getawaygirls.co.uk
SUMMARY:8-13’s Summer Scheme
DESCRIPTION:You must book through Healthy Holidays and be on free school meals
URL:https://getawaygirls.co.uk/group/8-13s-summer-scheme-3/2025-07-31/
LOCATION:Getaway Girls\, 19 Brooklands Avenue\, Leeds\, West Yorkshire\, LS14 6SG\, United Kingdom
ATTACH;FMTTYPE=image/png:https://getawaygirls.co.uk/wp-content/uploads/2025/07/8-13s-Summer-Scheme.png
END:VEVENT
END:VCALENDAR