BEGIN:VCALENDAR
VERSION:2.0
PRODID:-//Getaway Girls - ECPv6.15.20//NONSGML v1.0//EN
CALSCALE:GREGORIAN
METHOD:PUBLISH
X-ORIGINAL-URL:https://getawaygirls.co.uk
X-WR-CALDESC:Events for Getaway Girls
REFRESH-INTERVAL;VALUE=DURATION:PT1H
X-Robots-Tag:noindex
X-PUBLISHED-TTL:PT1H
BEGIN:VTIMEZONE
TZID:UTC
BEGIN:STANDARD
TZOFFSETFROM:+0000
TZOFFSETTO:+0000
TZNAME:UTC
DTSTART:20240101T000000
END:STANDARD
END:VTIMEZONE
BEGIN:VEVENT
DTSTART;TZID=UTC:20250106T123000
DTEND;TZID=UTC:20250106T130000
DTSTAMP:20260421T051116
CREATED:20241029T140341Z
LAST-MODIFIED:20250103T091415Z
UID:10000660-1736166600-1736168400@getawaygirls.co.uk
SUMMARY:Drop in lunch
DESCRIPTION:Drop in / Lunch for young women aged 16-25 yrs
URL:https://getawaygirls.co.uk/group/drop-in-lunch-14/2025-01-06/
LOCATION:Getaway Girls\, 19 Brooklands Avenue\, Leeds\, West Yorkshire\, LS14 6SG\, United Kingdom
ATTACH;FMTTYPE=image/jpeg:https://getawaygirls.co.uk/wp-content/uploads/2024/01/Drop-in-lunch.jpg
END:VEVENT
BEGIN:VEVENT
DTSTART;TZID=UTC:20250106T123000
DTEND;TZID=UTC:20250106T143000
DTSTAMP:20260421T051116
CREATED:20250103T091751Z
LAST-MODIFIED:20250311T154839Z
UID:10000737-1736166600-1736173800@getawaygirls.co.uk
SUMMARY:Proud to be Mum group
DESCRIPTION:Proud to be Mums group\, upto 25yrs\, with creché
URL:https://getawaygirls.co.uk/group/proud-to-be-mum-group-5/2025-01-06/
LOCATION:Getaway Girls\, 19 Brooklands Avenue\, Leeds\, West Yorkshire\, LS14 6SG\, United Kingdom
ATTACH;FMTTYPE=image/jpeg:https://getawaygirls.co.uk/wp-content/uploads/2024/01/Proud-to-be-Mum.jpg
END:VEVENT
BEGIN:VEVENT
DTSTART;TZID=UTC:20250106T153000
DTEND;TZID=UTC:20250106T173000
DTSTAMP:20260421T051116
CREATED:20240904T104211Z
LAST-MODIFIED:20250311T154913Z
UID:10000749-1736177400-1736184600@getawaygirls.co.uk
SUMMARY:Girls Squad 8-11yrs
DESCRIPTION:Girls Space for girls aged 8-11yrs
URL:https://getawaygirls.co.uk/group/girls-space-8-11yrs/2025-01-06/
LOCATION:Getaway Girls\, 19 Brooklands Avenue\, Leeds\, West Yorkshire\, LS14 6SG\, United Kingdom
ATTACH;FMTTYPE=image/jpeg:https://getawaygirls.co.uk/wp-content/uploads/2024/01/Girls-space.jpg
END:VEVENT
BEGIN:VEVENT
DTSTART;TZID=UTC:20250107T123000
DTEND;TZID=UTC:20250107T140000
DTSTAMP:20260421T051116
CREATED:20250618T144956Z
LAST-MODIFIED:20250618T145117Z
UID:10000948-1736253000-1736258400@getawaygirls.co.uk
SUMMARY:Yoga
DESCRIPTION:Yoga group\, refreshments and creché.
URL:https://getawaygirls.co.uk/group/yoga-4/2025-01-07/
LOCATION:Getaway Girls\, 19 Brooklands Avenue\, Leeds\, West Yorkshire\, LS14 6SG\, United Kingdom
ATTACH;FMTTYPE=image/jpeg:https://getawaygirls.co.uk/wp-content/uploads/2024/01/Yoga.jpg
END:VEVENT
BEGIN:VEVENT
DTSTART;TZID=UTC:20250107T153000
DTEND;TZID=UTC:20250107T173000
DTSTAMP:20260421T051116
CREATED:20250103T092332Z
LAST-MODIFIED:20250311T154949Z
UID:10000762-1736263800-1736271000@getawaygirls.co.uk
SUMMARY:Girls space 13-16yrs
DESCRIPTION:Girls Space for young women aged 13-16yrs
URL:https://getawaygirls.co.uk/group/girls-space-13-16yrs-2/2025-01-07/
LOCATION:Getaway Girls\, 19 Brooklands Avenue\, Leeds\, West Yorkshire\, LS14 6SG\, United Kingdom
ATTACH;FMTTYPE=image/jpeg:https://getawaygirls.co.uk/wp-content/uploads/2024/01/Girls-space.jpg
END:VEVENT
BEGIN:VEVENT
DTSTART;TZID=UTC:20250108T160000
DTEND;TZID=UTC:20250108T173000
DTSTAMP:20260421T051116
CREATED:20250103T093735Z
LAST-MODIFIED:20250311T155022Z
UID:10000639-1736352000-1736357400@getawaygirls.co.uk
SUMMARY:Young women’s space 13-16yrs
DESCRIPTION:Young womens group\, for ages 13-16 yrs
URL:https://getawaygirls.co.uk/group/young-womens-space-13-16yrs/2025-01-08/
LOCATION:Shine\, Harehills road\,\, Leeds\, West Yorkshire\, LS8 5HS\, United Kingdom
ATTACH;FMTTYPE=image/jpeg:https://getawaygirls.co.uk/wp-content/uploads/2024/01/Young-womens-space.jpg
END:VEVENT
BEGIN:VEVENT
DTSTART;TZID=UTC:20250109T160000
DTEND;TZID=UTC:20250109T173000
DTSTAMP:20260421T051116
CREATED:20250103T100016Z
LAST-MODIFIED:20250311T155056Z
UID:10000643-1736438400-1736443800@getawaygirls.co.uk
SUMMARY:Vocal Girls
DESCRIPTION:Campaigning Group for girls 15-18yrs
URL:https://getawaygirls.co.uk/group/vocal-girls-3/2025-01-09/
LOCATION:Getaway Girls\, 19 Brooklands Avenue\, Leeds\, West Yorkshire\, LS14 6SG\, United Kingdom
ATTACH;FMTTYPE=image/jpeg:https://getawaygirls.co.uk/wp-content/uploads/2024/10/Vocal-Girls-event-2.jpg
END:VEVENT
BEGIN:VEVENT
DTSTART;TZID=UTC:20250110T123000
DTEND;TZID=UTC:20250110T130000
DTSTAMP:20260421T051116
CREATED:20250103T100411Z
LAST-MODIFIED:20250103T100411Z
UID:10000682-1736512200-1736514000@getawaygirls.co.uk
SUMMARY:Drop in lunch
DESCRIPTION:Drop in / Lunch for young women aged 16-25 yrs
URL:https://getawaygirls.co.uk/group/drop-in-lunch-15/2025-01-10/
LOCATION:Getaway Girls\, 19 Brooklands Avenue\, Leeds\, West Yorkshire\, LS14 6SG\, United Kingdom
ATTACH;FMTTYPE=image/jpeg:https://getawaygirls.co.uk/wp-content/uploads/2024/01/Drop-in-lunch.jpg
END:VEVENT
BEGIN:VEVENT
DTSTART;TZID=UTC:20250110T130000
DTEND;TZID=UTC:20250110T143000
DTSTAMP:20260421T051116
CREATED:20250103T100548Z
LAST-MODIFIED:20250311T155429Z
UID:10000686-1736514000-1736519400@getawaygirls.co.uk
SUMMARY:Cooking together
DESCRIPTION:Cooking together for young women aged 16-25 yrs\, creché available
URL:https://getawaygirls.co.uk/group/cooking-together-8/2025-01-10/
LOCATION:Getaway Girls\, 19 Brooklands Avenue\, Leeds\, West Yorkshire\, LS14 6SG\, United Kingdom
ATTACH;FMTTYPE=image/jpeg:https://getawaygirls.co.uk/wp-content/uploads/2024/01/Cooking-together.jpg
END:VEVENT
BEGIN:VEVENT
DTSTART;TZID=UTC:20250110T160000
DTEND;TZID=UTC:20250110T173000
DTSTAMP:20260421T051116
CREATED:20250103T101128Z
LAST-MODIFIED:20250311T155457Z
UID:10000558-1736524800-1736530200@getawaygirls.co.uk
SUMMARY:Girls space 11-13yrs
DESCRIPTION:Girls Space for young women aged 11-13yrs
URL:https://getawaygirls.co.uk/group/girls-space-11-13yrs/2025-01-10/
LOCATION:Getaway Girls\, 19 Brooklands Avenue\, Leeds\, West Yorkshire\, LS14 6SG\, United Kingdom
ATTACH;FMTTYPE=image/jpeg:https://getawaygirls.co.uk/wp-content/uploads/2024/01/Girls-space.jpg
END:VEVENT
BEGIN:VEVENT
DTSTART;TZID=UTC:20250110T160000
DTEND;TZID=UTC:20250110T173000
DTSTAMP:20260421T051116
CREATED:20250103T114212Z
LAST-MODIFIED:20250311T155531Z
UID:10000793-1736524800-1736530200@getawaygirls.co.uk
SUMMARY:Music Group 16-21
DESCRIPTION:Music Group for your women aged 16-21yrs
URL:https://getawaygirls.co.uk/group/music-group-16-21/2025-01-10/
LOCATION:Getaway Girls\, 19 Brooklands Avenue\, Leeds\, West Yorkshire\, LS14 6SG\, United Kingdom
ATTACH;FMTTYPE=image/jpeg:https://getawaygirls.co.uk/wp-content/uploads/2025/01/Music-Group.jpg
END:VEVENT
BEGIN:VEVENT
DTSTART;TZID=UTC:20250113T123000
DTEND;TZID=UTC:20250113T130000
DTSTAMP:20260421T051116
CREATED:20241029T140341Z
LAST-MODIFIED:20250103T091415Z
UID:10000661-1736771400-1736773200@getawaygirls.co.uk
SUMMARY:Drop in lunch
DESCRIPTION:Drop in / Lunch for young women aged 16-25 yrs
URL:https://getawaygirls.co.uk/group/drop-in-lunch-14/2025-01-13/
LOCATION:Getaway Girls\, 19 Brooklands Avenue\, Leeds\, West Yorkshire\, LS14 6SG\, United Kingdom
ATTACH;FMTTYPE=image/jpeg:https://getawaygirls.co.uk/wp-content/uploads/2024/01/Drop-in-lunch.jpg
END:VEVENT
BEGIN:VEVENT
DTSTART;TZID=UTC:20250113T123000
DTEND;TZID=UTC:20250113T143000
DTSTAMP:20260421T051116
CREATED:20250103T091751Z
LAST-MODIFIED:20250311T154839Z
UID:10000738-1736771400-1736778600@getawaygirls.co.uk
SUMMARY:Proud to be Mum group
DESCRIPTION:Proud to be Mums group\, upto 25yrs\, with creché
URL:https://getawaygirls.co.uk/group/proud-to-be-mum-group-5/2025-01-13/
LOCATION:Getaway Girls\, 19 Brooklands Avenue\, Leeds\, West Yorkshire\, LS14 6SG\, United Kingdom
ATTACH;FMTTYPE=image/jpeg:https://getawaygirls.co.uk/wp-content/uploads/2024/01/Proud-to-be-Mum.jpg
END:VEVENT
BEGIN:VEVENT
DTSTART;TZID=UTC:20250113T153000
DTEND;TZID=UTC:20250113T173000
DTSTAMP:20260421T051116
CREATED:20240904T104211Z
LAST-MODIFIED:20250311T154913Z
UID:10000750-1736782200-1736789400@getawaygirls.co.uk
SUMMARY:Girls Squad 8-11yrs
DESCRIPTION:Girls Space for girls aged 8-11yrs
URL:https://getawaygirls.co.uk/group/girls-space-8-11yrs/2025-01-13/
LOCATION:Getaway Girls\, 19 Brooklands Avenue\, Leeds\, West Yorkshire\, LS14 6SG\, United Kingdom
ATTACH;FMTTYPE=image/jpeg:https://getawaygirls.co.uk/wp-content/uploads/2024/01/Girls-space.jpg
END:VEVENT
BEGIN:VEVENT
DTSTART;TZID=UTC:20250114T123000
DTEND;TZID=UTC:20250114T140000
DTSTAMP:20260421T051116
CREATED:20250618T144956Z
LAST-MODIFIED:20250618T145117Z
UID:10000949-1736857800-1736863200@getawaygirls.co.uk
SUMMARY:Yoga
DESCRIPTION:Yoga group\, refreshments and creché.
URL:https://getawaygirls.co.uk/group/yoga-4/2025-01-14/
LOCATION:Getaway Girls\, 19 Brooklands Avenue\, Leeds\, West Yorkshire\, LS14 6SG\, United Kingdom
ATTACH;FMTTYPE=image/jpeg:https://getawaygirls.co.uk/wp-content/uploads/2024/01/Yoga.jpg
END:VEVENT
BEGIN:VEVENT
DTSTART;TZID=UTC:20250114T153000
DTEND;TZID=UTC:20250114T173000
DTSTAMP:20260421T051116
CREATED:20250103T092332Z
LAST-MODIFIED:20250311T154949Z
UID:10000763-1736868600-1736875800@getawaygirls.co.uk
SUMMARY:Girls space 13-16yrs
DESCRIPTION:Girls Space for young women aged 13-16yrs
URL:https://getawaygirls.co.uk/group/girls-space-13-16yrs-2/2025-01-14/
LOCATION:Getaway Girls\, 19 Brooklands Avenue\, Leeds\, West Yorkshire\, LS14 6SG\, United Kingdom
ATTACH;FMTTYPE=image/jpeg:https://getawaygirls.co.uk/wp-content/uploads/2024/01/Girls-space.jpg
END:VEVENT
BEGIN:VEVENT
DTSTART;TZID=UTC:20250115T160000
DTEND;TZID=UTC:20250115T173000
DTSTAMP:20260421T051116
CREATED:20250103T093735Z
LAST-MODIFIED:20250311T155022Z
UID:10000676-1736956800-1736962200@getawaygirls.co.uk
SUMMARY:Young women’s space 13-16yrs
DESCRIPTION:Young womens group\, for ages 13-16 yrs
URL:https://getawaygirls.co.uk/group/young-womens-space-13-16yrs/2025-01-15/
LOCATION:Shine\, Harehills road\,\, Leeds\, West Yorkshire\, LS8 5HS\, United Kingdom
ATTACH;FMTTYPE=image/jpeg:https://getawaygirls.co.uk/wp-content/uploads/2024/01/Young-womens-space.jpg
END:VEVENT
BEGIN:VEVENT
DTSTART;TZID=UTC:20250116T160000
DTEND;TZID=UTC:20250116T173000
DTSTAMP:20260421T051116
CREATED:20250103T100016Z
LAST-MODIFIED:20250311T155056Z
UID:10000679-1737043200-1737048600@getawaygirls.co.uk
SUMMARY:Vocal Girls
DESCRIPTION:Campaigning Group for girls 15-18yrs
URL:https://getawaygirls.co.uk/group/vocal-girls-3/2025-01-16/
LOCATION:Getaway Girls\, 19 Brooklands Avenue\, Leeds\, West Yorkshire\, LS14 6SG\, United Kingdom
ATTACH;FMTTYPE=image/jpeg:https://getawaygirls.co.uk/wp-content/uploads/2024/10/Vocal-Girls-event-2.jpg
END:VEVENT
BEGIN:VEVENT
DTSTART;TZID=UTC:20250117T123000
DTEND;TZID=UTC:20250117T130000
DTSTAMP:20260421T051116
CREATED:20250103T100411Z
LAST-MODIFIED:20250103T100411Z
UID:10000683-1737117000-1737118800@getawaygirls.co.uk
SUMMARY:Drop in lunch
DESCRIPTION:Drop in / Lunch for young women aged 16-25 yrs
URL:https://getawaygirls.co.uk/group/drop-in-lunch-15/2025-01-17/
LOCATION:Getaway Girls\, 19 Brooklands Avenue\, Leeds\, West Yorkshire\, LS14 6SG\, United Kingdom
ATTACH;FMTTYPE=image/jpeg:https://getawaygirls.co.uk/wp-content/uploads/2024/01/Drop-in-lunch.jpg
END:VEVENT
BEGIN:VEVENT
DTSTART;TZID=UTC:20250117T130000
DTEND;TZID=UTC:20250117T143000
DTSTAMP:20260421T051116
CREATED:20250103T100548Z
LAST-MODIFIED:20250311T155429Z
UID:10000687-1737118800-1737124200@getawaygirls.co.uk
SUMMARY:Cooking together
DESCRIPTION:Cooking together for young women aged 16-25 yrs\, creché available
URL:https://getawaygirls.co.uk/group/cooking-together-8/2025-01-17/
LOCATION:Getaway Girls\, 19 Brooklands Avenue\, Leeds\, West Yorkshire\, LS14 6SG\, United Kingdom
ATTACH;FMTTYPE=image/jpeg:https://getawaygirls.co.uk/wp-content/uploads/2024/01/Cooking-together.jpg
END:VEVENT
BEGIN:VEVENT
DTSTART;TZID=UTC:20250117T160000
DTEND;TZID=UTC:20250117T173000
DTSTAMP:20260421T051116
CREATED:20250103T101128Z
LAST-MODIFIED:20250311T155457Z
UID:10000690-1737129600-1737135000@getawaygirls.co.uk
SUMMARY:Girls space 11-13yrs
DESCRIPTION:Girls Space for young women aged 11-13yrs
URL:https://getawaygirls.co.uk/group/girls-space-11-13yrs/2025-01-17/
LOCATION:Getaway Girls\, 19 Brooklands Avenue\, Leeds\, West Yorkshire\, LS14 6SG\, United Kingdom
ATTACH;FMTTYPE=image/jpeg:https://getawaygirls.co.uk/wp-content/uploads/2024/01/Girls-space.jpg
END:VEVENT
BEGIN:VEVENT
DTSTART;TZID=UTC:20250117T160000
DTEND;TZID=UTC:20250117T173000
DTSTAMP:20260421T051116
CREATED:20250103T114212Z
LAST-MODIFIED:20250311T155531Z
UID:10000794-1737129600-1737135000@getawaygirls.co.uk
SUMMARY:Music Group 16-21
DESCRIPTION:Music Group for your women aged 16-21yrs
URL:https://getawaygirls.co.uk/group/music-group-16-21/2025-01-17/
LOCATION:Getaway Girls\, 19 Brooklands Avenue\, Leeds\, West Yorkshire\, LS14 6SG\, United Kingdom
ATTACH;FMTTYPE=image/jpeg:https://getawaygirls.co.uk/wp-content/uploads/2025/01/Music-Group.jpg
END:VEVENT
BEGIN:VEVENT
DTSTART;TZID=UTC:20250120T123000
DTEND;TZID=UTC:20250120T130000
DTSTAMP:20260421T051116
CREATED:20241029T140341Z
LAST-MODIFIED:20250103T091415Z
UID:10000662-1737376200-1737378000@getawaygirls.co.uk
SUMMARY:Drop in lunch
DESCRIPTION:Drop in / Lunch for young women aged 16-25 yrs
URL:https://getawaygirls.co.uk/group/drop-in-lunch-14/2025-01-20/
LOCATION:Getaway Girls\, 19 Brooklands Avenue\, Leeds\, West Yorkshire\, LS14 6SG\, United Kingdom
ATTACH;FMTTYPE=image/jpeg:https://getawaygirls.co.uk/wp-content/uploads/2024/01/Drop-in-lunch.jpg
END:VEVENT
BEGIN:VEVENT
DTSTART;TZID=UTC:20250120T123000
DTEND;TZID=UTC:20250120T143000
DTSTAMP:20260421T051116
CREATED:20250103T091751Z
LAST-MODIFIED:20250311T154839Z
UID:10000739-1737376200-1737383400@getawaygirls.co.uk
SUMMARY:Proud to be Mum group
DESCRIPTION:Proud to be Mums group\, upto 25yrs\, with creché
URL:https://getawaygirls.co.uk/group/proud-to-be-mum-group-5/2025-01-20/
LOCATION:Getaway Girls\, 19 Brooklands Avenue\, Leeds\, West Yorkshire\, LS14 6SG\, United Kingdom
ATTACH;FMTTYPE=image/jpeg:https://getawaygirls.co.uk/wp-content/uploads/2024/01/Proud-to-be-Mum.jpg
END:VEVENT
BEGIN:VEVENT
DTSTART;TZID=UTC:20250120T153000
DTEND;TZID=UTC:20250120T173000
DTSTAMP:20260421T051116
CREATED:20240904T104211Z
LAST-MODIFIED:20250311T154913Z
UID:10000751-1737387000-1737394200@getawaygirls.co.uk
SUMMARY:Girls Squad 8-11yrs
DESCRIPTION:Girls Space for girls aged 8-11yrs
URL:https://getawaygirls.co.uk/group/girls-space-8-11yrs/2025-01-20/
LOCATION:Getaway Girls\, 19 Brooklands Avenue\, Leeds\, West Yorkshire\, LS14 6SG\, United Kingdom
ATTACH;FMTTYPE=image/jpeg:https://getawaygirls.co.uk/wp-content/uploads/2024/01/Girls-space.jpg
END:VEVENT
BEGIN:VEVENT
DTSTART;TZID=UTC:20250121T123000
DTEND;TZID=UTC:20250121T140000
DTSTAMP:20260421T051116
CREATED:20250618T144956Z
LAST-MODIFIED:20250618T145117Z
UID:10000950-1737462600-1737468000@getawaygirls.co.uk
SUMMARY:Yoga
DESCRIPTION:Yoga group\, refreshments and creché.
URL:https://getawaygirls.co.uk/group/yoga-4/2025-01-21/
LOCATION:Getaway Girls\, 19 Brooklands Avenue\, Leeds\, West Yorkshire\, LS14 6SG\, United Kingdom
ATTACH;FMTTYPE=image/jpeg:https://getawaygirls.co.uk/wp-content/uploads/2024/01/Yoga.jpg
END:VEVENT
BEGIN:VEVENT
DTSTART;TZID=UTC:20250121T153000
DTEND;TZID=UTC:20250121T173000
DTSTAMP:20260421T051116
CREATED:20250103T092332Z
LAST-MODIFIED:20250311T154949Z
UID:10000764-1737473400-1737480600@getawaygirls.co.uk
SUMMARY:Girls space 13-16yrs
DESCRIPTION:Girls Space for young women aged 13-16yrs
URL:https://getawaygirls.co.uk/group/girls-space-13-16yrs-2/2025-01-21/
LOCATION:Getaway Girls\, 19 Brooklands Avenue\, Leeds\, West Yorkshire\, LS14 6SG\, United Kingdom
ATTACH;FMTTYPE=image/jpeg:https://getawaygirls.co.uk/wp-content/uploads/2024/01/Girls-space.jpg
END:VEVENT
BEGIN:VEVENT
DTSTART;TZID=UTC:20250122T160000
DTEND;TZID=UTC:20250122T173000
DTSTAMP:20260421T051116
CREATED:20250103T093735Z
LAST-MODIFIED:20250311T155022Z
UID:10000677-1737561600-1737567000@getawaygirls.co.uk
SUMMARY:Young women’s space 13-16yrs
DESCRIPTION:Young womens group\, for ages 13-16 yrs
URL:https://getawaygirls.co.uk/group/young-womens-space-13-16yrs/2025-01-22/
LOCATION:Shine\, Harehills road\,\, Leeds\, West Yorkshire\, LS8 5HS\, United Kingdom
ATTACH;FMTTYPE=image/jpeg:https://getawaygirls.co.uk/wp-content/uploads/2024/01/Young-womens-space.jpg
END:VEVENT
BEGIN:VEVENT
DTSTART;TZID=UTC:20250123T160000
DTEND;TZID=UTC:20250123T173000
DTSTAMP:20260421T051116
CREATED:20250103T100016Z
LAST-MODIFIED:20250311T155056Z
UID:10000680-1737648000-1737653400@getawaygirls.co.uk
SUMMARY:Vocal Girls
DESCRIPTION:Campaigning Group for girls 15-18yrs
URL:https://getawaygirls.co.uk/group/vocal-girls-3/2025-01-23/
LOCATION:Getaway Girls\, 19 Brooklands Avenue\, Leeds\, West Yorkshire\, LS14 6SG\, United Kingdom
ATTACH;FMTTYPE=image/jpeg:https://getawaygirls.co.uk/wp-content/uploads/2024/10/Vocal-Girls-event-2.jpg
END:VEVENT
BEGIN:VEVENT
DTSTART;TZID=UTC:20250124T123000
DTEND;TZID=UTC:20250124T130000
DTSTAMP:20260421T051116
CREATED:20250103T100411Z
LAST-MODIFIED:20250103T100411Z
UID:10000684-1737721800-1737723600@getawaygirls.co.uk
SUMMARY:Drop in lunch
DESCRIPTION:Drop in / Lunch for young women aged 16-25 yrs
URL:https://getawaygirls.co.uk/group/drop-in-lunch-15/2025-01-24/
LOCATION:Getaway Girls\, 19 Brooklands Avenue\, Leeds\, West Yorkshire\, LS14 6SG\, United Kingdom
ATTACH;FMTTYPE=image/jpeg:https://getawaygirls.co.uk/wp-content/uploads/2024/01/Drop-in-lunch.jpg
END:VEVENT
END:VCALENDAR