BEGIN:VCALENDAR
VERSION:2.0
PRODID:-//Getaway Girls - ECPv6.15.20//NONSGML v1.0//EN
CALSCALE:GREGORIAN
METHOD:PUBLISH
X-WR-CALNAME:Getaway Girls
X-ORIGINAL-URL:https://getawaygirls.co.uk
X-WR-CALDESC:Events for Getaway Girls
REFRESH-INTERVAL;VALUE=DURATION:PT1H
X-Robots-Tag:noindex
X-PUBLISHED-TTL:PT1H
BEGIN:VTIMEZONE
TZID:UTC
BEGIN:STANDARD
TZOFFSETFROM:+0000
TZOFFSETTO:+0000
TZNAME:UTC
DTSTART:20230101T000000
END:STANDARD
END:VTIMEZONE
BEGIN:VEVENT
DTSTART;TZID=UTC:20240701T120000
DTEND;TZID=UTC:20240701T130000
DTSTAMP:20260421T140354
CREATED:20240502T163900Z
LAST-MODIFIED:20240503T081417Z
UID:10000364-1719835200-1719838800@getawaygirls.co.uk
SUMMARY:Drop in lunch
DESCRIPTION:Drop in / Lunch for young women aged 16-25 yrs
URL:https://getawaygirls.co.uk/group/drop-in-lunch-6/2024-07-01/
LOCATION:Getaway Girls\, 19 Brooklands Avenue\, Leeds\, West Yorkshire\, LS14 6SG\, United Kingdom
ATTACH;FMTTYPE=image/jpeg:https://getawaygirls.co.uk/wp-content/uploads/2024/01/Drop-in-lunch.jpg
END:VEVENT
BEGIN:VEVENT
DTSTART;TZID=UTC:20240701T130000
DTEND;TZID=UTC:20240701T143000
DTSTAMP:20260421T140354
CREATED:20240502T164222Z
LAST-MODIFIED:20240721T081553Z
UID:10000496-1719838800-1719844200@getawaygirls.co.uk
SUMMARY:Proud to be Mum group
DESCRIPTION:Proud to be Mums group\, upto 25yrs\, with creché
URL:https://getawaygirls.co.uk/group/proud-to-be-mum-group-2/2024-07-01/
LOCATION:Getaway Girls\, 19 Brooklands Avenue\, Leeds\, West Yorkshire\, LS14 6SG\, United Kingdom
ATTACH;FMTTYPE=image/jpeg:https://getawaygirls.co.uk/wp-content/uploads/2024/01/Proud-to-be-Mum.jpg
END:VEVENT
BEGIN:VEVENT
DTSTART;TZID=UTC:20240702T130000
DTEND;TZID=UTC:20240702T143000
DTSTAMP:20260421T140354
CREATED:20240502T164416Z
LAST-MODIFIED:20240502T164444Z
UID:10000384-1719925200-1719930600@getawaygirls.co.uk
SUMMARY:Yoga
DESCRIPTION:Yoga group\, refreshments and creché.
URL:https://getawaygirls.co.uk/group/yoga-3/2024-07-02/
LOCATION:Getaway Girls\, 19 Brooklands Avenue\, Leeds\, West Yorkshire\, LS14 6SG\, United Kingdom
ATTACH;FMTTYPE=image/jpeg:https://getawaygirls.co.uk/wp-content/uploads/2024/01/Yoga.jpg
END:VEVENT
BEGIN:VEVENT
DTSTART;TZID=UTC:20240703T120000
DTEND;TZID=UTC:20240703T130000
DTSTAMP:20260421T140354
CREATED:20240503T081521Z
LAST-MODIFIED:20240503T081601Z
UID:10000404-1720008000-1720011600@getawaygirls.co.uk
SUMMARY:Drop in lunch
DESCRIPTION:Drop in / Lunch for young women aged 16-25 yrs
URL:https://getawaygirls.co.uk/group/drop-in-lunch-7/2024-07-03/
LOCATION:Getaway Girls\, 19 Brooklands Avenue\, Leeds\, West Yorkshire\, LS14 6SG\, United Kingdom
ATTACH;FMTTYPE=image/jpeg:https://getawaygirls.co.uk/wp-content/uploads/2024/01/Drop-in-lunch.jpg
END:VEVENT
BEGIN:VEVENT
DTSTART;TZID=UTC:20240703T130000
DTEND;TZID=UTC:20240703T143000
DTSTAMP:20260421T140354
CREATED:20240503T081837Z
LAST-MODIFIED:20240503T081915Z
UID:10000415-1720011600-1720017000@getawaygirls.co.uk
SUMMARY:She Writes
DESCRIPTION:Creative writing group for young women aged 16-25 yrs\, with creché
URL:https://getawaygirls.co.uk/group/she-writes-3/2024-07-03/
LOCATION:Getaway Girls\, 19 Brooklands Avenue\, Leeds\, West Yorkshire\, LS14 6SG\, United Kingdom
ATTACH;FMTTYPE=image/jpeg:https://getawaygirls.co.uk/wp-content/uploads/2024/01/She-writes.jpg
END:VEVENT
BEGIN:VEVENT
DTSTART;TZID=UTC:20240705T123000
DTEND;TZID=UTC:20240705T130000
DTSTAMP:20260421T140354
CREATED:20240719T092140Z
LAST-MODIFIED:20240719T113622Z
UID:10000473-1720182600-1720184400@getawaygirls.co.uk
SUMMARY:Drop in lunch
DESCRIPTION:Drop in / Lunch for young women aged 16-25 yrs
URL:https://getawaygirls.co.uk/group/drop-in-lunch-8/2024-07-05/
LOCATION:Getaway Girls\, 19 Brooklands Avenue\, Leeds\, West Yorkshire\, LS14 6SG\, United Kingdom
ATTACH;FMTTYPE=image/jpeg:https://getawaygirls.co.uk/wp-content/uploads/2024/01/Drop-in-lunch.jpg
END:VEVENT
BEGIN:VEVENT
DTSTART;TZID=UTC:20240705T130000
DTEND;TZID=UTC:20240705T143000
DTSTAMP:20260421T140354
CREATED:20240503T082824Z
LAST-MODIFIED:20240503T082917Z
UID:10000436-1720184400-1720189800@getawaygirls.co.uk
SUMMARY:Cooking together
DESCRIPTION:Cooking together for young women aged 16-25 yrs\, creché available
URL:https://getawaygirls.co.uk/group/cooking-together-3/2024-07-05/
LOCATION:Getaway Girls\, 19 Brooklands Avenue\, Leeds\, West Yorkshire\, LS14 6SG\, United Kingdom
ATTACH;FMTTYPE=image/jpeg:https://getawaygirls.co.uk/wp-content/uploads/2024/01/Cooking-together.jpg
END:VEVENT
BEGIN:VEVENT
DTSTART;TZID=UTC:20240705T160000
DTEND;TZID=UTC:20240705T173000
DTSTAMP:20260421T140354
CREATED:20240503T083055Z
LAST-MODIFIED:20240503T083112Z
UID:10000446-1720195200-1720200600@getawaygirls.co.uk
SUMMARY:Girls space
DESCRIPTION:Girls Space for girls aged 8-11yrs
URL:https://getawaygirls.co.uk/group/girls-space-5/2024-07-05/
LOCATION:Getaway Girls\, 19 Brooklands Avenue\, Leeds\, West Yorkshire\, LS14 6SG\, United Kingdom
ATTACH;FMTTYPE=image/jpeg:https://getawaygirls.co.uk/wp-content/uploads/2024/01/Girls-space.jpg
END:VEVENT
BEGIN:VEVENT
DTSTART;TZID=UTC:20240708T120000
DTEND;TZID=UTC:20240708T130000
DTSTAMP:20260421T140354
CREATED:20240502T163900Z
LAST-MODIFIED:20240503T081417Z
UID:10000365-1720440000-1720443600@getawaygirls.co.uk
SUMMARY:Drop in lunch
DESCRIPTION:Drop in / Lunch for young women aged 16-25 yrs
URL:https://getawaygirls.co.uk/group/drop-in-lunch-6/2024-07-08/
LOCATION:Getaway Girls\, 19 Brooklands Avenue\, Leeds\, West Yorkshire\, LS14 6SG\, United Kingdom
ATTACH;FMTTYPE=image/jpeg:https://getawaygirls.co.uk/wp-content/uploads/2024/01/Drop-in-lunch.jpg
END:VEVENT
BEGIN:VEVENT
DTSTART;TZID=UTC:20240708T130000
DTEND;TZID=UTC:20240708T143000
DTSTAMP:20260421T140354
CREATED:20240502T164222Z
LAST-MODIFIED:20240721T081553Z
UID:10000497-1720443600-1720449000@getawaygirls.co.uk
SUMMARY:Proud to be Mum group
DESCRIPTION:Proud to be Mums group\, upto 25yrs\, with creché
URL:https://getawaygirls.co.uk/group/proud-to-be-mum-group-2/2024-07-08/
LOCATION:Getaway Girls\, 19 Brooklands Avenue\, Leeds\, West Yorkshire\, LS14 6SG\, United Kingdom
ATTACH;FMTTYPE=image/jpeg:https://getawaygirls.co.uk/wp-content/uploads/2024/01/Proud-to-be-Mum.jpg
END:VEVENT
BEGIN:VEVENT
DTSTART;TZID=UTC:20240709T130000
DTEND;TZID=UTC:20240709T143000
DTSTAMP:20260421T140354
CREATED:20240502T164416Z
LAST-MODIFIED:20240502T164444Z
UID:10000385-1720530000-1720535400@getawaygirls.co.uk
SUMMARY:Yoga
DESCRIPTION:Yoga group\, refreshments and creché.
URL:https://getawaygirls.co.uk/group/yoga-3/2024-07-09/
LOCATION:Getaway Girls\, 19 Brooklands Avenue\, Leeds\, West Yorkshire\, LS14 6SG\, United Kingdom
ATTACH;FMTTYPE=image/jpeg:https://getawaygirls.co.uk/wp-content/uploads/2024/01/Yoga.jpg
END:VEVENT
BEGIN:VEVENT
DTSTART;TZID=UTC:20240710T120000
DTEND;TZID=UTC:20240710T130000
DTSTAMP:20260421T140354
CREATED:20240503T081521Z
LAST-MODIFIED:20240503T081601Z
UID:10000405-1720612800-1720616400@getawaygirls.co.uk
SUMMARY:Drop in lunch
DESCRIPTION:Drop in / Lunch for young women aged 16-25 yrs
URL:https://getawaygirls.co.uk/group/drop-in-lunch-7/2024-07-10/
LOCATION:Getaway Girls\, 19 Brooklands Avenue\, Leeds\, West Yorkshire\, LS14 6SG\, United Kingdom
ATTACH;FMTTYPE=image/jpeg:https://getawaygirls.co.uk/wp-content/uploads/2024/01/Drop-in-lunch.jpg
END:VEVENT
BEGIN:VEVENT
DTSTART;TZID=UTC:20240710T130000
DTEND;TZID=UTC:20240710T143000
DTSTAMP:20260421T140354
CREATED:20240721T081958Z
LAST-MODIFIED:20240721T082029Z
UID:10000416-1720616400-1720621800@getawaygirls.co.uk
SUMMARY:She Writes
DESCRIPTION:Creative writing group for young women aged 16-25 yrs\, with creché
URL:https://getawaygirls.co.uk/group/she-writes-4/2024-07-10/
LOCATION:Getaway Girls\, 19 Brooklands Avenue\, Leeds\, West Yorkshire\, LS14 6SG\, United Kingdom
ATTACH;FMTTYPE=image/jpeg:https://getawaygirls.co.uk/wp-content/uploads/2024/01/She-writes.jpg
END:VEVENT
BEGIN:VEVENT
DTSTART;TZID=UTC:20240712T123000
DTEND;TZID=UTC:20240712T130000
DTSTAMP:20260421T140354
CREATED:20240719T092140Z
LAST-MODIFIED:20240719T113622Z
UID:10000474-1720787400-1720789200@getawaygirls.co.uk
SUMMARY:Drop in lunch
DESCRIPTION:Drop in / Lunch for young women aged 16-25 yrs
URL:https://getawaygirls.co.uk/group/drop-in-lunch-8/2024-07-12/
LOCATION:Getaway Girls\, 19 Brooklands Avenue\, Leeds\, West Yorkshire\, LS14 6SG\, United Kingdom
ATTACH;FMTTYPE=image/jpeg:https://getawaygirls.co.uk/wp-content/uploads/2024/01/Drop-in-lunch.jpg
END:VEVENT
BEGIN:VEVENT
DTSTART;TZID=UTC:20240712T130000
DTEND;TZID=UTC:20240712T143000
DTSTAMP:20260421T140354
CREATED:20240719T144929Z
LAST-MODIFIED:20240719T145107Z
UID:10000437-1720789200-1720794600@getawaygirls.co.uk
SUMMARY:Cooking together
DESCRIPTION:Cooking together for young women aged 16-25 yrs\, creché available
URL:https://getawaygirls.co.uk/group/cooking-together-4/2024-07-12/
LOCATION:Getaway Girls\, 19 Brooklands Avenue\, Leeds\, West Yorkshire\, LS14 6SG\, United Kingdom
ATTACH;FMTTYPE=image/jpeg:https://getawaygirls.co.uk/wp-content/uploads/2024/01/Cooking-together.jpg
END:VEVENT
BEGIN:VEVENT
DTSTART;TZID=UTC:20240712T160000
DTEND;TZID=UTC:20240712T173000
DTSTAMP:20260421T140354
CREATED:20240503T083055Z
LAST-MODIFIED:20240503T083112Z
UID:10000447-1720800000-1720805400@getawaygirls.co.uk
SUMMARY:Girls space
DESCRIPTION:Girls Space for girls aged 8-11yrs
URL:https://getawaygirls.co.uk/group/girls-space-5/2024-07-12/
LOCATION:Getaway Girls\, 19 Brooklands Avenue\, Leeds\, West Yorkshire\, LS14 6SG\, United Kingdom
ATTACH;FMTTYPE=image/jpeg:https://getawaygirls.co.uk/wp-content/uploads/2024/01/Girls-space.jpg
END:VEVENT
BEGIN:VEVENT
DTSTART;TZID=UTC:20240715T120000
DTEND;TZID=UTC:20240715T130000
DTSTAMP:20260421T140354
CREATED:20240721T081121Z
LAST-MODIFIED:20240721T081333Z
UID:10000366-1721044800-1721048400@getawaygirls.co.uk
SUMMARY:Drop in lunch
DESCRIPTION:Drop in / Lunch for young women aged 16-25 yrs
URL:https://getawaygirls.co.uk/group/drop-in-lunch-11/2024-07-15/
LOCATION:Getaway Girls\, 19 Brooklands Avenue\, Leeds\, West Yorkshire\, LS14 6SG\, United Kingdom
ATTACH;FMTTYPE=image/jpeg:https://getawaygirls.co.uk/wp-content/uploads/2024/01/Drop-in-lunch.jpg
END:VEVENT
BEGIN:VEVENT
DTSTART;TZID=UTC:20240715T130000
DTEND;TZID=UTC:20240715T143000
DTSTAMP:20260421T140354
CREATED:20240502T164222Z
LAST-MODIFIED:20240721T081553Z
UID:10000498-1721048400-1721053800@getawaygirls.co.uk
SUMMARY:Proud to be Mum group
DESCRIPTION:Proud to be Mums group\, upto 25yrs\, with creché
URL:https://getawaygirls.co.uk/group/proud-to-be-mum-group-2/2024-07-15/
LOCATION:Getaway Girls\, 19 Brooklands Avenue\, Leeds\, West Yorkshire\, LS14 6SG\, United Kingdom
ATTACH;FMTTYPE=image/jpeg:https://getawaygirls.co.uk/wp-content/uploads/2024/01/Proud-to-be-Mum.jpg
END:VEVENT
BEGIN:VEVENT
DTSTART;TZID=UTC:20240716T123000
DTEND;TZID=UTC:20240716T140000
DTSTAMP:20260421T140354
CREATED:20250618T144956Z
LAST-MODIFIED:20250618T145117Z
UID:10000923-1721133000-1721138400@getawaygirls.co.uk
SUMMARY:Yoga
DESCRIPTION:Yoga group\, refreshments and creché.
URL:https://getawaygirls.co.uk/group/yoga-4/2024-07-16/
LOCATION:Getaway Girls\, 19 Brooklands Avenue\, Leeds\, West Yorkshire\, LS14 6SG\, United Kingdom
ATTACH;FMTTYPE=image/jpeg:https://getawaygirls.co.uk/wp-content/uploads/2024/01/Yoga.jpg
END:VEVENT
BEGIN:VEVENT
DTSTART;TZID=UTC:20240717T120000
DTEND;TZID=UTC:20240717T130000
DTSTAMP:20260421T140354
CREATED:20240721T081808Z
LAST-MODIFIED:20240721T081839Z
UID:10000406-1721217600-1721221200@getawaygirls.co.uk
SUMMARY:Drop in lunch
DESCRIPTION:Drop in / Lunch for young women aged 16-25 yrs
URL:https://getawaygirls.co.uk/group/drop-in-lunch-12/2024-07-17/
LOCATION:Getaway Girls\, 19 Brooklands Avenue\, Leeds\, West Yorkshire\, LS14 6SG\, United Kingdom
ATTACH;FMTTYPE=image/jpeg:https://getawaygirls.co.uk/wp-content/uploads/2024/01/Drop-in-lunch.jpg
END:VEVENT
BEGIN:VEVENT
DTSTART;TZID=UTC:20240717T130000
DTEND;TZID=UTC:20240717T143000
DTSTAMP:20260421T140354
CREATED:20240721T081958Z
LAST-MODIFIED:20240721T082029Z
UID:10000514-1721221200-1721226600@getawaygirls.co.uk
SUMMARY:She Writes
DESCRIPTION:Creative writing group for young women aged 16-25 yrs\, with creché
URL:https://getawaygirls.co.uk/group/she-writes-4/2024-07-17/
LOCATION:Getaway Girls\, 19 Brooklands Avenue\, Leeds\, West Yorkshire\, LS14 6SG\, United Kingdom
ATTACH;FMTTYPE=image/jpeg:https://getawaygirls.co.uk/wp-content/uploads/2024/01/She-writes.jpg
END:VEVENT
BEGIN:VEVENT
DTSTART;TZID=UTC:20240719T123000
DTEND;TZID=UTC:20240719T130000
DTSTAMP:20260421T140354
CREATED:20240719T092140Z
LAST-MODIFIED:20240719T113622Z
UID:10000475-1721392200-1721394000@getawaygirls.co.uk
SUMMARY:Drop in lunch
DESCRIPTION:Drop in / Lunch for young women aged 16-25 yrs
URL:https://getawaygirls.co.uk/group/drop-in-lunch-8/2024-07-19/
LOCATION:Getaway Girls\, 19 Brooklands Avenue\, Leeds\, West Yorkshire\, LS14 6SG\, United Kingdom
ATTACH;FMTTYPE=image/jpeg:https://getawaygirls.co.uk/wp-content/uploads/2024/01/Drop-in-lunch.jpg
END:VEVENT
BEGIN:VEVENT
DTSTART;TZID=UTC:20240719T130000
DTEND;TZID=UTC:20240719T143000
DTSTAMP:20260421T140354
CREATED:20240719T144929Z
LAST-MODIFIED:20240719T145107Z
UID:10000481-1721394000-1721399400@getawaygirls.co.uk
SUMMARY:Cooking together
DESCRIPTION:Cooking together for young women aged 16-25 yrs\, creché available
URL:https://getawaygirls.co.uk/group/cooking-together-4/2024-07-19/
LOCATION:Getaway Girls\, 19 Brooklands Avenue\, Leeds\, West Yorkshire\, LS14 6SG\, United Kingdom
ATTACH;FMTTYPE=image/jpeg:https://getawaygirls.co.uk/wp-content/uploads/2024/01/Cooking-together.jpg
END:VEVENT
BEGIN:VEVENT
DTSTART;TZID=UTC:20240722T120000
DTEND;TZID=UTC:20240722T130000
DTSTAMP:20260421T140354
CREATED:20240721T081121Z
LAST-MODIFIED:20240721T081333Z
UID:10000488-1721649600-1721653200@getawaygirls.co.uk
SUMMARY:Drop in lunch
DESCRIPTION:Drop in / Lunch for young women aged 16-25 yrs
URL:https://getawaygirls.co.uk/group/drop-in-lunch-11/2024-07-22/
LOCATION:Getaway Girls\, 19 Brooklands Avenue\, Leeds\, West Yorkshire\, LS14 6SG\, United Kingdom
ATTACH;FMTTYPE=image/jpeg:https://getawaygirls.co.uk/wp-content/uploads/2024/01/Drop-in-lunch.jpg
END:VEVENT
BEGIN:VEVENT
DTSTART;TZID=UTC:20240722T130000
DTEND;TZID=UTC:20240722T143000
DTSTAMP:20260421T140354
CREATED:20240502T164222Z
LAST-MODIFIED:20240721T081553Z
UID:10000499-1721653200-1721658600@getawaygirls.co.uk
SUMMARY:Proud to be Mum group
DESCRIPTION:Proud to be Mums group\, upto 25yrs\, with creché
URL:https://getawaygirls.co.uk/group/proud-to-be-mum-group-2/2024-07-22/
LOCATION:Getaway Girls\, 19 Brooklands Avenue\, Leeds\, West Yorkshire\, LS14 6SG\, United Kingdom
ATTACH;FMTTYPE=image/jpeg:https://getawaygirls.co.uk/wp-content/uploads/2024/01/Proud-to-be-Mum.jpg
END:VEVENT
BEGIN:VEVENT
DTSTART;TZID=UTC:20240723T123000
DTEND;TZID=UTC:20240723T140000
DTSTAMP:20260421T140354
CREATED:20250618T144956Z
LAST-MODIFIED:20250618T145117Z
UID:10000924-1721737800-1721743200@getawaygirls.co.uk
SUMMARY:Yoga
DESCRIPTION:Yoga group\, refreshments and creché.
URL:https://getawaygirls.co.uk/group/yoga-4/2024-07-23/
LOCATION:Getaway Girls\, 19 Brooklands Avenue\, Leeds\, West Yorkshire\, LS14 6SG\, United Kingdom
ATTACH;FMTTYPE=image/jpeg:https://getawaygirls.co.uk/wp-content/uploads/2024/01/Yoga.jpg
END:VEVENT
BEGIN:VEVENT
DTSTART;TZID=UTC:20240724T120000
DTEND;TZID=UTC:20240724T130000
DTSTAMP:20260421T140354
CREATED:20240721T081808Z
LAST-MODIFIED:20240721T081839Z
UID:10000508-1721822400-1721826000@getawaygirls.co.uk
SUMMARY:Drop in lunch
DESCRIPTION:Drop in / Lunch for young women aged 16-25 yrs
URL:https://getawaygirls.co.uk/group/drop-in-lunch-12/2024-07-24/
LOCATION:Getaway Girls\, 19 Brooklands Avenue\, Leeds\, West Yorkshire\, LS14 6SG\, United Kingdom
ATTACH;FMTTYPE=image/jpeg:https://getawaygirls.co.uk/wp-content/uploads/2024/01/Drop-in-lunch.jpg
END:VEVENT
BEGIN:VEVENT
DTSTART;TZID=UTC:20240724T130000
DTEND;TZID=UTC:20240724T143000
DTSTAMP:20260421T140354
CREATED:20240721T081958Z
LAST-MODIFIED:20240721T082029Z
UID:10000515-1721826000-1721831400@getawaygirls.co.uk
SUMMARY:She Writes
DESCRIPTION:Creative writing group for young women aged 16-25 yrs\, with creché
URL:https://getawaygirls.co.uk/group/she-writes-4/2024-07-24/
LOCATION:Getaway Girls\, 19 Brooklands Avenue\, Leeds\, West Yorkshire\, LS14 6SG\, United Kingdom
ATTACH;FMTTYPE=image/jpeg:https://getawaygirls.co.uk/wp-content/uploads/2024/01/She-writes.jpg
END:VEVENT
BEGIN:VEVENT
DTSTART;TZID=UTC:20240726T123000
DTEND;TZID=UTC:20240726T130000
DTSTAMP:20260421T140354
CREATED:20240719T092140Z
LAST-MODIFIED:20240719T113622Z
UID:10000476-1721997000-1721998800@getawaygirls.co.uk
SUMMARY:Drop in lunch
DESCRIPTION:Drop in / Lunch for young women aged 16-25 yrs
URL:https://getawaygirls.co.uk/group/drop-in-lunch-8/2024-07-26/
LOCATION:Getaway Girls\, 19 Brooklands Avenue\, Leeds\, West Yorkshire\, LS14 6SG\, United Kingdom
ATTACH;FMTTYPE=image/jpeg:https://getawaygirls.co.uk/wp-content/uploads/2024/01/Drop-in-lunch.jpg
END:VEVENT
BEGIN:VEVENT
DTSTART;TZID=UTC:20240726T130000
DTEND;TZID=UTC:20240726T143000
DTSTAMP:20260421T140354
CREATED:20240719T144929Z
LAST-MODIFIED:20240719T145107Z
UID:10000482-1721998800-1722004200@getawaygirls.co.uk
SUMMARY:Cooking together
DESCRIPTION:Cooking together for young women aged 16-25 yrs\, creché available
URL:https://getawaygirls.co.uk/group/cooking-together-4/2024-07-26/
LOCATION:Getaway Girls\, 19 Brooklands Avenue\, Leeds\, West Yorkshire\, LS14 6SG\, United Kingdom
ATTACH;FMTTYPE=image/jpeg:https://getawaygirls.co.uk/wp-content/uploads/2024/01/Cooking-together.jpg
END:VEVENT
END:VCALENDAR