BEGIN:VCALENDAR
VERSION:2.0
PRODID:-//Getaway Girls - ECPv6.15.20//NONSGML v1.0//EN
CALSCALE:GREGORIAN
METHOD:PUBLISH
X-ORIGINAL-URL:https://getawaygirls.co.uk
X-WR-CALDESC:Events for Getaway Girls
REFRESH-INTERVAL;VALUE=DURATION:PT1H
X-Robots-Tag:noindex
X-PUBLISHED-TTL:PT1H
BEGIN:VTIMEZONE
TZID:UTC
BEGIN:STANDARD
TZOFFSETFROM:+0000
TZOFFSETTO:+0000
TZNAME:UTC
DTSTART:20230101T000000
END:STANDARD
END:VTIMEZONE
BEGIN:VEVENT
DTSTART;TZID=UTC:20240401T130000
DTEND;TZID=UTC:20240401T143000
DTSTAMP:20260421T183102
CREATED:20240329T130852Z
LAST-MODIFIED:20240329T130921Z
UID:10000077-1711976400-1711981800@getawaygirls.co.uk
SUMMARY:Proud to be Mum group
DESCRIPTION:Proud to be Mums group\, upto 25yrs\, with creché
URL:https://getawaygirls.co.uk/group/proud-to-be-mum-group/2024-04-01/
LOCATION:Getaway Girls\, 19 Brooklands Avenue\, Leeds\, West Yorkshire\, LS14 6SG\, United Kingdom
ATTACH;FMTTYPE=image/jpeg:https://getawaygirls.co.uk/wp-content/uploads/2024/01/Proud-to-be-Mum.jpg
END:VEVENT
BEGIN:VEVENT
DTSTART;TZID=UTC:20240403T120000
DTEND;TZID=UTC:20240403T130000
DTSTAMP:20260421T183102
CREATED:20240329T123950Z
LAST-MODIFIED:20240329T124047Z
UID:10000110-1712145600-1712149200@getawaygirls.co.uk
SUMMARY:Drop in lunch
DESCRIPTION:Drop in / Lunch for young women aged 16-25 yrs
URL:https://getawaygirls.co.uk/group/drop-in-lunch-5/2024-04-03/
LOCATION:Getaway Girls\, 19 Brooklands Avenue\, Leeds\, West Yorkshire\, LS14 6SG\, United Kingdom
ATTACH;FMTTYPE=image/jpeg:https://getawaygirls.co.uk/wp-content/uploads/2024/01/Drop-in-lunch.jpg
END:VEVENT
BEGIN:VEVENT
DTSTART;TZID=UTC:20240403T130000
DTEND;TZID=UTC:20240403T143000
DTSTAMP:20260421T183102
CREATED:20240329T123233Z
LAST-MODIFIED:20240329T131525Z
UID:10000352-1712149200-1712154600@getawaygirls.co.uk
SUMMARY:She Writes
DESCRIPTION:Creative writing group for young women aged 16-25 yrs\, with creché
URL:https://getawaygirls.co.uk/group/she-writes-2/2024-04-03/
LOCATION:Getaway Girls\, 19 Brooklands Avenue\, Leeds\, West Yorkshire\, LS14 6SG\, United Kingdom
ATTACH;FMTTYPE=image/jpeg:https://getawaygirls.co.uk/wp-content/uploads/2024/01/She-writes.jpg
END:VEVENT
BEGIN:VEVENT
DTSTART;TZID=UTC:20240405T120000
DTEND;TZID=UTC:20240405T130000
DTSTAMP:20260421T183102
CREATED:20240125T234302Z
LAST-MODIFIED:20240329T131341Z
UID:10000348-1712318400-1712322000@getawaygirls.co.uk
SUMMARY:Drop in lunch
DESCRIPTION:Drop in / Lunch for young women aged 16-25 yrs
URL:https://getawaygirls.co.uk/group/drop-in-lunch-3/2024-04-05/
LOCATION:Getaway Girls\, 19 Brooklands Avenue\, Leeds\, West Yorkshire\, LS14 6SG\, United Kingdom
ATTACH;FMTTYPE=image/jpeg:https://getawaygirls.co.uk/wp-content/uploads/2024/01/Drop-in-lunch.jpg
END:VEVENT
BEGIN:VEVENT
DTSTART;TZID=UTC:20240405T130000
DTEND;TZID=UTC:20240405T143000
DTSTAMP:20260421T183102
CREATED:20240329T131238Z
LAST-MODIFIED:20240329T131258Z
UID:10000344-1712322000-1712327400@getawaygirls.co.uk
SUMMARY:Cooking together
DESCRIPTION:Cooking together for young women aged 16-25 yrs
URL:https://getawaygirls.co.uk/group/cooking-together-2/2024-04-05/
LOCATION:Getaway Girls\, 19 Brooklands Avenue\, Leeds\, West Yorkshire\, LS14 6SG\, United Kingdom
ATTACH;FMTTYPE=image/jpeg:https://getawaygirls.co.uk/wp-content/uploads/2024/01/Cooking-together.jpg
END:VEVENT
BEGIN:VEVENT
DTSTART;TZID=UTC:20240407T130000
DTEND;TZID=UTC:20240407T160000
DTSTAMP:20260421T183102
CREATED:20240126T000628Z
LAST-MODIFIED:20240329T131118Z
UID:10000340-1712494800-1712505600@getawaygirls.co.uk
SUMMARY:DJing training\, MCing\, Music
DESCRIPTION:DJing training\, MCing\, Music\, for young women
URL:https://getawaygirls.co.uk/group/djing-training-mcing-music/2024-04-07/
LOCATION:Getaway Girls\, 19 Brooklands Avenue\, Leeds\, West Yorkshire\, LS14 6SG\, United Kingdom
ATTACH;FMTTYPE=image/jpeg:https://getawaygirls.co.uk/wp-content/uploads/2024/01/DJing.jpg
END:VEVENT
BEGIN:VEVENT
DTSTART;TZID=UTC:20240408T130000
DTEND;TZID=UTC:20240408T143000
DTSTAMP:20260421T183102
CREATED:20240329T130852Z
LAST-MODIFIED:20240329T130921Z
UID:10000332-1712581200-1712586600@getawaygirls.co.uk
SUMMARY:Proud to be Mum group
DESCRIPTION:Proud to be Mums group\, upto 25yrs\, with creché
URL:https://getawaygirls.co.uk/group/proud-to-be-mum-group/2024-04-08/
LOCATION:Getaway Girls\, 19 Brooklands Avenue\, Leeds\, West Yorkshire\, LS14 6SG\, United Kingdom
ATTACH;FMTTYPE=image/jpeg:https://getawaygirls.co.uk/wp-content/uploads/2024/01/Proud-to-be-Mum.jpg
END:VEVENT
BEGIN:VEVENT
DTSTART;TZID=UTC:20240409T130000
DTEND;TZID=UTC:20240409T143000
DTSTAMP:20260421T183102
CREATED:20240329T130608Z
LAST-MODIFIED:20240329T130658Z
UID:10000085-1712667600-1712673000@getawaygirls.co.uk
SUMMARY:Yoga
DESCRIPTION:Yoga group\, refreshments and creché.
URL:https://getawaygirls.co.uk/group/yoga-2/2024-04-09/
LOCATION:Getaway Girls\, 19 Brooklands Avenue\, Leeds\, West Yorkshire\, LS14 6SG\, United Kingdom
ATTACH;FMTTYPE=image/jpeg:https://getawaygirls.co.uk/wp-content/uploads/2024/01/Yoga.jpg
END:VEVENT
BEGIN:VEVENT
DTSTART;TZID=UTC:20240410T120000
DTEND;TZID=UTC:20240410T130000
DTSTAMP:20260421T183102
CREATED:20240329T123950Z
LAST-MODIFIED:20240329T124047Z
UID:10000266-1712750400-1712754000@getawaygirls.co.uk
SUMMARY:Drop in lunch
DESCRIPTION:Drop in / Lunch for young women aged 16-25 yrs
URL:https://getawaygirls.co.uk/group/drop-in-lunch-5/2024-04-10/
LOCATION:Getaway Girls\, 19 Brooklands Avenue\, Leeds\, West Yorkshire\, LS14 6SG\, United Kingdom
ATTACH;FMTTYPE=image/jpeg:https://getawaygirls.co.uk/wp-content/uploads/2024/01/Drop-in-lunch.jpg
END:VEVENT
BEGIN:VEVENT
DTSTART;TZID=UTC:20240410T130000
DTEND;TZID=UTC:20240410T143000
DTSTAMP:20260421T183102
CREATED:20240329T123233Z
LAST-MODIFIED:20240329T131525Z
UID:10000353-1712754000-1712759400@getawaygirls.co.uk
SUMMARY:She Writes
DESCRIPTION:Creative writing group for young women aged 16-25 yrs\, with creché
URL:https://getawaygirls.co.uk/group/she-writes-2/2024-04-10/
LOCATION:Getaway Girls\, 19 Brooklands Avenue\, Leeds\, West Yorkshire\, LS14 6SG\, United Kingdom
ATTACH;FMTTYPE=image/jpeg:https://getawaygirls.co.uk/wp-content/uploads/2024/01/She-writes.jpg
END:VEVENT
BEGIN:VEVENT
DTSTART;TZID=UTC:20240412T120000
DTEND;TZID=UTC:20240412T130000
DTSTAMP:20260421T183102
CREATED:20240125T234302Z
LAST-MODIFIED:20240329T131341Z
UID:10000349-1712923200-1712926800@getawaygirls.co.uk
SUMMARY:Drop in lunch
DESCRIPTION:Drop in / Lunch for young women aged 16-25 yrs
URL:https://getawaygirls.co.uk/group/drop-in-lunch-3/2024-04-12/
LOCATION:Getaway Girls\, 19 Brooklands Avenue\, Leeds\, West Yorkshire\, LS14 6SG\, United Kingdom
ATTACH;FMTTYPE=image/jpeg:https://getawaygirls.co.uk/wp-content/uploads/2024/01/Drop-in-lunch.jpg
END:VEVENT
BEGIN:VEVENT
DTSTART;TZID=UTC:20240412T130000
DTEND;TZID=UTC:20240412T143000
DTSTAMP:20260421T183102
CREATED:20240329T131238Z
LAST-MODIFIED:20240329T131258Z
UID:10000345-1712926800-1712932200@getawaygirls.co.uk
SUMMARY:Cooking together
DESCRIPTION:Cooking together for young women aged 16-25 yrs
URL:https://getawaygirls.co.uk/group/cooking-together-2/2024-04-12/
LOCATION:Getaway Girls\, 19 Brooklands Avenue\, Leeds\, West Yorkshire\, LS14 6SG\, United Kingdom
ATTACH;FMTTYPE=image/jpeg:https://getawaygirls.co.uk/wp-content/uploads/2024/01/Cooking-together.jpg
END:VEVENT
BEGIN:VEVENT
DTSTART;TZID=UTC:20240414T130000
DTEND;TZID=UTC:20240414T160000
DTSTAMP:20260421T183102
CREATED:20240126T000628Z
LAST-MODIFIED:20240329T131118Z
UID:10000341-1713099600-1713110400@getawaygirls.co.uk
SUMMARY:DJing training\, MCing\, Music
DESCRIPTION:DJing training\, MCing\, Music\, for young women
URL:https://getawaygirls.co.uk/group/djing-training-mcing-music/2024-04-14/
LOCATION:Getaway Girls\, 19 Brooklands Avenue\, Leeds\, West Yorkshire\, LS14 6SG\, United Kingdom
ATTACH;FMTTYPE=image/jpeg:https://getawaygirls.co.uk/wp-content/uploads/2024/01/DJing.jpg
END:VEVENT
BEGIN:VEVENT
DTSTART;TZID=UTC:20240415T130000
DTEND;TZID=UTC:20240415T143000
DTSTAMP:20260421T183102
CREATED:20240329T130852Z
LAST-MODIFIED:20240329T130921Z
UID:10000333-1713186000-1713191400@getawaygirls.co.uk
SUMMARY:Proud to be Mum group
DESCRIPTION:Proud to be Mums group\, upto 25yrs\, with creché
URL:https://getawaygirls.co.uk/group/proud-to-be-mum-group/2024-04-15/
LOCATION:Getaway Girls\, 19 Brooklands Avenue\, Leeds\, West Yorkshire\, LS14 6SG\, United Kingdom
ATTACH;FMTTYPE=image/jpeg:https://getawaygirls.co.uk/wp-content/uploads/2024/01/Proud-to-be-Mum.jpg
END:VEVENT
BEGIN:VEVENT
DTSTART;TZID=UTC:20240416T130000
DTEND;TZID=UTC:20240416T143000
DTSTAMP:20260421T183102
CREATED:20240329T130608Z
LAST-MODIFIED:20240329T130658Z
UID:10000329-1713272400-1713277800@getawaygirls.co.uk
SUMMARY:Yoga
DESCRIPTION:Yoga group\, refreshments and creché.
URL:https://getawaygirls.co.uk/group/yoga-2/2024-04-16/
LOCATION:Getaway Girls\, 19 Brooklands Avenue\, Leeds\, West Yorkshire\, LS14 6SG\, United Kingdom
ATTACH;FMTTYPE=image/jpeg:https://getawaygirls.co.uk/wp-content/uploads/2024/01/Yoga.jpg
END:VEVENT
BEGIN:VEVENT
DTSTART;TZID=UTC:20240417T130000
DTEND;TZID=UTC:20240417T143000
DTSTAMP:20260421T183102
CREATED:20240329T123233Z
LAST-MODIFIED:20240329T131525Z
UID:10000354-1713358800-1713364200@getawaygirls.co.uk
SUMMARY:She Writes
DESCRIPTION:Creative writing group for young women aged 16-25 yrs\, with creché
URL:https://getawaygirls.co.uk/group/she-writes-2/2024-04-17/
LOCATION:Getaway Girls\, 19 Brooklands Avenue\, Leeds\, West Yorkshire\, LS14 6SG\, United Kingdom
ATTACH;FMTTYPE=image/jpeg:https://getawaygirls.co.uk/wp-content/uploads/2024/01/She-writes.jpg
END:VEVENT
BEGIN:VEVENT
DTSTART;TZID=UTC:20240417T160000
DTEND;TZID=UTC:20240417T173000
DTSTAMP:20260421T183102
CREATED:20240329T122630Z
LAST-MODIFIED:20240329T122706Z
UID:10000145-1713369600-1713375000@getawaygirls.co.uk
SUMMARY:Young women’s space
DESCRIPTION:Young womens group\, for ages 13-17 yrs
URL:https://getawaygirls.co.uk/group/young-womens-space-2/2024-04-17/
LOCATION:Shine\, Harehills road\,\, Leeds\, West Yorkshire\, LS8 5HS\, United Kingdom
ATTACH;FMTTYPE=image/jpeg:https://getawaygirls.co.uk/wp-content/uploads/2024/01/Young-womens-space.jpg
END:VEVENT
BEGIN:VEVENT
DTSTART;TZID=UTC:20240418T160000
DTEND;TZID=UTC:20240418T173000
DTSTAMP:20260421T183102
CREATED:20240329T122240Z
LAST-MODIFIED:20240329T122423Z
UID:10000153-1713456000-1713461400@getawaygirls.co.uk
SUMMARY:Leadership programme
DESCRIPTION:Leadership programme for young women aged 15-18 yrs
URL:https://getawaygirls.co.uk/group/leadership-programme-2/2024-04-18/
LOCATION:Getaway Girls\, 19 Brooklands Avenue\, Leeds\, West Yorkshire\, LS14 6SG\, United Kingdom
ATTACH;FMTTYPE=image/jpeg:https://getawaygirls.co.uk/wp-content/uploads/2024/01/Leadership-programme.jpg
END:VEVENT
BEGIN:VEVENT
DTSTART;TZID=UTC:20240419T120000
DTEND;TZID=UTC:20240419T130000
DTSTAMP:20260421T183102
CREATED:20240125T234302Z
LAST-MODIFIED:20240329T131341Z
UID:10000350-1713528000-1713531600@getawaygirls.co.uk
SUMMARY:Drop in lunch
DESCRIPTION:Drop in / Lunch for young women aged 16-25 yrs
URL:https://getawaygirls.co.uk/group/drop-in-lunch-3/2024-04-19/
LOCATION:Getaway Girls\, 19 Brooklands Avenue\, Leeds\, West Yorkshire\, LS14 6SG\, United Kingdom
ATTACH;FMTTYPE=image/jpeg:https://getawaygirls.co.uk/wp-content/uploads/2024/01/Drop-in-lunch.jpg
END:VEVENT
BEGIN:VEVENT
DTSTART;TZID=UTC:20240419T130000
DTEND;TZID=UTC:20240419T143000
DTSTAMP:20260421T183102
CREATED:20240329T131238Z
LAST-MODIFIED:20240329T131258Z
UID:10000346-1713531600-1713537000@getawaygirls.co.uk
SUMMARY:Cooking together
DESCRIPTION:Cooking together for young women aged 16-25 yrs
URL:https://getawaygirls.co.uk/group/cooking-together-2/2024-04-19/
LOCATION:Getaway Girls\, 19 Brooklands Avenue\, Leeds\, West Yorkshire\, LS14 6SG\, United Kingdom
ATTACH;FMTTYPE=image/jpeg:https://getawaygirls.co.uk/wp-content/uploads/2024/01/Cooking-together.jpg
END:VEVENT
BEGIN:VEVENT
DTSTART;TZID=UTC:20240422T130000
DTEND;TZID=UTC:20240422T143000
DTSTAMP:20260421T183102
CREATED:20240329T130852Z
LAST-MODIFIED:20240329T130921Z
UID:10000334-1713790800-1713796200@getawaygirls.co.uk
SUMMARY:Proud to be Mum group
DESCRIPTION:Proud to be Mums group\, upto 25yrs\, with creché
URL:https://getawaygirls.co.uk/group/proud-to-be-mum-group/2024-04-22/
LOCATION:Getaway Girls\, 19 Brooklands Avenue\, Leeds\, West Yorkshire\, LS14 6SG\, United Kingdom
ATTACH;FMTTYPE=image/jpeg:https://getawaygirls.co.uk/wp-content/uploads/2024/01/Proud-to-be-Mum.jpg
END:VEVENT
BEGIN:VEVENT
DTSTART;TZID=UTC:20240423T130000
DTEND;TZID=UTC:20240423T143000
DTSTAMP:20260421T183102
CREATED:20240329T130608Z
LAST-MODIFIED:20240329T130658Z
UID:10000330-1713877200-1713882600@getawaygirls.co.uk
SUMMARY:Yoga
DESCRIPTION:Yoga group\, refreshments and creché.
URL:https://getawaygirls.co.uk/group/yoga-2/2024-04-23/
LOCATION:Getaway Girls\, 19 Brooklands Avenue\, Leeds\, West Yorkshire\, LS14 6SG\, United Kingdom
ATTACH;FMTTYPE=image/jpeg:https://getawaygirls.co.uk/wp-content/uploads/2024/01/Yoga.jpg
END:VEVENT
BEGIN:VEVENT
DTSTART;TZID=UTC:20240424T130000
DTEND;TZID=UTC:20240424T143000
DTSTAMP:20260421T183102
CREATED:20240329T123233Z
LAST-MODIFIED:20240329T131525Z
UID:10000355-1713963600-1713969000@getawaygirls.co.uk
SUMMARY:She Writes
DESCRIPTION:Creative writing group for young women aged 16-25 yrs\, with creché
URL:https://getawaygirls.co.uk/group/she-writes-2/2024-04-24/
LOCATION:Getaway Girls\, 19 Brooklands Avenue\, Leeds\, West Yorkshire\, LS14 6SG\, United Kingdom
ATTACH;FMTTYPE=image/jpeg:https://getawaygirls.co.uk/wp-content/uploads/2024/01/She-writes.jpg
END:VEVENT
BEGIN:VEVENT
DTSTART;TZID=UTC:20240424T160000
DTEND;TZID=UTC:20240424T173000
DTSTAMP:20260421T183102
CREATED:20240329T122630Z
LAST-MODIFIED:20240329T122706Z
UID:10000263-1713974400-1713979800@getawaygirls.co.uk
SUMMARY:Young women’s space
DESCRIPTION:Young womens group\, for ages 13-17 yrs
URL:https://getawaygirls.co.uk/group/young-womens-space-2/2024-04-24/
LOCATION:Shine\, Harehills road\,\, Leeds\, West Yorkshire\, LS8 5HS\, United Kingdom
ATTACH;FMTTYPE=image/jpeg:https://getawaygirls.co.uk/wp-content/uploads/2024/01/Young-womens-space.jpg
END:VEVENT
BEGIN:VEVENT
DTSTART;TZID=UTC:20240425T160000
DTEND;TZID=UTC:20240425T173000
DTSTAMP:20260421T183102
CREATED:20240329T122240Z
LAST-MODIFIED:20240329T122423Z
UID:10000254-1714060800-1714066200@getawaygirls.co.uk
SUMMARY:Leadership programme
DESCRIPTION:Leadership programme for young women aged 15-18 yrs
URL:https://getawaygirls.co.uk/group/leadership-programme-2/2024-04-25/
LOCATION:Getaway Girls\, 19 Brooklands Avenue\, Leeds\, West Yorkshire\, LS14 6SG\, United Kingdom
ATTACH;FMTTYPE=image/jpeg:https://getawaygirls.co.uk/wp-content/uploads/2024/01/Leadership-programme.jpg
END:VEVENT
BEGIN:VEVENT
DTSTART;TZID=UTC:20240426T120000
DTEND;TZID=UTC:20240426T130000
DTSTAMP:20260421T183102
CREATED:20240125T234302Z
LAST-MODIFIED:20240329T131341Z
UID:10000351-1714132800-1714136400@getawaygirls.co.uk
SUMMARY:Drop in lunch
DESCRIPTION:Drop in / Lunch for young women aged 16-25 yrs
URL:https://getawaygirls.co.uk/group/drop-in-lunch-3/2024-04-26/
LOCATION:Getaway Girls\, 19 Brooklands Avenue\, Leeds\, West Yorkshire\, LS14 6SG\, United Kingdom
ATTACH;FMTTYPE=image/jpeg:https://getawaygirls.co.uk/wp-content/uploads/2024/01/Drop-in-lunch.jpg
END:VEVENT
END:VCALENDAR