BEGIN:VCALENDAR
VERSION:2.0
PRODID:-//Getaway Girls - ECPv6.15.20//NONSGML v1.0//EN
CALSCALE:GREGORIAN
METHOD:PUBLISH
X-ORIGINAL-URL:https://getawaygirls.co.uk
X-WR-CALDESC:Events for Getaway Girls
REFRESH-INTERVAL;VALUE=DURATION:PT1H
X-Robots-Tag:noindex
X-PUBLISHED-TTL:PT1H
BEGIN:VTIMEZONE
TZID:UTC
BEGIN:STANDARD
TZOFFSETFROM:+0000
TZOFFSETTO:+0000
TZNAME:UTC
DTSTART:20230101T000000
END:STANDARD
END:VTIMEZONE
BEGIN:VEVENT
DTSTART;TZID=UTC:20240202T120000
DTEND;TZID=UTC:20240202T130000
DTSTAMP:20260421T011226
CREATED:20240125T234302Z
LAST-MODIFIED:20240329T131341Z
UID:10000164-1706875200-1706878800@getawaygirls.co.uk
SUMMARY:Drop in lunch
DESCRIPTION:Drop in / Lunch for young women aged 16-25 yrs
URL:https://getawaygirls.co.uk/group/drop-in-lunch-3/2024-02-02/
LOCATION:Getaway Girls\, 19 Brooklands Avenue\, Leeds\, West Yorkshire\, LS14 6SG\, United Kingdom
ATTACH;FMTTYPE=image/jpeg:https://getawaygirls.co.uk/wp-content/uploads/2024/01/Drop-in-lunch.jpg
END:VEVENT
BEGIN:VEVENT
DTSTART;TZID=UTC:20240202T130000
DTEND;TZID=UTC:20240202T143000
DTSTAMP:20260421T011226
CREATED:20240125T235138Z
LAST-MODIFIED:20240125T235138Z
UID:10000174-1706878800-1706884200@getawaygirls.co.uk
SUMMARY:Cooking together
DESCRIPTION:Cooking together for young women aged 16-25 yrs
URL:https://getawaygirls.co.uk/group/cooking-together/2024-02-02/
LOCATION:Getaway Girls\, 19 Brooklands Avenue\, Leeds\, West Yorkshire\, LS14 6SG\, United Kingdom
ATTACH;FMTTYPE=image/jpeg:https://getawaygirls.co.uk/wp-content/uploads/2024/01/Cooking-together.jpg
END:VEVENT
BEGIN:VEVENT
DTSTART;TZID=UTC:20240204T130000
DTEND;TZID=UTC:20240204T160000
DTSTAMP:20260421T011226
CREATED:20240126T000628Z
LAST-MODIFIED:20240329T131118Z
UID:10000184-1707051600-1707062400@getawaygirls.co.uk
SUMMARY:DJing training\, MCing\, Music
DESCRIPTION:DJing training\, MCing\, Music\, for young women
URL:https://getawaygirls.co.uk/group/djing-training-mcing-music/2024-02-04/
LOCATION:Getaway Girls\, 19 Brooklands Avenue\, Leeds\, West Yorkshire\, LS14 6SG\, United Kingdom
ATTACH;FMTTYPE=image/jpeg:https://getawaygirls.co.uk/wp-content/uploads/2024/01/DJing.jpg
END:VEVENT
BEGIN:VEVENT
DTSTART;TZID=UTC:20240205T120000
DTEND;TZID=UTC:20240205T130000
DTSTAMP:20260421T011226
CREATED:20240125T085236Z
LAST-MODIFIED:20240125T175349Z
UID:10000009-1707134400-1707138000@getawaygirls.co.uk
SUMMARY:Drop in lunch
DESCRIPTION:Drop in / Lunch for young women aged 16-25 yrs
URL:https://getawaygirls.co.uk/group/drop-in-lunch-2/2024-02-05/
LOCATION:Getaway Girls\, 19 Brooklands Avenue\, Leeds\, West Yorkshire\, LS14 6SG\, United Kingdom
ATTACH;FMTTYPE=image/jpeg:https://getawaygirls.co.uk/wp-content/uploads/2024/01/Drop-in-lunch.jpg
END:VEVENT
BEGIN:VEVENT
DTSTART;TZID=UTC:20240205T130000
DTEND;TZID=UTC:20240205T143000
DTSTAMP:20260421T011226
CREATED:20240124T205426Z
LAST-MODIFIED:20240125T182158Z
UID:10000070-1707138000-1707143400@getawaygirls.co.uk
SUMMARY:Proud to be Mum group
DESCRIPTION:Proud to be Mums group\, upto 25yrs\, with creché
URL:https://getawaygirls.co.uk/group/proud-to-be-mums-group/2024-02-05/
LOCATION:Getaway Girls\, 19 Brooklands Avenue\, Leeds\, West Yorkshire\, LS14 6SG\, United Kingdom
ATTACH;FMTTYPE=image/jpeg:https://getawaygirls.co.uk/wp-content/uploads/2024/01/Proud-to-be-Mum.jpg
END:VEVENT
BEGIN:VEVENT
DTSTART;TZID=UTC:20240206T130000
DTEND;TZID=UTC:20240206T143000
DTSTAMP:20260421T011226
CREATED:20240125T123006Z
LAST-MODIFIED:20240125T182258Z
UID:10000078-1707224400-1707229800@getawaygirls.co.uk
SUMMARY:Yoga
DESCRIPTION:Yoga group\, refreshments and creché.
URL:https://getawaygirls.co.uk/group/yoga/2024-02-06/
LOCATION:Getaway Girls\, 19 Brooklands Avenue\, Leeds\, West Yorkshire\, LS14 6SG\, United Kingdom
ATTACH;FMTTYPE=image/jpeg:https://getawaygirls.co.uk/wp-content/uploads/2024/01/Yoga.jpg
END:VEVENT
BEGIN:VEVENT
DTSTART;TZID=UTC:20240206T160000
DTEND;TZID=UTC:20240206T173000
DTSTAMP:20260421T011226
CREATED:20240125T123231Z
LAST-MODIFIED:20240125T182608Z
UID:10000092-1707235200-1707240600@getawaygirls.co.uk
SUMMARY:Girls space
DESCRIPTION:Girls Space for young women aged 11-17yrs
URL:https://getawaygirls.co.uk/group/girls-space/2024-02-06/
LOCATION:Getaway Girls\, 19 Brooklands Avenue\, Leeds\, West Yorkshire\, LS14 6SG\, United Kingdom
ATTACH;FMTTYPE=image/jpeg:https://getawaygirls.co.uk/wp-content/uploads/2024/01/Girls-space.jpg
END:VEVENT
BEGIN:VEVENT
DTSTART;TZID=UTC:20240207T120000
DTEND;TZID=UTC:20240207T130000
DTSTAMP:20260421T011226
CREATED:20240125T182810Z
LAST-MODIFIED:20240125T182811Z
UID:10000103-1707307200-1707310800@getawaygirls.co.uk
SUMMARY:Drop in lunch
DESCRIPTION:Drop in / Lunch for young women aged 16-25 yrs
URL:https://getawaygirls.co.uk/group/drop-in-lunch/2024-02-07/
LOCATION:Getaway Girls\, 19 Brooklands Avenue\, Leeds\, West Yorkshire\, LS14 6SG\, United Kingdom
ATTACH;FMTTYPE=image/jpeg:https://getawaygirls.co.uk/wp-content/uploads/2024/01/Drop-in-lunch.jpg
END:VEVENT
BEGIN:VEVENT
DTSTART;TZID=UTC:20240207T130000
DTEND;TZID=UTC:20240207T143000
DTSTAMP:20260421T011226
CREATED:20240125T185558Z
LAST-MODIFIED:20240125T185558Z
UID:10000130-1707310800-1707316200@getawaygirls.co.uk
SUMMARY:She Writes
DESCRIPTION:Creative writing group for young women aged 16-25 yrs\, with creché
URL:https://getawaygirls.co.uk/group/she-writes/2024-02-07/
LOCATION:Getaway Girls\, 19 Brooklands Avenue\, Leeds\, West Yorkshire\, LS14 6SG\, United Kingdom
ATTACH;FMTTYPE=image/jpeg:https://getawaygirls.co.uk/wp-content/uploads/2024/01/She-writes.jpg
END:VEVENT
BEGIN:VEVENT
DTSTART;TZID=UTC:20240207T160000
DTEND;TZID=UTC:20240207T173000
DTSTAMP:20260421T011226
CREATED:20240125T190235Z
LAST-MODIFIED:20240125T190419Z
UID:10000139-1707321600-1707327000@getawaygirls.co.uk
SUMMARY:Young women’s space
DESCRIPTION:Young womens group\, for ages 13-17 yrs
URL:https://getawaygirls.co.uk/group/young-womens-space/2024-02-07/
LOCATION:Shine\, Harehills road\,\, Leeds\, West Yorkshire\, LS8 5HS\, United Kingdom
ATTACH;FMTTYPE=image/jpeg:https://getawaygirls.co.uk/wp-content/uploads/2024/01/Young-womens-space.jpg
END:VEVENT
BEGIN:VEVENT
DTSTART;TZID=UTC:20240208T160000
DTEND;TZID=UTC:20240208T173000
DTSTAMP:20260421T011226
CREATED:20240125T234033Z
LAST-MODIFIED:20240125T234034Z
UID:10000146-1707408000-1707413400@getawaygirls.co.uk
SUMMARY:Leadership programme
DESCRIPTION:Leadership programme for young women aged 15-18 yrs
URL:https://getawaygirls.co.uk/group/leadership-programme/2024-02-08/
LOCATION:Getaway Girls\, 19 Brooklands Avenue\, Leeds\, West Yorkshire\, LS14 6SG\, United Kingdom
ATTACH;FMTTYPE=image/jpeg:https://getawaygirls.co.uk/wp-content/uploads/2024/01/Leadership-programme.jpg
END:VEVENT
BEGIN:VEVENT
DTSTART;TZID=UTC:20240209T120000
DTEND;TZID=UTC:20240209T130000
DTSTAMP:20260421T011226
CREATED:20240125T234302Z
LAST-MODIFIED:20240329T131341Z
UID:10000165-1707480000-1707483600@getawaygirls.co.uk
SUMMARY:Drop in lunch
DESCRIPTION:Drop in / Lunch for young women aged 16-25 yrs
URL:https://getawaygirls.co.uk/group/drop-in-lunch-3/2024-02-09/
LOCATION:Getaway Girls\, 19 Brooklands Avenue\, Leeds\, West Yorkshire\, LS14 6SG\, United Kingdom
ATTACH;FMTTYPE=image/jpeg:https://getawaygirls.co.uk/wp-content/uploads/2024/01/Drop-in-lunch.jpg
END:VEVENT
BEGIN:VEVENT
DTSTART;TZID=UTC:20240209T130000
DTEND;TZID=UTC:20240209T143000
DTSTAMP:20260421T011226
CREATED:20240125T235138Z
LAST-MODIFIED:20240125T235138Z
UID:10000175-1707483600-1707489000@getawaygirls.co.uk
SUMMARY:Cooking together
DESCRIPTION:Cooking together for young women aged 16-25 yrs
URL:https://getawaygirls.co.uk/group/cooking-together/2024-02-09/
LOCATION:Getaway Girls\, 19 Brooklands Avenue\, Leeds\, West Yorkshire\, LS14 6SG\, United Kingdom
ATTACH;FMTTYPE=image/jpeg:https://getawaygirls.co.uk/wp-content/uploads/2024/01/Cooking-together.jpg
END:VEVENT
BEGIN:VEVENT
DTSTART;TZID=UTC:20240211T130000
DTEND;TZID=UTC:20240211T160000
DTSTAMP:20260421T011226
CREATED:20240126T000628Z
LAST-MODIFIED:20240329T131118Z
UID:10000185-1707656400-1707667200@getawaygirls.co.uk
SUMMARY:DJing training\, MCing\, Music
DESCRIPTION:DJing training\, MCing\, Music\, for young women
URL:https://getawaygirls.co.uk/group/djing-training-mcing-music/2024-02-11/
LOCATION:Getaway Girls\, 19 Brooklands Avenue\, Leeds\, West Yorkshire\, LS14 6SG\, United Kingdom
ATTACH;FMTTYPE=image/jpeg:https://getawaygirls.co.uk/wp-content/uploads/2024/01/DJing.jpg
END:VEVENT
BEGIN:VEVENT
DTSTART;TZID=UTC:20240212T120000
DTEND;TZID=UTC:20240212T130000
DTSTAMP:20260421T011226
CREATED:20240125T085236Z
LAST-MODIFIED:20240125T175349Z
UID:10000010-1707739200-1707742800@getawaygirls.co.uk
SUMMARY:Drop in lunch
DESCRIPTION:Drop in / Lunch for young women aged 16-25 yrs
URL:https://getawaygirls.co.uk/group/drop-in-lunch-2/2024-02-12/
LOCATION:Getaway Girls\, 19 Brooklands Avenue\, Leeds\, West Yorkshire\, LS14 6SG\, United Kingdom
ATTACH;FMTTYPE=image/jpeg:https://getawaygirls.co.uk/wp-content/uploads/2024/01/Drop-in-lunch.jpg
END:VEVENT
BEGIN:VEVENT
DTSTART;TZID=UTC:20240212T130000
DTEND;TZID=UTC:20240212T143000
DTSTAMP:20260421T011226
CREATED:20240124T205426Z
LAST-MODIFIED:20240125T182158Z
UID:10000071-1707742800-1707748200@getawaygirls.co.uk
SUMMARY:Proud to be Mum group
DESCRIPTION:Proud to be Mums group\, upto 25yrs\, with creché
URL:https://getawaygirls.co.uk/group/proud-to-be-mums-group/2024-02-12/
LOCATION:Getaway Girls\, 19 Brooklands Avenue\, Leeds\, West Yorkshire\, LS14 6SG\, United Kingdom
ATTACH;FMTTYPE=image/jpeg:https://getawaygirls.co.uk/wp-content/uploads/2024/01/Proud-to-be-Mum.jpg
END:VEVENT
BEGIN:VEVENT
DTSTART;TZID=UTC:20240213T130000
DTEND;TZID=UTC:20240213T143000
DTSTAMP:20260421T011226
CREATED:20240125T123006Z
LAST-MODIFIED:20240125T182258Z
UID:10000079-1707829200-1707834600@getawaygirls.co.uk
SUMMARY:Yoga
DESCRIPTION:Yoga group\, refreshments and creché.
URL:https://getawaygirls.co.uk/group/yoga/2024-02-13/
LOCATION:Getaway Girls\, 19 Brooklands Avenue\, Leeds\, West Yorkshire\, LS14 6SG\, United Kingdom
ATTACH;FMTTYPE=image/jpeg:https://getawaygirls.co.uk/wp-content/uploads/2024/01/Yoga.jpg
END:VEVENT
BEGIN:VEVENT
DTSTART;TZID=UTC:20240214T120000
DTEND;TZID=UTC:20240214T130000
DTSTAMP:20260421T011226
CREATED:20240125T182810Z
LAST-MODIFIED:20240125T182811Z
UID:10000104-1707912000-1707915600@getawaygirls.co.uk
SUMMARY:Drop in lunch
DESCRIPTION:Drop in / Lunch for young women aged 16-25 yrs
URL:https://getawaygirls.co.uk/group/drop-in-lunch/2024-02-14/
LOCATION:Getaway Girls\, 19 Brooklands Avenue\, Leeds\, West Yorkshire\, LS14 6SG\, United Kingdom
ATTACH;FMTTYPE=image/jpeg:https://getawaygirls.co.uk/wp-content/uploads/2024/01/Drop-in-lunch.jpg
END:VEVENT
BEGIN:VEVENT
DTSTART;TZID=UTC:20240214T130000
DTEND;TZID=UTC:20240214T143000
DTSTAMP:20260421T011226
CREATED:20240125T185558Z
LAST-MODIFIED:20240125T185558Z
UID:10000131-1707915600-1707921000@getawaygirls.co.uk
SUMMARY:She Writes
DESCRIPTION:Creative writing group for young women aged 16-25 yrs\, with creché
URL:https://getawaygirls.co.uk/group/she-writes/2024-02-14/
LOCATION:Getaway Girls\, 19 Brooklands Avenue\, Leeds\, West Yorkshire\, LS14 6SG\, United Kingdom
ATTACH;FMTTYPE=image/jpeg:https://getawaygirls.co.uk/wp-content/uploads/2024/01/She-writes.jpg
END:VEVENT
BEGIN:VEVENT
DTSTART;TZID=UTC:20240215T160000
DTEND;TZID=UTC:20240215T173000
DTSTAMP:20260421T011226
CREATED:20240125T234033Z
LAST-MODIFIED:20240125T234034Z
UID:10000147-1708012800-1708018200@getawaygirls.co.uk
SUMMARY:Leadership programme
DESCRIPTION:Leadership programme for young women aged 15-18 yrs
URL:https://getawaygirls.co.uk/group/leadership-programme/2024-02-15/
LOCATION:Getaway Girls\, 19 Brooklands Avenue\, Leeds\, West Yorkshire\, LS14 6SG\, United Kingdom
ATTACH;FMTTYPE=image/jpeg:https://getawaygirls.co.uk/wp-content/uploads/2024/01/Leadership-programme.jpg
END:VEVENT
BEGIN:VEVENT
DTSTART;TZID=UTC:20240216T120000
DTEND;TZID=UTC:20240216T130000
DTSTAMP:20260421T011226
CREATED:20240125T234302Z
LAST-MODIFIED:20240329T131341Z
UID:10000166-1708084800-1708088400@getawaygirls.co.uk
SUMMARY:Drop in lunch
DESCRIPTION:Drop in / Lunch for young women aged 16-25 yrs
URL:https://getawaygirls.co.uk/group/drop-in-lunch-3/2024-02-16/
LOCATION:Getaway Girls\, 19 Brooklands Avenue\, Leeds\, West Yorkshire\, LS14 6SG\, United Kingdom
ATTACH;FMTTYPE=image/jpeg:https://getawaygirls.co.uk/wp-content/uploads/2024/01/Drop-in-lunch.jpg
END:VEVENT
BEGIN:VEVENT
DTSTART;TZID=UTC:20240216T130000
DTEND;TZID=UTC:20240216T143000
DTSTAMP:20260421T011226
CREATED:20240125T235138Z
LAST-MODIFIED:20240125T235138Z
UID:10000176-1708088400-1708093800@getawaygirls.co.uk
SUMMARY:Cooking together
DESCRIPTION:Cooking together for young women aged 16-25 yrs
URL:https://getawaygirls.co.uk/group/cooking-together/2024-02-16/
LOCATION:Getaway Girls\, 19 Brooklands Avenue\, Leeds\, West Yorkshire\, LS14 6SG\, United Kingdom
ATTACH;FMTTYPE=image/jpeg:https://getawaygirls.co.uk/wp-content/uploads/2024/01/Cooking-together.jpg
END:VEVENT
BEGIN:VEVENT
DTSTART;TZID=UTC:20240218T130000
DTEND;TZID=UTC:20240218T160000
DTSTAMP:20260421T011226
CREATED:20240126T000628Z
LAST-MODIFIED:20240329T131118Z
UID:10000186-1708261200-1708272000@getawaygirls.co.uk
SUMMARY:DJing training\, MCing\, Music
DESCRIPTION:DJing training\, MCing\, Music\, for young women
URL:https://getawaygirls.co.uk/group/djing-training-mcing-music/2024-02-18/
LOCATION:Getaway Girls\, 19 Brooklands Avenue\, Leeds\, West Yorkshire\, LS14 6SG\, United Kingdom
ATTACH;FMTTYPE=image/jpeg:https://getawaygirls.co.uk/wp-content/uploads/2024/01/DJing.jpg
END:VEVENT
BEGIN:VEVENT
DTSTART;TZID=UTC:20240219T120000
DTEND;TZID=UTC:20240219T130000
DTSTAMP:20260421T011226
CREATED:20240125T085236Z
LAST-MODIFIED:20240125T175349Z
UID:10000011-1708344000-1708347600@getawaygirls.co.uk
SUMMARY:Drop in lunch
DESCRIPTION:Drop in / Lunch for young women aged 16-25 yrs
URL:https://getawaygirls.co.uk/group/drop-in-lunch-2/2024-02-19/
LOCATION:Getaway Girls\, 19 Brooklands Avenue\, Leeds\, West Yorkshire\, LS14 6SG\, United Kingdom
ATTACH;FMTTYPE=image/jpeg:https://getawaygirls.co.uk/wp-content/uploads/2024/01/Drop-in-lunch.jpg
END:VEVENT
BEGIN:VEVENT
DTSTART;TZID=UTC:20240219T130000
DTEND;TZID=UTC:20240219T143000
DTSTAMP:20260421T011226
CREATED:20240124T205426Z
LAST-MODIFIED:20240125T182158Z
UID:10000072-1708347600-1708353000@getawaygirls.co.uk
SUMMARY:Proud to be Mum group
DESCRIPTION:Proud to be Mums group\, upto 25yrs\, with creché
URL:https://getawaygirls.co.uk/group/proud-to-be-mums-group/2024-02-19/
LOCATION:Getaway Girls\, 19 Brooklands Avenue\, Leeds\, West Yorkshire\, LS14 6SG\, United Kingdom
ATTACH;FMTTYPE=image/jpeg:https://getawaygirls.co.uk/wp-content/uploads/2024/01/Proud-to-be-Mum.jpg
END:VEVENT
BEGIN:VEVENT
DTSTART;TZID=UTC:20240220T130000
DTEND;TZID=UTC:20240220T143000
DTSTAMP:20260421T011226
CREATED:20240125T123006Z
LAST-MODIFIED:20240125T182258Z
UID:10000080-1708434000-1708439400@getawaygirls.co.uk
SUMMARY:Yoga
DESCRIPTION:Yoga group\, refreshments and creché.
URL:https://getawaygirls.co.uk/group/yoga/2024-02-20/
LOCATION:Getaway Girls\, 19 Brooklands Avenue\, Leeds\, West Yorkshire\, LS14 6SG\, United Kingdom
ATTACH;FMTTYPE=image/jpeg:https://getawaygirls.co.uk/wp-content/uploads/2024/01/Yoga.jpg
END:VEVENT
BEGIN:VEVENT
DTSTART;TZID=UTC:20240220T160000
DTEND;TZID=UTC:20240220T173000
DTSTAMP:20260421T011226
CREATED:20240125T123231Z
LAST-MODIFIED:20240125T182608Z
UID:10000086-1708444800-1708450200@getawaygirls.co.uk
SUMMARY:Girls space
DESCRIPTION:Girls Space for young women aged 11-17yrs
URL:https://getawaygirls.co.uk/group/girls-space/2024-02-20/
LOCATION:Getaway Girls\, 19 Brooklands Avenue\, Leeds\, West Yorkshire\, LS14 6SG\, United Kingdom
ATTACH;FMTTYPE=image/jpeg:https://getawaygirls.co.uk/wp-content/uploads/2024/01/Girls-space.jpg
END:VEVENT
BEGIN:VEVENT
DTSTART;TZID=UTC:20240221T120000
DTEND;TZID=UTC:20240221T130000
DTSTAMP:20260421T011226
CREATED:20240125T182810Z
LAST-MODIFIED:20240125T182811Z
UID:10000105-1708516800-1708520400@getawaygirls.co.uk
SUMMARY:Drop in lunch
DESCRIPTION:Drop in / Lunch for young women aged 16-25 yrs
URL:https://getawaygirls.co.uk/group/drop-in-lunch/2024-02-21/
LOCATION:Getaway Girls\, 19 Brooklands Avenue\, Leeds\, West Yorkshire\, LS14 6SG\, United Kingdom
ATTACH;FMTTYPE=image/jpeg:https://getawaygirls.co.uk/wp-content/uploads/2024/01/Drop-in-lunch.jpg
END:VEVENT
BEGIN:VEVENT
DTSTART;TZID=UTC:20240221T130000
DTEND;TZID=UTC:20240221T143000
DTSTAMP:20260421T011226
CREATED:20240125T185558Z
LAST-MODIFIED:20240125T185558Z
UID:10000132-1708520400-1708525800@getawaygirls.co.uk
SUMMARY:She Writes
DESCRIPTION:Creative writing group for young women aged 16-25 yrs\, with creché
URL:https://getawaygirls.co.uk/group/she-writes/2024-02-21/
LOCATION:Getaway Girls\, 19 Brooklands Avenue\, Leeds\, West Yorkshire\, LS14 6SG\, United Kingdom
ATTACH;FMTTYPE=image/jpeg:https://getawaygirls.co.uk/wp-content/uploads/2024/01/She-writes.jpg
END:VEVENT
BEGIN:VEVENT
DTSTART;TZID=UTC:20240221T160000
DTEND;TZID=UTC:20240221T173000
DTSTAMP:20260421T011226
CREATED:20240125T190235Z
LAST-MODIFIED:20240125T190419Z
UID:10000140-1708531200-1708536600@getawaygirls.co.uk
SUMMARY:Young women’s space
DESCRIPTION:Young womens group\, for ages 13-17 yrs
URL:https://getawaygirls.co.uk/group/young-womens-space/2024-02-21/
LOCATION:Shine\, Harehills road\,\, Leeds\, West Yorkshire\, LS8 5HS\, United Kingdom
ATTACH;FMTTYPE=image/jpeg:https://getawaygirls.co.uk/wp-content/uploads/2024/01/Young-womens-space.jpg
END:VEVENT
END:VCALENDAR