BEGIN:VCALENDAR
VERSION:2.0
PRODID:-//Getaway Girls - ECPv6.15.20//NONSGML v1.0//EN
CALSCALE:GREGORIAN
METHOD:PUBLISH
X-WR-CALNAME:Getaway Girls
X-ORIGINAL-URL:https://getawaygirls.co.uk
X-WR-CALDESC:Events for Getaway Girls
REFRESH-INTERVAL;VALUE=DURATION:PT1H
X-Robots-Tag:noindex
X-PUBLISHED-TTL:PT1H
BEGIN:VTIMEZONE
TZID:UTC
BEGIN:STANDARD
TZOFFSETFROM:+0000
TZOFFSETTO:+0000
TZNAME:UTC
DTSTART:20250101T000000
END:STANDARD
END:VTIMEZONE
BEGIN:VEVENT
DTSTART;TZID=UTC:20260107T153000
DTEND;TZID=UTC:20260107T173000
DTSTAMP:20260421T000855
CREATED:20250904T085053Z
LAST-MODIFIED:20260327T165606Z
UID:10001236-1767799800-1767807000@getawaygirls.co.uk
SUMMARY:Girls space 12-14yrs
DESCRIPTION:Girls Space for young women aged 12-14yrs
URL:https://getawaygirls.co.uk/group/girls-space-13-17yrs/2026-01-07/
LOCATION:Getaway Girls\, 19 Brooklands Avenue\, Leeds\, West Yorkshire\, LS14 6SG\, United Kingdom
ATTACH;FMTTYPE=image/jpeg:https://getawaygirls.co.uk/wp-content/uploads/2024/01/Girls-space.jpg
END:VEVENT
BEGIN:VEVENT
DTSTART;TZID=UTC:20260108T160000
DTEND;TZID=UTC:20260108T173000
DTSTAMP:20260421T000855
CREATED:20250904T085534Z
LAST-MODIFIED:20250904T085633Z
UID:10001261-1767888000-1767893400@getawaygirls.co.uk
SUMMARY:Vocal Girls
DESCRIPTION:Campaigning Group for young women 15-19yrs
URL:https://getawaygirls.co.uk/group/vocal-girls-6/2026-01-08/
LOCATION:Getaway Girls\, 19 Brooklands Avenue\, Leeds\, West Yorkshire\, LS14 6SG\, United Kingdom
ATTACH;FMTTYPE=image/jpeg:https://getawaygirls.co.uk/wp-content/uploads/2024/10/Vocal-Girls-event-2.jpg
END:VEVENT
BEGIN:VEVENT
DTSTART;TZID=UTC:20260109T130000
DTEND;TZID=UTC:20260109T143000
DTSTAMP:20260421T000855
CREATED:20250904T085900Z
LAST-MODIFIED:20250904T090645Z
UID:10001302-1767963600-1767969000@getawaygirls.co.uk
SUMMARY:Cooking together
DESCRIPTION:Cooking together for young women aged 16-25 yrs\, creché available
URL:https://getawaygirls.co.uk/group/cooking-together-13/2026-01-09/
LOCATION:Getaway Girls\, 19 Brooklands Avenue\, Leeds\, West Yorkshire\, LS14 6SG\, United Kingdom
ATTACH;FMTTYPE=image/jpeg:https://getawaygirls.co.uk/wp-content/uploads/2024/01/Cooking-together.jpg
END:VEVENT
BEGIN:VEVENT
DTSTART;TZID=UTC:20260109T160000
DTEND;TZID=UTC:20260109T173000
DTSTAMP:20260421T000855
CREATED:20250904T090255Z
LAST-MODIFIED:20250904T090738Z
UID:10001353-1767974400-1767979800@getawaygirls.co.uk
SUMMARY:Girls Zone 11-13yrs
DESCRIPTION:Girls Zone for girls aged 11-13yrs
URL:https://getawaygirls.co.uk/group/girls-zone-11-13yrs/2026-01-09/
LOCATION:Getaway Girls\, 19 Brooklands Avenue\, Leeds\, West Yorkshire\, LS14 6SG\, United Kingdom
ATTACH;FMTTYPE=image/jpeg:https://getawaygirls.co.uk/wp-content/uploads/2024/01/Girls-space.jpg
END:VEVENT
BEGIN:VEVENT
DTSTART;TZID=UTC:20260109T160000
DTEND;TZID=UTC:20260109T173000
DTSTAMP:20260421T000855
CREATED:20250904T091116Z
LAST-MODIFIED:20251208T163547Z
UID:10001393-1767974400-1767979800@getawaygirls.co.uk
SUMMARY:BassLines - music Group 14-19
DESCRIPTION:Music Group for your women aged 14-19yrs
URL:https://getawaygirls.co.uk/group/sister-sound-salon-music-group-14-19-2/2026-01-09/
LOCATION:Getaway Girls\, 19 Brooklands Avenue\, Leeds\, West Yorkshire\, LS14 6SG\, United Kingdom
ATTACH;FMTTYPE=image/jpeg:https://getawaygirls.co.uk/wp-content/uploads/2025/01/Music-Group.jpg
END:VEVENT
BEGIN:VEVENT
DTSTART;TZID=UTC:20260112T160000
DTEND;TZID=UTC:20260112T173000
DTSTAMP:20260421T000855
CREATED:20250904T082826Z
LAST-MODIFIED:20250904T082924Z
UID:10001109-1768233600-1768239000@getawaygirls.co.uk
SUMMARY:Girls Squad 8-11yrs
DESCRIPTION:Girls Space for girls aged 8-11yrs
URL:https://getawaygirls.co.uk/group/girls-squad-8-11yrs-4/2026-01-12/
LOCATION:Getaway Girls\, 19 Brooklands Avenue\, Leeds\, West Yorkshire\, LS14 6SG\, United Kingdom
ATTACH;FMTTYPE=image/jpeg:https://getawaygirls.co.uk/wp-content/uploads/2024/01/Girls-space.jpg
END:VEVENT
BEGIN:VEVENT
DTSTART;TZID=UTC:20260113T153000
DTEND;TZID=UTC:20260113T173000
DTSTAMP:20260421T000855
CREATED:20250904T083315Z
LAST-MODIFIED:20250904T083911Z
UID:10001160-1768318200-1768325400@getawaygirls.co.uk
SUMMARY:Girls space 13-17yrs
DESCRIPTION:Girls Space for young women aged 13-17yrs
URL:https://getawaygirls.co.uk/group/girls-space-13-16yrs-5/2026-01-13/
LOCATION:Getaway Girls\, 19 Brooklands Avenue\, Leeds\, West Yorkshire\, LS14 6SG\, United Kingdom
ATTACH;FMTTYPE=image/jpeg:https://getawaygirls.co.uk/wp-content/uploads/2024/01/Girls-space.jpg
END:VEVENT
BEGIN:VEVENT
DTSTART;TZID=UTC:20260114T123000
DTEND;TZID=UTC:20260114T143000
DTSTAMP:20260421T000855
CREATED:20250904T083545Z
LAST-MODIFIED:20260327T164812Z
UID:10001516-1768393800-1768401000@getawaygirls.co.uk
SUMMARY:Proud to be Mum group
DESCRIPTION:Proud to be Mums group\, 18- 25yrs\, with creché
URL:https://getawaygirls.co.uk/group/proud-to-be-mum-group-9/2026-01-14/
LOCATION:Getaway Girls\, 19 Brooklands Avenue\, Leeds\, West Yorkshire\, LS14 6SG\, United Kingdom
ATTACH;FMTTYPE=image/jpeg:https://getawaygirls.co.uk/wp-content/uploads/2024/01/Proud-to-be-Mum.jpg
END:VEVENT
BEGIN:VEVENT
DTSTART;TZID=UTC:20260114T153000
DTEND;TZID=UTC:20260114T173000
DTSTAMP:20260421T000855
CREATED:20250904T085053Z
LAST-MODIFIED:20260327T165606Z
UID:10001237-1768404600-1768411800@getawaygirls.co.uk
SUMMARY:Girls space 12-14yrs
DESCRIPTION:Girls Space for young women aged 12-14yrs
URL:https://getawaygirls.co.uk/group/girls-space-13-17yrs/2026-01-14/
LOCATION:Getaway Girls\, 19 Brooklands Avenue\, Leeds\, West Yorkshire\, LS14 6SG\, United Kingdom
ATTACH;FMTTYPE=image/jpeg:https://getawaygirls.co.uk/wp-content/uploads/2024/01/Girls-space.jpg
END:VEVENT
BEGIN:VEVENT
DTSTART;TZID=UTC:20260115T160000
DTEND;TZID=UTC:20260115T173000
DTSTAMP:20260421T000855
CREATED:20250904T085534Z
LAST-MODIFIED:20250904T085633Z
UID:10001262-1768492800-1768498200@getawaygirls.co.uk
SUMMARY:Vocal Girls
DESCRIPTION:Campaigning Group for young women 15-19yrs
URL:https://getawaygirls.co.uk/group/vocal-girls-6/2026-01-15/
LOCATION:Getaway Girls\, 19 Brooklands Avenue\, Leeds\, West Yorkshire\, LS14 6SG\, United Kingdom
ATTACH;FMTTYPE=image/jpeg:https://getawaygirls.co.uk/wp-content/uploads/2024/10/Vocal-Girls-event-2.jpg
END:VEVENT
BEGIN:VEVENT
DTSTART;TZID=UTC:20260116T130000
DTEND;TZID=UTC:20260116T143000
DTSTAMP:20260421T000855
CREATED:20250904T085900Z
LAST-MODIFIED:20250904T090645Z
UID:10001303-1768568400-1768573800@getawaygirls.co.uk
SUMMARY:Cooking together
DESCRIPTION:Cooking together for young women aged 16-25 yrs\, creché available
URL:https://getawaygirls.co.uk/group/cooking-together-13/2026-01-16/
LOCATION:Getaway Girls\, 19 Brooklands Avenue\, Leeds\, West Yorkshire\, LS14 6SG\, United Kingdom
ATTACH;FMTTYPE=image/jpeg:https://getawaygirls.co.uk/wp-content/uploads/2024/01/Cooking-together.jpg
END:VEVENT
BEGIN:VEVENT
DTSTART;TZID=UTC:20260116T160000
DTEND;TZID=UTC:20260116T173000
DTSTAMP:20260421T000855
CREATED:20250904T090255Z
LAST-MODIFIED:20250904T090738Z
UID:10001354-1768579200-1768584600@getawaygirls.co.uk
SUMMARY:Girls Zone 11-13yrs
DESCRIPTION:Girls Zone for girls aged 11-13yrs
URL:https://getawaygirls.co.uk/group/girls-zone-11-13yrs/2026-01-16/
LOCATION:Getaway Girls\, 19 Brooklands Avenue\, Leeds\, West Yorkshire\, LS14 6SG\, United Kingdom
ATTACH;FMTTYPE=image/jpeg:https://getawaygirls.co.uk/wp-content/uploads/2024/01/Girls-space.jpg
END:VEVENT
BEGIN:VEVENT
DTSTART;TZID=UTC:20260116T160000
DTEND;TZID=UTC:20260116T173000
DTSTAMP:20260421T000855
CREATED:20250904T091116Z
LAST-MODIFIED:20251208T163547Z
UID:10001394-1768579200-1768584600@getawaygirls.co.uk
SUMMARY:BassLines - music Group 14-19
DESCRIPTION:Music Group for your women aged 14-19yrs
URL:https://getawaygirls.co.uk/group/sister-sound-salon-music-group-14-19-2/2026-01-16/
LOCATION:Getaway Girls\, 19 Brooklands Avenue\, Leeds\, West Yorkshire\, LS14 6SG\, United Kingdom
ATTACH;FMTTYPE=image/jpeg:https://getawaygirls.co.uk/wp-content/uploads/2025/01/Music-Group.jpg
END:VEVENT
BEGIN:VEVENT
DTSTART;TZID=UTC:20260119T160000
DTEND;TZID=UTC:20260119T173000
DTSTAMP:20260421T000855
CREATED:20250904T082826Z
LAST-MODIFIED:20250904T082924Z
UID:10001110-1768838400-1768843800@getawaygirls.co.uk
SUMMARY:Girls Squad 8-11yrs
DESCRIPTION:Girls Space for girls aged 8-11yrs
URL:https://getawaygirls.co.uk/group/girls-squad-8-11yrs-4/2026-01-19/
LOCATION:Getaway Girls\, 19 Brooklands Avenue\, Leeds\, West Yorkshire\, LS14 6SG\, United Kingdom
ATTACH;FMTTYPE=image/jpeg:https://getawaygirls.co.uk/wp-content/uploads/2024/01/Girls-space.jpg
END:VEVENT
BEGIN:VEVENT
DTSTART;TZID=UTC:20260120T153000
DTEND;TZID=UTC:20260120T173000
DTSTAMP:20260421T000855
CREATED:20250904T083315Z
LAST-MODIFIED:20250904T083911Z
UID:10001161-1768923000-1768930200@getawaygirls.co.uk
SUMMARY:Girls space 13-17yrs
DESCRIPTION:Girls Space for young women aged 13-17yrs
URL:https://getawaygirls.co.uk/group/girls-space-13-16yrs-5/2026-01-20/
LOCATION:Getaway Girls\, 19 Brooklands Avenue\, Leeds\, West Yorkshire\, LS14 6SG\, United Kingdom
ATTACH;FMTTYPE=image/jpeg:https://getawaygirls.co.uk/wp-content/uploads/2024/01/Girls-space.jpg
END:VEVENT
BEGIN:VEVENT
DTSTART;TZID=UTC:20260121T123000
DTEND;TZID=UTC:20260121T143000
DTSTAMP:20260421T000855
CREATED:20250904T083545Z
LAST-MODIFIED:20260327T164812Z
UID:10001517-1768998600-1769005800@getawaygirls.co.uk
SUMMARY:Proud to be Mum group
DESCRIPTION:Proud to be Mums group\, 18- 25yrs\, with creché
URL:https://getawaygirls.co.uk/group/proud-to-be-mum-group-9/2026-01-21/
LOCATION:Getaway Girls\, 19 Brooklands Avenue\, Leeds\, West Yorkshire\, LS14 6SG\, United Kingdom
ATTACH;FMTTYPE=image/jpeg:https://getawaygirls.co.uk/wp-content/uploads/2024/01/Proud-to-be-Mum.jpg
END:VEVENT
BEGIN:VEVENT
DTSTART;TZID=UTC:20260121T153000
DTEND;TZID=UTC:20260121T173000
DTSTAMP:20260421T000855
CREATED:20250904T085053Z
LAST-MODIFIED:20260327T165606Z
UID:10001238-1769009400-1769016600@getawaygirls.co.uk
SUMMARY:Girls space 12-14yrs
DESCRIPTION:Girls Space for young women aged 12-14yrs
URL:https://getawaygirls.co.uk/group/girls-space-13-17yrs/2026-01-21/
LOCATION:Getaway Girls\, 19 Brooklands Avenue\, Leeds\, West Yorkshire\, LS14 6SG\, United Kingdom
ATTACH;FMTTYPE=image/jpeg:https://getawaygirls.co.uk/wp-content/uploads/2024/01/Girls-space.jpg
END:VEVENT
BEGIN:VEVENT
DTSTART;TZID=UTC:20260122T160000
DTEND;TZID=UTC:20260122T173000
DTSTAMP:20260421T000855
CREATED:20250904T085534Z
LAST-MODIFIED:20250904T085633Z
UID:10001263-1769097600-1769103000@getawaygirls.co.uk
SUMMARY:Vocal Girls
DESCRIPTION:Campaigning Group for young women 15-19yrs
URL:https://getawaygirls.co.uk/group/vocal-girls-6/2026-01-22/
LOCATION:Getaway Girls\, 19 Brooklands Avenue\, Leeds\, West Yorkshire\, LS14 6SG\, United Kingdom
ATTACH;FMTTYPE=image/jpeg:https://getawaygirls.co.uk/wp-content/uploads/2024/10/Vocal-Girls-event-2.jpg
END:VEVENT
BEGIN:VEVENT
DTSTART;TZID=UTC:20260123T130000
DTEND;TZID=UTC:20260123T143000
DTSTAMP:20260421T000855
CREATED:20250904T085900Z
LAST-MODIFIED:20250904T090645Z
UID:10001304-1769173200-1769178600@getawaygirls.co.uk
SUMMARY:Cooking together
DESCRIPTION:Cooking together for young women aged 16-25 yrs\, creché available
URL:https://getawaygirls.co.uk/group/cooking-together-13/2026-01-23/
LOCATION:Getaway Girls\, 19 Brooklands Avenue\, Leeds\, West Yorkshire\, LS14 6SG\, United Kingdom
ATTACH;FMTTYPE=image/jpeg:https://getawaygirls.co.uk/wp-content/uploads/2024/01/Cooking-together.jpg
END:VEVENT
BEGIN:VEVENT
DTSTART;TZID=UTC:20260123T160000
DTEND;TZID=UTC:20260123T173000
DTSTAMP:20260421T000855
CREATED:20250904T090255Z
LAST-MODIFIED:20250904T090738Z
UID:10001355-1769184000-1769189400@getawaygirls.co.uk
SUMMARY:Girls Zone 11-13yrs
DESCRIPTION:Girls Zone for girls aged 11-13yrs
URL:https://getawaygirls.co.uk/group/girls-zone-11-13yrs/2026-01-23/
LOCATION:Getaway Girls\, 19 Brooklands Avenue\, Leeds\, West Yorkshire\, LS14 6SG\, United Kingdom
ATTACH;FMTTYPE=image/jpeg:https://getawaygirls.co.uk/wp-content/uploads/2024/01/Girls-space.jpg
END:VEVENT
BEGIN:VEVENT
DTSTART;TZID=UTC:20260123T160000
DTEND;TZID=UTC:20260123T173000
DTSTAMP:20260421T000855
CREATED:20250904T091116Z
LAST-MODIFIED:20251208T163547Z
UID:10001395-1769184000-1769189400@getawaygirls.co.uk
SUMMARY:BassLines - music Group 14-19
DESCRIPTION:Music Group for your women aged 14-19yrs
URL:https://getawaygirls.co.uk/group/sister-sound-salon-music-group-14-19-2/2026-01-23/
LOCATION:Getaway Girls\, 19 Brooklands Avenue\, Leeds\, West Yorkshire\, LS14 6SG\, United Kingdom
ATTACH;FMTTYPE=image/jpeg:https://getawaygirls.co.uk/wp-content/uploads/2025/01/Music-Group.jpg
END:VEVENT
BEGIN:VEVENT
DTSTART;TZID=UTC:20260126T160000
DTEND;TZID=UTC:20260126T173000
DTSTAMP:20260421T000855
CREATED:20250904T082826Z
LAST-MODIFIED:20250904T082924Z
UID:10001111-1769443200-1769448600@getawaygirls.co.uk
SUMMARY:Girls Squad 8-11yrs
DESCRIPTION:Girls Space for girls aged 8-11yrs
URL:https://getawaygirls.co.uk/group/girls-squad-8-11yrs-4/2026-01-26/
LOCATION:Getaway Girls\, 19 Brooklands Avenue\, Leeds\, West Yorkshire\, LS14 6SG\, United Kingdom
ATTACH;FMTTYPE=image/jpeg:https://getawaygirls.co.uk/wp-content/uploads/2024/01/Girls-space.jpg
END:VEVENT
BEGIN:VEVENT
DTSTART;TZID=UTC:20260127T153000
DTEND;TZID=UTC:20260127T173000
DTSTAMP:20260421T000855
CREATED:20250904T083315Z
LAST-MODIFIED:20250904T083911Z
UID:10001162-1769527800-1769535000@getawaygirls.co.uk
SUMMARY:Girls space 13-17yrs
DESCRIPTION:Girls Space for young women aged 13-17yrs
URL:https://getawaygirls.co.uk/group/girls-space-13-16yrs-5/2026-01-27/
LOCATION:Getaway Girls\, 19 Brooklands Avenue\, Leeds\, West Yorkshire\, LS14 6SG\, United Kingdom
ATTACH;FMTTYPE=image/jpeg:https://getawaygirls.co.uk/wp-content/uploads/2024/01/Girls-space.jpg
END:VEVENT
BEGIN:VEVENT
DTSTART;TZID=UTC:20260128T123000
DTEND;TZID=UTC:20260128T143000
DTSTAMP:20260421T000855
CREATED:20250904T083545Z
LAST-MODIFIED:20260327T164812Z
UID:10001518-1769603400-1769610600@getawaygirls.co.uk
SUMMARY:Proud to be Mum group
DESCRIPTION:Proud to be Mums group\, 18- 25yrs\, with creché
URL:https://getawaygirls.co.uk/group/proud-to-be-mum-group-9/2026-01-28/
LOCATION:Getaway Girls\, 19 Brooklands Avenue\, Leeds\, West Yorkshire\, LS14 6SG\, United Kingdom
ATTACH;FMTTYPE=image/jpeg:https://getawaygirls.co.uk/wp-content/uploads/2024/01/Proud-to-be-Mum.jpg
END:VEVENT
BEGIN:VEVENT
DTSTART;TZID=UTC:20260128T153000
DTEND;TZID=UTC:20260128T173000
DTSTAMP:20260421T000855
CREATED:20250904T085053Z
LAST-MODIFIED:20260327T165606Z
UID:10001239-1769614200-1769621400@getawaygirls.co.uk
SUMMARY:Girls space 12-14yrs
DESCRIPTION:Girls Space for young women aged 12-14yrs
URL:https://getawaygirls.co.uk/group/girls-space-13-17yrs/2026-01-28/
LOCATION:Getaway Girls\, 19 Brooklands Avenue\, Leeds\, West Yorkshire\, LS14 6SG\, United Kingdom
ATTACH;FMTTYPE=image/jpeg:https://getawaygirls.co.uk/wp-content/uploads/2024/01/Girls-space.jpg
END:VEVENT
BEGIN:VEVENT
DTSTART;TZID=UTC:20260129T160000
DTEND;TZID=UTC:20260129T173000
DTSTAMP:20260421T000855
CREATED:20250904T085534Z
LAST-MODIFIED:20250904T085633Z
UID:10001264-1769702400-1769707800@getawaygirls.co.uk
SUMMARY:Vocal Girls
DESCRIPTION:Campaigning Group for young women 15-19yrs
URL:https://getawaygirls.co.uk/group/vocal-girls-6/2026-01-29/
LOCATION:Getaway Girls\, 19 Brooklands Avenue\, Leeds\, West Yorkshire\, LS14 6SG\, United Kingdom
ATTACH;FMTTYPE=image/jpeg:https://getawaygirls.co.uk/wp-content/uploads/2024/10/Vocal-Girls-event-2.jpg
END:VEVENT
BEGIN:VEVENT
DTSTART;TZID=UTC:20260130T130000
DTEND;TZID=UTC:20260130T143000
DTSTAMP:20260421T000855
CREATED:20250904T085900Z
LAST-MODIFIED:20250904T090645Z
UID:10001305-1769778000-1769783400@getawaygirls.co.uk
SUMMARY:Cooking together
DESCRIPTION:Cooking together for young women aged 16-25 yrs\, creché available
URL:https://getawaygirls.co.uk/group/cooking-together-13/2026-01-30/
LOCATION:Getaway Girls\, 19 Brooklands Avenue\, Leeds\, West Yorkshire\, LS14 6SG\, United Kingdom
ATTACH;FMTTYPE=image/jpeg:https://getawaygirls.co.uk/wp-content/uploads/2024/01/Cooking-together.jpg
END:VEVENT
BEGIN:VEVENT
DTSTART;TZID=UTC:20260130T160000
DTEND;TZID=UTC:20260130T173000
DTSTAMP:20260421T000855
CREATED:20250904T090255Z
LAST-MODIFIED:20250904T090738Z
UID:10001356-1769788800-1769794200@getawaygirls.co.uk
SUMMARY:Girls Zone 11-13yrs
DESCRIPTION:Girls Zone for girls aged 11-13yrs
URL:https://getawaygirls.co.uk/group/girls-zone-11-13yrs/2026-01-30/
LOCATION:Getaway Girls\, 19 Brooklands Avenue\, Leeds\, West Yorkshire\, LS14 6SG\, United Kingdom
ATTACH;FMTTYPE=image/jpeg:https://getawaygirls.co.uk/wp-content/uploads/2024/01/Girls-space.jpg
END:VEVENT
BEGIN:VEVENT
DTSTART;TZID=UTC:20260130T160000
DTEND;TZID=UTC:20260130T173000
DTSTAMP:20260421T000855
CREATED:20250904T091116Z
LAST-MODIFIED:20251208T163547Z
UID:10001396-1769788800-1769794200@getawaygirls.co.uk
SUMMARY:BassLines - music Group 14-19
DESCRIPTION:Music Group for your women aged 14-19yrs
URL:https://getawaygirls.co.uk/group/sister-sound-salon-music-group-14-19-2/2026-01-30/
LOCATION:Getaway Girls\, 19 Brooklands Avenue\, Leeds\, West Yorkshire\, LS14 6SG\, United Kingdom
ATTACH;FMTTYPE=image/jpeg:https://getawaygirls.co.uk/wp-content/uploads/2025/01/Music-Group.jpg
END:VEVENT
BEGIN:VEVENT
DTSTART;TZID=UTC:20260202T160000
DTEND;TZID=UTC:20260202T173000
DTSTAMP:20260421T000855
CREATED:20250904T082826Z
LAST-MODIFIED:20250904T082924Z
UID:10001112-1770048000-1770053400@getawaygirls.co.uk
SUMMARY:Girls Squad 8-11yrs
DESCRIPTION:Girls Space for girls aged 8-11yrs
URL:https://getawaygirls.co.uk/group/girls-squad-8-11yrs-4/2026-02-02/
LOCATION:Getaway Girls\, 19 Brooklands Avenue\, Leeds\, West Yorkshire\, LS14 6SG\, United Kingdom
ATTACH;FMTTYPE=image/jpeg:https://getawaygirls.co.uk/wp-content/uploads/2024/01/Girls-space.jpg
END:VEVENT
END:VCALENDAR