BEGIN:VCALENDAR
VERSION:2.0
PRODID:-//Getaway Girls - ECPv6.15.20//NONSGML v1.0//EN
CALSCALE:GREGORIAN
METHOD:PUBLISH
X-WR-CALNAME:Getaway Girls
X-ORIGINAL-URL:https://getawaygirls.co.uk
X-WR-CALDESC:Events for Getaway Girls
REFRESH-INTERVAL;VALUE=DURATION:PT1H
X-Robots-Tag:noindex
X-PUBLISHED-TTL:PT1H
BEGIN:VTIMEZONE
TZID:UTC
BEGIN:STANDARD
TZOFFSETFROM:+0000
TZOFFSETTO:+0000
TZNAME:UTC
DTSTART:20240101T000000
END:STANDARD
END:VTIMEZONE
BEGIN:VEVENT
DTSTART;TZID=UTC:20250917T123000
DTEND;TZID=UTC:20250917T143000
DTSTAMP:20260421T012440
CREATED:20250904T083545Z
LAST-MODIFIED:20260327T164812Z
UID:10001499-1758112200-1758119400@getawaygirls.co.uk
SUMMARY:Proud to be Mum group
DESCRIPTION:Proud to be Mums group\, 18- 25yrs\, with creché
URL:https://getawaygirls.co.uk/group/proud-to-be-mum-group-9/2025-09-17/
LOCATION:Getaway Girls\, 19 Brooklands Avenue\, Leeds\, West Yorkshire\, LS14 6SG\, United Kingdom
ATTACH;FMTTYPE=image/jpeg:https://getawaygirls.co.uk/wp-content/uploads/2024/01/Proud-to-be-Mum.jpg
END:VEVENT
BEGIN:VEVENT
DTSTART;TZID=UTC:20250917T153000
DTEND;TZID=UTC:20250917T173000
DTSTAMP:20260421T012440
CREATED:20250904T085053Z
LAST-MODIFIED:20260327T165606Z
UID:10001220-1758123000-1758130200@getawaygirls.co.uk
SUMMARY:Girls space 12-14yrs
DESCRIPTION:Girls Space for young women aged 12-14yrs
URL:https://getawaygirls.co.uk/group/girls-space-13-17yrs/2025-09-17/
LOCATION:Getaway Girls\, 19 Brooklands Avenue\, Leeds\, West Yorkshire\, LS14 6SG\, United Kingdom
ATTACH;FMTTYPE=image/jpeg:https://getawaygirls.co.uk/wp-content/uploads/2024/01/Girls-space.jpg
END:VEVENT
BEGIN:VEVENT
DTSTART;TZID=UTC:20250918T160000
DTEND;TZID=UTC:20250918T173000
DTSTAMP:20260421T012440
CREATED:20250904T085534Z
LAST-MODIFIED:20250904T085633Z
UID:10001245-1758211200-1758216600@getawaygirls.co.uk
SUMMARY:Vocal Girls
DESCRIPTION:Campaigning Group for young women 15-19yrs
URL:https://getawaygirls.co.uk/group/vocal-girls-6/2025-09-18/
LOCATION:Getaway Girls\, 19 Brooklands Avenue\, Leeds\, West Yorkshire\, LS14 6SG\, United Kingdom
ATTACH;FMTTYPE=image/jpeg:https://getawaygirls.co.uk/wp-content/uploads/2024/10/Vocal-Girls-event-2.jpg
END:VEVENT
BEGIN:VEVENT
DTSTART;TZID=UTC:20250919T130000
DTEND;TZID=UTC:20250919T143000
DTSTAMP:20260421T012440
CREATED:20250904T085900Z
LAST-MODIFIED:20250904T090645Z
UID:10001286-1758286800-1758292200@getawaygirls.co.uk
SUMMARY:Cooking together
DESCRIPTION:Cooking together for young women aged 16-25 yrs\, creché available
URL:https://getawaygirls.co.uk/group/cooking-together-13/2025-09-19/
LOCATION:Getaway Girls\, 19 Brooklands Avenue\, Leeds\, West Yorkshire\, LS14 6SG\, United Kingdom
ATTACH;FMTTYPE=image/jpeg:https://getawaygirls.co.uk/wp-content/uploads/2024/01/Cooking-together.jpg
END:VEVENT
BEGIN:VEVENT
DTSTART;TZID=UTC:20250919T160000
DTEND;TZID=UTC:20250919T173000
DTSTAMP:20260421T012440
CREATED:20250904T090255Z
LAST-MODIFIED:20250904T090738Z
UID:10001337-1758297600-1758303000@getawaygirls.co.uk
SUMMARY:Girls Zone 11-13yrs
DESCRIPTION:Girls Zone for girls aged 11-13yrs
URL:https://getawaygirls.co.uk/group/girls-zone-11-13yrs/2025-09-19/
LOCATION:Getaway Girls\, 19 Brooklands Avenue\, Leeds\, West Yorkshire\, LS14 6SG\, United Kingdom
ATTACH;FMTTYPE=image/jpeg:https://getawaygirls.co.uk/wp-content/uploads/2024/01/Girls-space.jpg
END:VEVENT
BEGIN:VEVENT
DTSTART;TZID=UTC:20250919T160000
DTEND;TZID=UTC:20250919T173000
DTSTAMP:20260421T012440
CREATED:20250904T091116Z
LAST-MODIFIED:20251208T163547Z
UID:10001377-1758297600-1758303000@getawaygirls.co.uk
SUMMARY:BassLines - music Group 14-19
DESCRIPTION:Music Group for your women aged 14-19yrs
URL:https://getawaygirls.co.uk/group/sister-sound-salon-music-group-14-19-2/2025-09-19/
LOCATION:Getaway Girls\, 19 Brooklands Avenue\, Leeds\, West Yorkshire\, LS14 6SG\, United Kingdom
ATTACH;FMTTYPE=image/jpeg:https://getawaygirls.co.uk/wp-content/uploads/2025/01/Music-Group.jpg
END:VEVENT
BEGIN:VEVENT
DTSTART;TZID=UTC:20250922T160000
DTEND;TZID=UTC:20250922T173000
DTSTAMP:20260421T012440
CREATED:20250904T082826Z
LAST-MODIFIED:20250904T082924Z
UID:10001093-1758556800-1758562200@getawaygirls.co.uk
SUMMARY:Girls Squad 8-11yrs
DESCRIPTION:Girls Space for girls aged 8-11yrs
URL:https://getawaygirls.co.uk/group/girls-squad-8-11yrs-4/2025-09-22/
LOCATION:Getaway Girls\, 19 Brooklands Avenue\, Leeds\, West Yorkshire\, LS14 6SG\, United Kingdom
ATTACH;FMTTYPE=image/jpeg:https://getawaygirls.co.uk/wp-content/uploads/2024/01/Girls-space.jpg
END:VEVENT
BEGIN:VEVENT
DTSTART;TZID=UTC:20250923T153000
DTEND;TZID=UTC:20250923T173000
DTSTAMP:20260421T012440
CREATED:20250904T083315Z
LAST-MODIFIED:20250904T083911Z
UID:10001144-1758641400-1758648600@getawaygirls.co.uk
SUMMARY:Girls space 13-17yrs
DESCRIPTION:Girls Space for young women aged 13-17yrs
URL:https://getawaygirls.co.uk/group/girls-space-13-16yrs-5/2025-09-23/
LOCATION:Getaway Girls\, 19 Brooklands Avenue\, Leeds\, West Yorkshire\, LS14 6SG\, United Kingdom
ATTACH;FMTTYPE=image/jpeg:https://getawaygirls.co.uk/wp-content/uploads/2024/01/Girls-space.jpg
END:VEVENT
BEGIN:VEVENT
DTSTART;TZID=UTC:20250924T123000
DTEND;TZID=UTC:20250924T143000
DTSTAMP:20260421T012440
CREATED:20250904T083545Z
LAST-MODIFIED:20260327T164812Z
UID:10001500-1758717000-1758724200@getawaygirls.co.uk
SUMMARY:Proud to be Mum group
DESCRIPTION:Proud to be Mums group\, 18- 25yrs\, with creché
URL:https://getawaygirls.co.uk/group/proud-to-be-mum-group-9/2025-09-24/
LOCATION:Getaway Girls\, 19 Brooklands Avenue\, Leeds\, West Yorkshire\, LS14 6SG\, United Kingdom
ATTACH;FMTTYPE=image/jpeg:https://getawaygirls.co.uk/wp-content/uploads/2024/01/Proud-to-be-Mum.jpg
END:VEVENT
BEGIN:VEVENT
DTSTART;TZID=UTC:20250924T153000
DTEND;TZID=UTC:20250924T173000
DTSTAMP:20260421T012440
CREATED:20250904T085053Z
LAST-MODIFIED:20260327T165606Z
UID:10001221-1758727800-1758735000@getawaygirls.co.uk
SUMMARY:Girls space 12-14yrs
DESCRIPTION:Girls Space for young women aged 12-14yrs
URL:https://getawaygirls.co.uk/group/girls-space-13-17yrs/2025-09-24/
LOCATION:Getaway Girls\, 19 Brooklands Avenue\, Leeds\, West Yorkshire\, LS14 6SG\, United Kingdom
ATTACH;FMTTYPE=image/jpeg:https://getawaygirls.co.uk/wp-content/uploads/2024/01/Girls-space.jpg
END:VEVENT
BEGIN:VEVENT
DTSTART;TZID=UTC:20250925T160000
DTEND;TZID=UTC:20250925T173000
DTSTAMP:20260421T012440
CREATED:20250904T085534Z
LAST-MODIFIED:20250904T085633Z
UID:10001246-1758816000-1758821400@getawaygirls.co.uk
SUMMARY:Vocal Girls
DESCRIPTION:Campaigning Group for young women 15-19yrs
URL:https://getawaygirls.co.uk/group/vocal-girls-6/2025-09-25/
LOCATION:Getaway Girls\, 19 Brooklands Avenue\, Leeds\, West Yorkshire\, LS14 6SG\, United Kingdom
ATTACH;FMTTYPE=image/jpeg:https://getawaygirls.co.uk/wp-content/uploads/2024/10/Vocal-Girls-event-2.jpg
END:VEVENT
BEGIN:VEVENT
DTSTART;TZID=UTC:20250926T130000
DTEND;TZID=UTC:20250926T143000
DTSTAMP:20260421T012440
CREATED:20250904T085900Z
LAST-MODIFIED:20250904T090645Z
UID:10001287-1758891600-1758897000@getawaygirls.co.uk
SUMMARY:Cooking together
DESCRIPTION:Cooking together for young women aged 16-25 yrs\, creché available
URL:https://getawaygirls.co.uk/group/cooking-together-13/2025-09-26/
LOCATION:Getaway Girls\, 19 Brooklands Avenue\, Leeds\, West Yorkshire\, LS14 6SG\, United Kingdom
ATTACH;FMTTYPE=image/jpeg:https://getawaygirls.co.uk/wp-content/uploads/2024/01/Cooking-together.jpg
END:VEVENT
BEGIN:VEVENT
DTSTART;TZID=UTC:20250926T160000
DTEND;TZID=UTC:20250926T173000
DTSTAMP:20260421T012440
CREATED:20250904T090255Z
LAST-MODIFIED:20250904T090738Z
UID:10001338-1758902400-1758907800@getawaygirls.co.uk
SUMMARY:Girls Zone 11-13yrs
DESCRIPTION:Girls Zone for girls aged 11-13yrs
URL:https://getawaygirls.co.uk/group/girls-zone-11-13yrs/2025-09-26/
LOCATION:Getaway Girls\, 19 Brooklands Avenue\, Leeds\, West Yorkshire\, LS14 6SG\, United Kingdom
ATTACH;FMTTYPE=image/jpeg:https://getawaygirls.co.uk/wp-content/uploads/2024/01/Girls-space.jpg
END:VEVENT
BEGIN:VEVENT
DTSTART;TZID=UTC:20250926T160000
DTEND;TZID=UTC:20250926T173000
DTSTAMP:20260421T012440
CREATED:20250904T091116Z
LAST-MODIFIED:20251208T163547Z
UID:10001378-1758902400-1758907800@getawaygirls.co.uk
SUMMARY:BassLines - music Group 14-19
DESCRIPTION:Music Group for your women aged 14-19yrs
URL:https://getawaygirls.co.uk/group/sister-sound-salon-music-group-14-19-2/2025-09-26/
LOCATION:Getaway Girls\, 19 Brooklands Avenue\, Leeds\, West Yorkshire\, LS14 6SG\, United Kingdom
ATTACH;FMTTYPE=image/jpeg:https://getawaygirls.co.uk/wp-content/uploads/2025/01/Music-Group.jpg
END:VEVENT
BEGIN:VEVENT
DTSTART;TZID=UTC:20250929T160000
DTEND;TZID=UTC:20250929T173000
DTSTAMP:20260421T012440
CREATED:20250904T082826Z
LAST-MODIFIED:20250904T082924Z
UID:10001094-1759161600-1759167000@getawaygirls.co.uk
SUMMARY:Girls Squad 8-11yrs
DESCRIPTION:Girls Space for girls aged 8-11yrs
URL:https://getawaygirls.co.uk/group/girls-squad-8-11yrs-4/2025-09-29/
LOCATION:Getaway Girls\, 19 Brooklands Avenue\, Leeds\, West Yorkshire\, LS14 6SG\, United Kingdom
ATTACH;FMTTYPE=image/jpeg:https://getawaygirls.co.uk/wp-content/uploads/2024/01/Girls-space.jpg
END:VEVENT
BEGIN:VEVENT
DTSTART;TZID=UTC:20250930T153000
DTEND;TZID=UTC:20250930T173000
DTSTAMP:20260421T012440
CREATED:20250904T083315Z
LAST-MODIFIED:20250904T083911Z
UID:10001145-1759246200-1759253400@getawaygirls.co.uk
SUMMARY:Girls space 13-17yrs
DESCRIPTION:Girls Space for young women aged 13-17yrs
URL:https://getawaygirls.co.uk/group/girls-space-13-16yrs-5/2025-09-30/
LOCATION:Getaway Girls\, 19 Brooklands Avenue\, Leeds\, West Yorkshire\, LS14 6SG\, United Kingdom
ATTACH;FMTTYPE=image/jpeg:https://getawaygirls.co.uk/wp-content/uploads/2024/01/Girls-space.jpg
END:VEVENT
BEGIN:VEVENT
DTSTART;TZID=UTC:20251001T123000
DTEND;TZID=UTC:20251001T143000
DTSTAMP:20260421T012440
CREATED:20250904T083545Z
LAST-MODIFIED:20260327T164812Z
UID:10001501-1759321800-1759329000@getawaygirls.co.uk
SUMMARY:Proud to be Mum group
DESCRIPTION:Proud to be Mums group\, 18- 25yrs\, with creché
URL:https://getawaygirls.co.uk/group/proud-to-be-mum-group-9/2025-10-01/
LOCATION:Getaway Girls\, 19 Brooklands Avenue\, Leeds\, West Yorkshire\, LS14 6SG\, United Kingdom
ATTACH;FMTTYPE=image/jpeg:https://getawaygirls.co.uk/wp-content/uploads/2024/01/Proud-to-be-Mum.jpg
END:VEVENT
BEGIN:VEVENT
DTSTART;TZID=UTC:20251001T153000
DTEND;TZID=UTC:20251001T173000
DTSTAMP:20260421T012440
CREATED:20250904T085053Z
LAST-MODIFIED:20260327T165606Z
UID:10001222-1759332600-1759339800@getawaygirls.co.uk
SUMMARY:Girls space 12-14yrs
DESCRIPTION:Girls Space for young women aged 12-14yrs
URL:https://getawaygirls.co.uk/group/girls-space-13-17yrs/2025-10-01/
LOCATION:Getaway Girls\, 19 Brooklands Avenue\, Leeds\, West Yorkshire\, LS14 6SG\, United Kingdom
ATTACH;FMTTYPE=image/jpeg:https://getawaygirls.co.uk/wp-content/uploads/2024/01/Girls-space.jpg
END:VEVENT
BEGIN:VEVENT
DTSTART;TZID=UTC:20251002T160000
DTEND;TZID=UTC:20251002T173000
DTSTAMP:20260421T012440
CREATED:20250904T085534Z
LAST-MODIFIED:20250904T085633Z
UID:10001247-1759420800-1759426200@getawaygirls.co.uk
SUMMARY:Vocal Girls
DESCRIPTION:Campaigning Group for young women 15-19yrs
URL:https://getawaygirls.co.uk/group/vocal-girls-6/2025-10-02/
LOCATION:Getaway Girls\, 19 Brooklands Avenue\, Leeds\, West Yorkshire\, LS14 6SG\, United Kingdom
ATTACH;FMTTYPE=image/jpeg:https://getawaygirls.co.uk/wp-content/uploads/2024/10/Vocal-Girls-event-2.jpg
END:VEVENT
BEGIN:VEVENT
DTSTART;TZID=UTC:20251003T130000
DTEND;TZID=UTC:20251003T143000
DTSTAMP:20260421T012440
CREATED:20250904T085900Z
LAST-MODIFIED:20250904T090645Z
UID:10001288-1759496400-1759501800@getawaygirls.co.uk
SUMMARY:Cooking together
DESCRIPTION:Cooking together for young women aged 16-25 yrs\, creché available
URL:https://getawaygirls.co.uk/group/cooking-together-13/2025-10-03/
LOCATION:Getaway Girls\, 19 Brooklands Avenue\, Leeds\, West Yorkshire\, LS14 6SG\, United Kingdom
ATTACH;FMTTYPE=image/jpeg:https://getawaygirls.co.uk/wp-content/uploads/2024/01/Cooking-together.jpg
END:VEVENT
BEGIN:VEVENT
DTSTART;TZID=UTC:20251003T160000
DTEND;TZID=UTC:20251003T173000
DTSTAMP:20260421T012440
CREATED:20250904T090255Z
LAST-MODIFIED:20250904T090738Z
UID:10001339-1759507200-1759512600@getawaygirls.co.uk
SUMMARY:Girls Zone 11-13yrs
DESCRIPTION:Girls Zone for girls aged 11-13yrs
URL:https://getawaygirls.co.uk/group/girls-zone-11-13yrs/2025-10-03/
LOCATION:Getaway Girls\, 19 Brooklands Avenue\, Leeds\, West Yorkshire\, LS14 6SG\, United Kingdom
ATTACH;FMTTYPE=image/jpeg:https://getawaygirls.co.uk/wp-content/uploads/2024/01/Girls-space.jpg
END:VEVENT
BEGIN:VEVENT
DTSTART;TZID=UTC:20251003T160000
DTEND;TZID=UTC:20251003T173000
DTSTAMP:20260421T012440
CREATED:20250904T091116Z
LAST-MODIFIED:20251208T163547Z
UID:10001379-1759507200-1759512600@getawaygirls.co.uk
SUMMARY:BassLines - music Group 14-19
DESCRIPTION:Music Group for your women aged 14-19yrs
URL:https://getawaygirls.co.uk/group/sister-sound-salon-music-group-14-19-2/2025-10-03/
LOCATION:Getaway Girls\, 19 Brooklands Avenue\, Leeds\, West Yorkshire\, LS14 6SG\, United Kingdom
ATTACH;FMTTYPE=image/jpeg:https://getawaygirls.co.uk/wp-content/uploads/2025/01/Music-Group.jpg
END:VEVENT
BEGIN:VEVENT
DTSTART;TZID=UTC:20251006T160000
DTEND;TZID=UTC:20251006T173000
DTSTAMP:20260421T012440
CREATED:20250904T082826Z
LAST-MODIFIED:20250904T082924Z
UID:10001095-1759766400-1759771800@getawaygirls.co.uk
SUMMARY:Girls Squad 8-11yrs
DESCRIPTION:Girls Space for girls aged 8-11yrs
URL:https://getawaygirls.co.uk/group/girls-squad-8-11yrs-4/2025-10-06/
LOCATION:Getaway Girls\, 19 Brooklands Avenue\, Leeds\, West Yorkshire\, LS14 6SG\, United Kingdom
ATTACH;FMTTYPE=image/jpeg:https://getawaygirls.co.uk/wp-content/uploads/2024/01/Girls-space.jpg
END:VEVENT
BEGIN:VEVENT
DTSTART;TZID=UTC:20251007T153000
DTEND;TZID=UTC:20251007T173000
DTSTAMP:20260421T012440
CREATED:20250904T083315Z
LAST-MODIFIED:20250904T083911Z
UID:10001146-1759851000-1759858200@getawaygirls.co.uk
SUMMARY:Girls space 13-17yrs
DESCRIPTION:Girls Space for young women aged 13-17yrs
URL:https://getawaygirls.co.uk/group/girls-space-13-16yrs-5/2025-10-07/
LOCATION:Getaway Girls\, 19 Brooklands Avenue\, Leeds\, West Yorkshire\, LS14 6SG\, United Kingdom
ATTACH;FMTTYPE=image/jpeg:https://getawaygirls.co.uk/wp-content/uploads/2024/01/Girls-space.jpg
END:VEVENT
BEGIN:VEVENT
DTSTART;TZID=UTC:20251008T123000
DTEND;TZID=UTC:20251008T143000
DTSTAMP:20260421T012440
CREATED:20250904T083545Z
LAST-MODIFIED:20260327T164812Z
UID:10001502-1759926600-1759933800@getawaygirls.co.uk
SUMMARY:Proud to be Mum group
DESCRIPTION:Proud to be Mums group\, 18- 25yrs\, with creché
URL:https://getawaygirls.co.uk/group/proud-to-be-mum-group-9/2025-10-08/
LOCATION:Getaway Girls\, 19 Brooklands Avenue\, Leeds\, West Yorkshire\, LS14 6SG\, United Kingdom
ATTACH;FMTTYPE=image/jpeg:https://getawaygirls.co.uk/wp-content/uploads/2024/01/Proud-to-be-Mum.jpg
END:VEVENT
BEGIN:VEVENT
DTSTART;TZID=UTC:20251008T153000
DTEND;TZID=UTC:20251008T173000
DTSTAMP:20260421T012440
CREATED:20250904T085053Z
LAST-MODIFIED:20260327T165606Z
UID:10001223-1759937400-1759944600@getawaygirls.co.uk
SUMMARY:Girls space 12-14yrs
DESCRIPTION:Girls Space for young women aged 12-14yrs
URL:https://getawaygirls.co.uk/group/girls-space-13-17yrs/2025-10-08/
LOCATION:Getaway Girls\, 19 Brooklands Avenue\, Leeds\, West Yorkshire\, LS14 6SG\, United Kingdom
ATTACH;FMTTYPE=image/jpeg:https://getawaygirls.co.uk/wp-content/uploads/2024/01/Girls-space.jpg
END:VEVENT
BEGIN:VEVENT
DTSTART;TZID=UTC:20251009T160000
DTEND;TZID=UTC:20251009T173000
DTSTAMP:20260421T012440
CREATED:20250904T085534Z
LAST-MODIFIED:20250904T085633Z
UID:10001248-1760025600-1760031000@getawaygirls.co.uk
SUMMARY:Vocal Girls
DESCRIPTION:Campaigning Group for young women 15-19yrs
URL:https://getawaygirls.co.uk/group/vocal-girls-6/2025-10-09/
LOCATION:Getaway Girls\, 19 Brooklands Avenue\, Leeds\, West Yorkshire\, LS14 6SG\, United Kingdom
ATTACH;FMTTYPE=image/jpeg:https://getawaygirls.co.uk/wp-content/uploads/2024/10/Vocal-Girls-event-2.jpg
END:VEVENT
BEGIN:VEVENT
DTSTART;TZID=UTC:20251010T130000
DTEND;TZID=UTC:20251010T143000
DTSTAMP:20260421T012440
CREATED:20250904T085900Z
LAST-MODIFIED:20250904T090645Z
UID:10001289-1760101200-1760106600@getawaygirls.co.uk
SUMMARY:Cooking together
DESCRIPTION:Cooking together for young women aged 16-25 yrs\, creché available
URL:https://getawaygirls.co.uk/group/cooking-together-13/2025-10-10/
LOCATION:Getaway Girls\, 19 Brooklands Avenue\, Leeds\, West Yorkshire\, LS14 6SG\, United Kingdom
ATTACH;FMTTYPE=image/jpeg:https://getawaygirls.co.uk/wp-content/uploads/2024/01/Cooking-together.jpg
END:VEVENT
BEGIN:VEVENT
DTSTART;TZID=UTC:20251010T160000
DTEND;TZID=UTC:20251010T173000
DTSTAMP:20260421T012440
CREATED:20250904T090255Z
LAST-MODIFIED:20250904T090738Z
UID:10001340-1760112000-1760117400@getawaygirls.co.uk
SUMMARY:Girls Zone 11-13yrs
DESCRIPTION:Girls Zone for girls aged 11-13yrs
URL:https://getawaygirls.co.uk/group/girls-zone-11-13yrs/2025-10-10/
LOCATION:Getaway Girls\, 19 Brooklands Avenue\, Leeds\, West Yorkshire\, LS14 6SG\, United Kingdom
ATTACH;FMTTYPE=image/jpeg:https://getawaygirls.co.uk/wp-content/uploads/2024/01/Girls-space.jpg
END:VEVENT
BEGIN:VEVENT
DTSTART;TZID=UTC:20251010T160000
DTEND;TZID=UTC:20251010T173000
DTSTAMP:20260421T012440
CREATED:20250904T091116Z
LAST-MODIFIED:20251208T163547Z
UID:10001380-1760112000-1760117400@getawaygirls.co.uk
SUMMARY:BassLines - music Group 14-19
DESCRIPTION:Music Group for your women aged 14-19yrs
URL:https://getawaygirls.co.uk/group/sister-sound-salon-music-group-14-19-2/2025-10-10/
LOCATION:Getaway Girls\, 19 Brooklands Avenue\, Leeds\, West Yorkshire\, LS14 6SG\, United Kingdom
ATTACH;FMTTYPE=image/jpeg:https://getawaygirls.co.uk/wp-content/uploads/2025/01/Music-Group.jpg
END:VEVENT
END:VCALENDAR