BEGIN:VCALENDAR
VERSION:2.0
PRODID:-//Getaway Girls - ECPv6.15.20//NONSGML v1.0//EN
CALSCALE:GREGORIAN
METHOD:PUBLISH
X-WR-CALNAME:Getaway Girls
X-ORIGINAL-URL:https://getawaygirls.co.uk
X-WR-CALDESC:Events for Getaway Girls
REFRESH-INTERVAL;VALUE=DURATION:PT1H
X-Robots-Tag:noindex
X-PUBLISHED-TTL:PT1H
BEGIN:VTIMEZONE
TZID:UTC
BEGIN:STANDARD
TZOFFSETFROM:+0000
TZOFFSETTO:+0000
TZNAME:UTC
DTSTART:20240101T000000
END:STANDARD
END:VTIMEZONE
BEGIN:VEVENT
DTSTART;TZID=UTC:20250526T121500
DTEND;TZID=UTC:20250526T143000
DTSTAMP:20260421T050116
CREATED:20250428T135937Z
LAST-MODIFIED:20250729T060550Z
UID:10000836-1748261700-1748269800@getawaygirls.co.uk
SUMMARY:Proud to be Mum group
DESCRIPTION:Proud to be Mums group\, upto 25yrs\, with creché
URL:https://getawaygirls.co.uk/group/proud-to-be-mum-group-7/2025-05-26/
LOCATION:Getaway Girls\, 19 Brooklands Avenue\, Leeds\, West Yorkshire\, LS14 6SG\, United Kingdom
ATTACH;FMTTYPE=image/jpeg:https://getawaygirls.co.uk/wp-content/uploads/2024/01/Proud-to-be-Mum.jpg
END:VEVENT
BEGIN:VEVENT
DTSTART;TZID=UTC:20250526T153000
DTEND;TZID=UTC:20250526T173000
DTSTAMP:20260421T050116
CREATED:20250618T144608Z
LAST-MODIFIED:20250618T144731Z
UID:10000841-1748273400-1748280600@getawaygirls.co.uk
SUMMARY:Girls Squad 8-10yrs
DESCRIPTION:Girls Space for girls aged 8-10yrs
URL:https://getawaygirls.co.uk/group/girls-squad-8-10yrs/2025-05-26/
LOCATION:Getaway Girls\, 19 Brooklands Avenue\, Leeds\, West Yorkshire\, LS14 6SG\, United Kingdom
ATTACH;FMTTYPE=image/jpeg:https://getawaygirls.co.uk/wp-content/uploads/2024/01/Girls-space.jpg
END:VEVENT
BEGIN:VEVENT
DTSTART;TZID=UTC:20250527T123000
DTEND;TZID=UTC:20250527T140000
DTSTAMP:20260421T050116
CREATED:20250618T144956Z
LAST-MODIFIED:20250618T145117Z
UID:10000968-1748349000-1748354400@getawaygirls.co.uk
SUMMARY:Yoga
DESCRIPTION:Yoga group\, refreshments and creché.
URL:https://getawaygirls.co.uk/group/yoga-4/2025-05-27/
LOCATION:Getaway Girls\, 19 Brooklands Avenue\, Leeds\, West Yorkshire\, LS14 6SG\, United Kingdom
ATTACH;FMTTYPE=image/jpeg:https://getawaygirls.co.uk/wp-content/uploads/2024/01/Yoga.jpg
END:VEVENT
BEGIN:VEVENT
DTSTART;TZID=UTC:20250527T153000
DTEND;TZID=UTC:20250527T173000
DTSTAMP:20260421T050116
CREATED:20250428T140203Z
LAST-MODIFIED:20250428T140245Z
UID:10000846-1748359800-1748367000@getawaygirls.co.uk
SUMMARY:Girls space 13-16yrs
DESCRIPTION:Girls Space for young women aged 13-16yrs
URL:https://getawaygirls.co.uk/group/girls-space-13-16yrs-4/2025-05-27/
LOCATION:Getaway Girls\, 19 Brooklands Avenue\, Leeds\, West Yorkshire\, LS14 6SG\, United Kingdom
ATTACH;FMTTYPE=image/jpeg:https://getawaygirls.co.uk/wp-content/uploads/2024/01/Girls-space.jpg
END:VEVENT
BEGIN:VEVENT
DTSTART;TZID=UTC:20250528T160000
DTEND;TZID=UTC:20250528T173000
DTSTAMP:20260421T050116
CREATED:20250428T140326Z
LAST-MODIFIED:20250618T145305Z
UID:10000978-1748448000-1748453400@getawaygirls.co.uk
SUMMARY:Young women’s space 13-16yrs
DESCRIPTION:Young womens group\, for ages 13-16 yrs
URL:https://getawaygirls.co.uk/group/young-womens-space-13-16yrs-3/2025-05-28/
LOCATION:Shine\, Harehills road\,\, Leeds\, West Yorkshire\, LS8 5HS\, United Kingdom
ATTACH;FMTTYPE=image/jpeg:https://getawaygirls.co.uk/wp-content/uploads/2024/01/Young-womens-space.jpg
END:VEVENT
BEGIN:VEVENT
DTSTART;TZID=UTC:20250529T160000
DTEND;TZID=UTC:20250529T173000
DTSTAMP:20260421T050116
CREATED:20250428T140835Z
LAST-MODIFIED:20250618T145431Z
UID:10000862-1748534400-1748539800@getawaygirls.co.uk
SUMMARY:Vocal Girls
DESCRIPTION:Campaigning Group for girls 15-18yrs
URL:https://getawaygirls.co.uk/group/vocal-girls-5/2025-05-29/
LOCATION:Getaway Girls\, 19 Brooklands Avenue\, Leeds\, West Yorkshire\, LS14 6SG\, United Kingdom
ATTACH;FMTTYPE=image/jpeg:https://getawaygirls.co.uk/wp-content/uploads/2024/10/Vocal-Girls-event-2.jpg
END:VEVENT
BEGIN:VEVENT
DTSTART;TZID=UTC:20250530T123000
DTEND;TZID=UTC:20250530T143000
DTSTAMP:20260421T050116
CREATED:20250729T060752Z
LAST-MODIFIED:20250729T060752Z
UID:10000992-1748608200-1748615400@getawaygirls.co.uk
SUMMARY:Cooking together
DESCRIPTION:Cooking together for young women aged 16-25 yrs\, creché available
URL:https://getawaygirls.co.uk/group/cooking-together-11/2025-05-30/
LOCATION:Getaway Girls\, 19 Brooklands Avenue\, Leeds\, West Yorkshire\, LS14 6SG\, United Kingdom
ATTACH;FMTTYPE=image/jpeg:https://getawaygirls.co.uk/wp-content/uploads/2024/01/Cooking-together.jpg
END:VEVENT
BEGIN:VEVENT
DTSTART;TZID=UTC:20250530T160000
DTEND;TZID=UTC:20250530T173000
DTSTAMP:20260421T050116
CREATED:20250403T101326Z
LAST-MODIFIED:20250618T145621Z
UID:10001002-1748620800-1748626200@getawaygirls.co.uk
SUMMARY:Girls Squad 11-13yrs
DESCRIPTION:Girls Space for young women aged 11-13yrs
URL:https://getawaygirls.co.uk/group/girls-space-11-13yrs-2/2025-05-30/
LOCATION:Getaway Girls\, 19 Brooklands Avenue\, Leeds\, West Yorkshire\, LS14 6SG\, United Kingdom
ATTACH;FMTTYPE=image/jpeg:https://getawaygirls.co.uk/wp-content/uploads/2024/01/Girls-space.jpg
END:VEVENT
BEGIN:VEVENT
DTSTART;TZID=UTC:20250602T121500
DTEND;TZID=UTC:20250602T143000
DTSTAMP:20260421T050116
CREATED:20250428T135937Z
LAST-MODIFIED:20250729T060550Z
UID:10000837-1748866500-1748874600@getawaygirls.co.uk
SUMMARY:Proud to be Mum group
DESCRIPTION:Proud to be Mums group\, upto 25yrs\, with creché
URL:https://getawaygirls.co.uk/group/proud-to-be-mum-group-7/2025-06-02/
LOCATION:Getaway Girls\, 19 Brooklands Avenue\, Leeds\, West Yorkshire\, LS14 6SG\, United Kingdom
ATTACH;FMTTYPE=image/jpeg:https://getawaygirls.co.uk/wp-content/uploads/2024/01/Proud-to-be-Mum.jpg
END:VEVENT
BEGIN:VEVENT
DTSTART;TZID=UTC:20250602T153000
DTEND;TZID=UTC:20250602T173000
DTSTAMP:20260421T050116
CREATED:20250618T144608Z
LAST-MODIFIED:20250618T144731Z
UID:10000868-1748878200-1748885400@getawaygirls.co.uk
SUMMARY:Girls Squad 8-10yrs
DESCRIPTION:Girls Space for girls aged 8-10yrs
URL:https://getawaygirls.co.uk/group/girls-squad-8-10yrs/2025-06-02/
LOCATION:Getaway Girls\, 19 Brooklands Avenue\, Leeds\, West Yorkshire\, LS14 6SG\, United Kingdom
ATTACH;FMTTYPE=image/jpeg:https://getawaygirls.co.uk/wp-content/uploads/2024/01/Girls-space.jpg
END:VEVENT
BEGIN:VEVENT
DTSTART;TZID=UTC:20250603T123000
DTEND;TZID=UTC:20250603T140000
DTSTAMP:20260421T050116
CREATED:20250618T144956Z
LAST-MODIFIED:20250618T145117Z
UID:10000969-1748953800-1748959200@getawaygirls.co.uk
SUMMARY:Yoga
DESCRIPTION:Yoga group\, refreshments and creché.
URL:https://getawaygirls.co.uk/group/yoga-4/2025-06-03/
LOCATION:Getaway Girls\, 19 Brooklands Avenue\, Leeds\, West Yorkshire\, LS14 6SG\, United Kingdom
ATTACH;FMTTYPE=image/jpeg:https://getawaygirls.co.uk/wp-content/uploads/2024/01/Yoga.jpg
END:VEVENT
BEGIN:VEVENT
DTSTART;TZID=UTC:20250603T153000
DTEND;TZID=UTC:20250603T173000
DTSTAMP:20260421T050116
CREATED:20250428T140203Z
LAST-MODIFIED:20250428T140245Z
UID:10000847-1748964600-1748971800@getawaygirls.co.uk
SUMMARY:Girls space 13-16yrs
DESCRIPTION:Girls Space for young women aged 13-16yrs
URL:https://getawaygirls.co.uk/group/girls-space-13-16yrs-4/2025-06-03/
LOCATION:Getaway Girls\, 19 Brooklands Avenue\, Leeds\, West Yorkshire\, LS14 6SG\, United Kingdom
ATTACH;FMTTYPE=image/jpeg:https://getawaygirls.co.uk/wp-content/uploads/2024/01/Girls-space.jpg
END:VEVENT
BEGIN:VEVENT
DTSTART;TZID=UTC:20250604T160000
DTEND;TZID=UTC:20250604T173000
DTSTAMP:20260421T050116
CREATED:20250428T140326Z
LAST-MODIFIED:20250618T145305Z
UID:10000979-1749052800-1749058200@getawaygirls.co.uk
SUMMARY:Young women’s space 13-16yrs
DESCRIPTION:Young womens group\, for ages 13-16 yrs
URL:https://getawaygirls.co.uk/group/young-womens-space-13-16yrs-3/2025-06-04/
LOCATION:Shine\, Harehills road\,\, Leeds\, West Yorkshire\, LS8 5HS\, United Kingdom
ATTACH;FMTTYPE=image/jpeg:https://getawaygirls.co.uk/wp-content/uploads/2024/01/Young-womens-space.jpg
END:VEVENT
BEGIN:VEVENT
DTSTART;TZID=UTC:20250605T160000
DTEND;TZID=UTC:20250605T173000
DTSTAMP:20260421T050116
CREATED:20250428T140835Z
LAST-MODIFIED:20250618T145431Z
UID:10000983-1749139200-1749144600@getawaygirls.co.uk
SUMMARY:Vocal Girls
DESCRIPTION:Campaigning Group for girls 15-18yrs
URL:https://getawaygirls.co.uk/group/vocal-girls-5/2025-06-05/
LOCATION:Getaway Girls\, 19 Brooklands Avenue\, Leeds\, West Yorkshire\, LS14 6SG\, United Kingdom
ATTACH;FMTTYPE=image/jpeg:https://getawaygirls.co.uk/wp-content/uploads/2024/10/Vocal-Girls-event-2.jpg
END:VEVENT
BEGIN:VEVENT
DTSTART;TZID=UTC:20250606T123000
DTEND;TZID=UTC:20250606T143000
DTSTAMP:20260421T050116
CREATED:20250729T060752Z
LAST-MODIFIED:20250729T060752Z
UID:10000993-1749213000-1749220200@getawaygirls.co.uk
SUMMARY:Cooking together
DESCRIPTION:Cooking together for young women aged 16-25 yrs\, creché available
URL:https://getawaygirls.co.uk/group/cooking-together-11/2025-06-06/
LOCATION:Getaway Girls\, 19 Brooklands Avenue\, Leeds\, West Yorkshire\, LS14 6SG\, United Kingdom
ATTACH;FMTTYPE=image/jpeg:https://getawaygirls.co.uk/wp-content/uploads/2024/01/Cooking-together.jpg
END:VEVENT
BEGIN:VEVENT
DTSTART;TZID=UTC:20250606T160000
DTEND;TZID=UTC:20250606T173000
DTSTAMP:20260421T050116
CREATED:20250403T101326Z
LAST-MODIFIED:20250618T145621Z
UID:10001003-1749225600-1749231000@getawaygirls.co.uk
SUMMARY:Girls Squad 11-13yrs
DESCRIPTION:Girls Space for young women aged 11-13yrs
URL:https://getawaygirls.co.uk/group/girls-space-11-13yrs-2/2025-06-06/
LOCATION:Getaway Girls\, 19 Brooklands Avenue\, Leeds\, West Yorkshire\, LS14 6SG\, United Kingdom
ATTACH;FMTTYPE=image/jpeg:https://getawaygirls.co.uk/wp-content/uploads/2024/01/Girls-space.jpg
END:VEVENT
BEGIN:VEVENT
DTSTART;TZID=UTC:20250606T160000
DTEND;TZID=UTC:20250606T173000
DTSTAMP:20260421T050116
CREATED:20250618T145929Z
LAST-MODIFIED:20250618T145929Z
UID:10001018-1749225600-1749231000@getawaygirls.co.uk
SUMMARY:Sister Sound Salon - music Group 16-21
DESCRIPTION:Music Group for your women aged 16-21yrs
URL:https://getawaygirls.co.uk/group/sister-sound-salon-music-group-16-21/2025-06-06/
LOCATION:Getaway Girls\, 19 Brooklands Avenue\, Leeds\, West Yorkshire\, LS14 6SG\, United Kingdom
ATTACH;FMTTYPE=image/jpeg:https://getawaygirls.co.uk/wp-content/uploads/2025/01/Music-Group.jpg
END:VEVENT
BEGIN:VEVENT
DTSTART;TZID=UTC:20250609T121500
DTEND;TZID=UTC:20250609T143000
DTSTAMP:20260421T050116
CREATED:20250428T135937Z
LAST-MODIFIED:20250729T060550Z
UID:10001022-1749471300-1749479400@getawaygirls.co.uk
SUMMARY:Proud to be Mum group
DESCRIPTION:Proud to be Mums group\, upto 25yrs\, with creché
URL:https://getawaygirls.co.uk/group/proud-to-be-mum-group-7/2025-06-09/
LOCATION:Getaway Girls\, 19 Brooklands Avenue\, Leeds\, West Yorkshire\, LS14 6SG\, United Kingdom
ATTACH;FMTTYPE=image/jpeg:https://getawaygirls.co.uk/wp-content/uploads/2024/01/Proud-to-be-Mum.jpg
END:VEVENT
BEGIN:VEVENT
DTSTART;TZID=UTC:20250609T153000
DTEND;TZID=UTC:20250609T173000
DTSTAMP:20260421T050116
CREATED:20250618T144608Z
LAST-MODIFIED:20250618T144731Z
UID:10000869-1749483000-1749490200@getawaygirls.co.uk
SUMMARY:Girls Squad 8-10yrs
DESCRIPTION:Girls Space for girls aged 8-10yrs
URL:https://getawaygirls.co.uk/group/girls-squad-8-10yrs/2025-06-09/
LOCATION:Getaway Girls\, 19 Brooklands Avenue\, Leeds\, West Yorkshire\, LS14 6SG\, United Kingdom
ATTACH;FMTTYPE=image/jpeg:https://getawaygirls.co.uk/wp-content/uploads/2024/01/Girls-space.jpg
END:VEVENT
BEGIN:VEVENT
DTSTART;TZID=UTC:20250610T123000
DTEND;TZID=UTC:20250610T140000
DTSTAMP:20260421T050116
CREATED:20250618T144956Z
LAST-MODIFIED:20250618T145117Z
UID:10000970-1749558600-1749564000@getawaygirls.co.uk
SUMMARY:Yoga
DESCRIPTION:Yoga group\, refreshments and creché.
URL:https://getawaygirls.co.uk/group/yoga-4/2025-06-10/
LOCATION:Getaway Girls\, 19 Brooklands Avenue\, Leeds\, West Yorkshire\, LS14 6SG\, United Kingdom
ATTACH;FMTTYPE=image/jpeg:https://getawaygirls.co.uk/wp-content/uploads/2024/01/Yoga.jpg
END:VEVENT
BEGIN:VEVENT
DTSTART;TZID=UTC:20250610T153000
DTEND;TZID=UTC:20250610T173000
DTSTAMP:20260421T050116
CREATED:20250428T140203Z
LAST-MODIFIED:20250428T140245Z
UID:10000848-1749569400-1749576600@getawaygirls.co.uk
SUMMARY:Girls space 13-16yrs
DESCRIPTION:Girls Space for young women aged 13-16yrs
URL:https://getawaygirls.co.uk/group/girls-space-13-16yrs-4/2025-06-10/
LOCATION:Getaway Girls\, 19 Brooklands Avenue\, Leeds\, West Yorkshire\, LS14 6SG\, United Kingdom
ATTACH;FMTTYPE=image/jpeg:https://getawaygirls.co.uk/wp-content/uploads/2024/01/Girls-space.jpg
END:VEVENT
BEGIN:VEVENT
DTSTART;TZID=UTC:20250611T160000
DTEND;TZID=UTC:20250611T173000
DTSTAMP:20260421T050116
CREATED:20250428T140326Z
LAST-MODIFIED:20250618T145305Z
UID:10000980-1749657600-1749663000@getawaygirls.co.uk
SUMMARY:Young women’s space 13-16yrs
DESCRIPTION:Young womens group\, for ages 13-16 yrs
URL:https://getawaygirls.co.uk/group/young-womens-space-13-16yrs-3/2025-06-11/
LOCATION:Shine\, Harehills road\,\, Leeds\, West Yorkshire\, LS8 5HS\, United Kingdom
ATTACH;FMTTYPE=image/jpeg:https://getawaygirls.co.uk/wp-content/uploads/2024/01/Young-womens-space.jpg
END:VEVENT
BEGIN:VEVENT
DTSTART;TZID=UTC:20250612T160000
DTEND;TZID=UTC:20250612T173000
DTSTAMP:20260421T050116
CREATED:20250428T140835Z
LAST-MODIFIED:20250618T145431Z
UID:10000984-1749744000-1749749400@getawaygirls.co.uk
SUMMARY:Vocal Girls
DESCRIPTION:Campaigning Group for girls 15-18yrs
URL:https://getawaygirls.co.uk/group/vocal-girls-5/2025-06-12/
LOCATION:Getaway Girls\, 19 Brooklands Avenue\, Leeds\, West Yorkshire\, LS14 6SG\, United Kingdom
ATTACH;FMTTYPE=image/jpeg:https://getawaygirls.co.uk/wp-content/uploads/2024/10/Vocal-Girls-event-2.jpg
END:VEVENT
BEGIN:VEVENT
DTSTART;TZID=UTC:20250613T123000
DTEND;TZID=UTC:20250613T143000
DTSTAMP:20260421T050116
CREATED:20250729T060752Z
LAST-MODIFIED:20250729T060752Z
UID:10000994-1749817800-1749825000@getawaygirls.co.uk
SUMMARY:Cooking together
DESCRIPTION:Cooking together for young women aged 16-25 yrs\, creché available
URL:https://getawaygirls.co.uk/group/cooking-together-11/2025-06-13/
LOCATION:Getaway Girls\, 19 Brooklands Avenue\, Leeds\, West Yorkshire\, LS14 6SG\, United Kingdom
ATTACH;FMTTYPE=image/jpeg:https://getawaygirls.co.uk/wp-content/uploads/2024/01/Cooking-together.jpg
END:VEVENT
BEGIN:VEVENT
DTSTART;TZID=UTC:20250613T160000
DTEND;TZID=UTC:20250613T173000
DTSTAMP:20260421T050116
CREATED:20250403T101326Z
LAST-MODIFIED:20250618T145621Z
UID:10001004-1749830400-1749835800@getawaygirls.co.uk
SUMMARY:Girls Squad 11-13yrs
DESCRIPTION:Girls Space for young women aged 11-13yrs
URL:https://getawaygirls.co.uk/group/girls-space-11-13yrs-2/2025-06-13/
LOCATION:Getaway Girls\, 19 Brooklands Avenue\, Leeds\, West Yorkshire\, LS14 6SG\, United Kingdom
ATTACH;FMTTYPE=image/jpeg:https://getawaygirls.co.uk/wp-content/uploads/2024/01/Girls-space.jpg
END:VEVENT
BEGIN:VEVENT
DTSTART;TZID=UTC:20250613T160000
DTEND;TZID=UTC:20250613T173000
DTSTAMP:20260421T050116
CREATED:20250618T145929Z
LAST-MODIFIED:20250618T145929Z
UID:10001019-1749830400-1749835800@getawaygirls.co.uk
SUMMARY:Sister Sound Salon - music Group 16-21
DESCRIPTION:Music Group for your women aged 16-21yrs
URL:https://getawaygirls.co.uk/group/sister-sound-salon-music-group-16-21/2025-06-13/
LOCATION:Getaway Girls\, 19 Brooklands Avenue\, Leeds\, West Yorkshire\, LS14 6SG\, United Kingdom
ATTACH;FMTTYPE=image/jpeg:https://getawaygirls.co.uk/wp-content/uploads/2025/01/Music-Group.jpg
END:VEVENT
BEGIN:VEVENT
DTSTART;TZID=UTC:20250616T121500
DTEND;TZID=UTC:20250616T143000
DTSTAMP:20260421T050116
CREATED:20250428T135937Z
LAST-MODIFIED:20250729T060550Z
UID:10001023-1750076100-1750084200@getawaygirls.co.uk
SUMMARY:Proud to be Mum group
DESCRIPTION:Proud to be Mums group\, upto 25yrs\, with creché
URL:https://getawaygirls.co.uk/group/proud-to-be-mum-group-7/2025-06-16/
LOCATION:Getaway Girls\, 19 Brooklands Avenue\, Leeds\, West Yorkshire\, LS14 6SG\, United Kingdom
ATTACH;FMTTYPE=image/jpeg:https://getawaygirls.co.uk/wp-content/uploads/2024/01/Proud-to-be-Mum.jpg
END:VEVENT
BEGIN:VEVENT
DTSTART;TZID=UTC:20250616T153000
DTEND;TZID=UTC:20250616T173000
DTSTAMP:20260421T050116
CREATED:20250618T144608Z
LAST-MODIFIED:20250618T144731Z
UID:10000870-1750087800-1750095000@getawaygirls.co.uk
SUMMARY:Girls Squad 8-10yrs
DESCRIPTION:Girls Space for girls aged 8-10yrs
URL:https://getawaygirls.co.uk/group/girls-squad-8-10yrs/2025-06-16/
LOCATION:Getaway Girls\, 19 Brooklands Avenue\, Leeds\, West Yorkshire\, LS14 6SG\, United Kingdom
ATTACH;FMTTYPE=image/jpeg:https://getawaygirls.co.uk/wp-content/uploads/2024/01/Girls-space.jpg
END:VEVENT
BEGIN:VEVENT
DTSTART;TZID=UTC:20250617T123000
DTEND;TZID=UTC:20250617T140000
DTSTAMP:20260421T050116
CREATED:20250618T144956Z
LAST-MODIFIED:20250618T145117Z
UID:10000971-1750163400-1750168800@getawaygirls.co.uk
SUMMARY:Yoga
DESCRIPTION:Yoga group\, refreshments and creché.
URL:https://getawaygirls.co.uk/group/yoga-4/2025-06-17/
LOCATION:Getaway Girls\, 19 Brooklands Avenue\, Leeds\, West Yorkshire\, LS14 6SG\, United Kingdom
ATTACH;FMTTYPE=image/jpeg:https://getawaygirls.co.uk/wp-content/uploads/2024/01/Yoga.jpg
END:VEVENT
BEGIN:VEVENT
DTSTART;TZID=UTC:20250617T153000
DTEND;TZID=UTC:20250617T173000
DTSTAMP:20260421T050116
CREATED:20250904T084408Z
LAST-MODIFIED:20250904T084714Z
UID:10000849-1750174200-1750181400@getawaygirls.co.uk
SUMMARY:Girls space 13-17yrs
DESCRIPTION:Girls Space for young women aged 13-17yrs
URL:https://getawaygirls.co.uk/group/girls-space-13-16yrs-6/
LOCATION:Getaway Girls\, 19 Brooklands Avenue\, Leeds\, West Yorkshire\, LS14 6SG\, United Kingdom
ATTACH;FMTTYPE=image/jpeg:https://getawaygirls.co.uk/wp-content/uploads/2024/01/Girls-space.jpg
END:VEVENT
END:VCALENDAR