BEGIN:VCALENDAR
VERSION:2.0
PRODID:-//Getaway Girls - ECPv6.15.20//NONSGML v1.0//EN
CALSCALE:GREGORIAN
METHOD:PUBLISH
X-ORIGINAL-URL:https://getawaygirls.co.uk
X-WR-CALDESC:Events for Getaway Girls
REFRESH-INTERVAL;VALUE=DURATION:PT1H
X-Robots-Tag:noindex
X-PUBLISHED-TTL:PT1H
BEGIN:VTIMEZONE
TZID:UTC
BEGIN:STANDARD
TZOFFSETFROM:+0000
TZOFFSETTO:+0000
TZNAME:UTC
DTSTART:20230101T000000
END:STANDARD
END:VTIMEZONE
BEGIN:VEVENT
DTSTART;TZID=UTC:20241018T123000
DTEND;TZID=UTC:20241018T130000
DTSTAMP:20260419T153226
CREATED:20240719T140611Z
LAST-MODIFIED:20241029T143456Z
UID:10000612-1729254600-1729256400@getawaygirls.co.uk
SUMMARY:Drop in lunch
DESCRIPTION:Drop in / Lunch for young women aged 16-25 yrs
URL:https://getawaygirls.co.uk/group/drop-in-lunch-10/2024-10-18/
LOCATION:Getaway Girls\, 19 Brooklands Avenue\, Leeds\, West Yorkshire\, LS14 6SG\, United Kingdom
ATTACH;FMTTYPE=image/jpeg:https://getawaygirls.co.uk/wp-content/uploads/2024/01/Drop-in-lunch.jpg
END:VEVENT
BEGIN:VEVENT
DTSTART;TZID=UTC:20241018T130000
DTEND;TZID=UTC:20241018T143000
DTSTAMP:20260419T153226
CREATED:20241004T151010Z
LAST-MODIFIED:20241029T143543Z
UID:10000609-1729256400-1729261800@getawaygirls.co.uk
SUMMARY:Cooking together
DESCRIPTION:Cooking together for young women aged 16-25 yrs\, creché available
URL:https://getawaygirls.co.uk/group/cooking-together-7/2024-10-18/
LOCATION:Getaway Girls\, 19 Brooklands Avenue\, Leeds\, West Yorkshire\, LS14 6SG\, United Kingdom
ATTACH;FMTTYPE=image/jpeg:https://getawaygirls.co.uk/wp-content/uploads/2024/01/Cooking-together.jpg
END:VEVENT
BEGIN:VEVENT
DTSTART;TZID=UTC:20241021T123000
DTEND;TZID=UTC:20241021T130000
DTSTAMP:20260419T153226
CREATED:20241004T135718Z
LAST-MODIFIED:20241004T135759Z
UID:10000563-1729513800-1729515600@getawaygirls.co.uk
SUMMARY:Drop in lunch
DESCRIPTION:Drop in / Lunch for young women aged 16-25 yrs
URL:https://getawaygirls.co.uk/group/drop-in-lunch-13/2024-10-21/
LOCATION:Getaway Girls\, 19 Brooklands Avenue\, Leeds\, West Yorkshire\, LS14 6SG\, United Kingdom
ATTACH;FMTTYPE=image/jpeg:https://getawaygirls.co.uk/wp-content/uploads/2024/01/Drop-in-lunch.jpg
END:VEVENT
BEGIN:VEVENT
DTSTART;TZID=UTC:20241021T130000
DTEND;TZID=UTC:20241021T143000
DTSTAMP:20260419T153226
CREATED:20241004T135915Z
LAST-MODIFIED:20241029T141017Z
UID:10000566-1729515600-1729521000@getawaygirls.co.uk
SUMMARY:Proud to be Mum group
DESCRIPTION:Proud to be Mums group\, upto 25yrs\, with creché
URL:https://getawaygirls.co.uk/group/proud-to-be-mum-group-4/2024-10-21/
LOCATION:Getaway Girls\, 19 Brooklands Avenue\, Leeds\, West Yorkshire\, LS14 6SG\, United Kingdom
ATTACH;FMTTYPE=image/jpeg:https://getawaygirls.co.uk/wp-content/uploads/2024/01/Proud-to-be-Mum.jpg
END:VEVENT
BEGIN:VEVENT
DTSTART;TZID=UTC:20241022T123000
DTEND;TZID=UTC:20241022T140000
DTSTAMP:20260419T153226
CREATED:20250618T144956Z
LAST-MODIFIED:20250618T145117Z
UID:10000937-1729600200-1729605600@getawaygirls.co.uk
SUMMARY:Yoga
DESCRIPTION:Yoga group\, refreshments and creché.
URL:https://getawaygirls.co.uk/group/yoga-4/2024-10-22/
LOCATION:Getaway Girls\, 19 Brooklands Avenue\, Leeds\, West Yorkshire\, LS14 6SG\, United Kingdom
ATTACH;FMTTYPE=image/jpeg:https://getawaygirls.co.uk/wp-content/uploads/2024/01/Yoga.jpg
END:VEVENT
BEGIN:VEVENT
DTSTART;TZID=UTC:20241022T160000
DTEND;TZID=UTC:20241022T173000
DTSTAMP:20260419T153226
CREATED:20240904T104518Z
LAST-MODIFIED:20241029T141706Z
UID:10000571-1729612800-1729618200@getawaygirls.co.uk
SUMMARY:Girls space 13-16yrs
DESCRIPTION:Girls Space for young women aged 13-16yrs
URL:https://getawaygirls.co.uk/group/girls-space-8/2024-10-22/
LOCATION:Getaway Girls\, 19 Brooklands Avenue\, Leeds\, West Yorkshire\, LS14 6SG\, United Kingdom
ATTACH;FMTTYPE=image/jpeg:https://getawaygirls.co.uk/wp-content/uploads/2024/01/Girls-space.jpg
END:VEVENT
BEGIN:VEVENT
DTSTART;TZID=UTC:20241022T160000
DTEND;TZID=UTC:20241022T173000
DTSTAMP:20260419T153226
CREATED:20241029T141719Z
LAST-MODIFIED:20241029T141803Z
UID:10000635-1729612800-1729618200@getawaygirls.co.uk
SUMMARY:Girls space 13-16yrs
DESCRIPTION:Girls Space for young women aged 13-16yrs
URL:https://getawaygirls.co.uk/group/girls-space-13-16yrs/2024-10-22/
LOCATION:Getaway Girls\, 19 Brooklands Avenue\, Leeds\, West Yorkshire\, LS14 6SG\, United Kingdom
ATTACH;FMTTYPE=image/jpeg:https://getawaygirls.co.uk/wp-content/uploads/2024/01/Girls-space.jpg
END:VEVENT
BEGIN:VEVENT
DTSTART;TZID=UTC:20241023T123000
DTEND;TZID=UTC:20241023T143000
DTSTAMP:20260419T153226
CREATED:20241004T141410Z
LAST-MODIFIED:20241029T143139Z
UID:10000581-1729686600-1729693800@getawaygirls.co.uk
SUMMARY:Introduction to Youthwork
DESCRIPTION:training level 1
URL:https://getawaygirls.co.uk/group/vocal-girls/2024-10-23/
LOCATION:Getaway Girls\, 19 Brooklands Avenue\, Leeds\, West Yorkshire\, LS14 6SG\, United Kingdom
ATTACH;FMTTYPE=image/jpeg:https://getawaygirls.co.uk/wp-content/uploads/2024/01/DJing.jpg
END:VEVENT
BEGIN:VEVENT
DTSTART;TZID=UTC:20241023T160000
DTEND;TZID=UTC:20241023T173000
DTSTAMP:20260419T153226
CREATED:20240503T082110Z
LAST-MODIFIED:20241029T143053Z
UID:10000576-1729699200-1729704600@getawaygirls.co.uk
SUMMARY:Young women’s space 13-16yrs
DESCRIPTION:Young womens group\, for ages 13-16 yrs
URL:https://getawaygirls.co.uk/group/young-womens-space-3/2024-10-23/
LOCATION:Shine\, Harehills road\,\, Leeds\, West Yorkshire\, LS8 5HS\, United Kingdom
ATTACH;FMTTYPE=image/jpeg:https://getawaygirls.co.uk/wp-content/uploads/2024/01/Young-womens-space.jpg
END:VEVENT
BEGIN:VEVENT
DTSTART;TZID=UTC:20241024T160000
DTEND;TZID=UTC:20241024T173000
DTSTAMP:20260419T153226
CREATED:20241004T150616Z
LAST-MODIFIED:20241029T143402Z
UID:10000605-1729785600-1729791000@getawaygirls.co.uk
SUMMARY:Vocal Girls
DESCRIPTION:Campaigning Group
URL:https://getawaygirls.co.uk/group/vocal-girls-2/2024-10-24/
LOCATION:Getaway Girls\, 19 Brooklands Avenue\, Leeds\, West Yorkshire\, LS14 6SG\, United Kingdom
ATTACH;FMTTYPE=image/jpeg:https://getawaygirls.co.uk/wp-content/uploads/2024/01/Drop-in-lunch.jpg
END:VEVENT
BEGIN:VEVENT
DTSTART;TZID=UTC:20241025T123000
DTEND;TZID=UTC:20241025T130000
DTSTAMP:20260419T153226
CREATED:20240719T140611Z
LAST-MODIFIED:20241029T143456Z
UID:10000613-1729859400-1729861200@getawaygirls.co.uk
SUMMARY:Drop in lunch
DESCRIPTION:Drop in / Lunch for young women aged 16-25 yrs
URL:https://getawaygirls.co.uk/group/drop-in-lunch-10/2024-10-25/
LOCATION:Getaway Girls\, 19 Brooklands Avenue\, Leeds\, West Yorkshire\, LS14 6SG\, United Kingdom
ATTACH;FMTTYPE=image/jpeg:https://getawaygirls.co.uk/wp-content/uploads/2024/01/Drop-in-lunch.jpg
END:VEVENT
BEGIN:VEVENT
DTSTART;TZID=UTC:20241025T130000
DTEND;TZID=UTC:20241025T143000
DTSTAMP:20260419T153226
CREATED:20241004T151010Z
LAST-MODIFIED:20241029T143543Z
UID:10000649-1729861200-1729866600@getawaygirls.co.uk
SUMMARY:Cooking together
DESCRIPTION:Cooking together for young women aged 16-25 yrs\, creché available
URL:https://getawaygirls.co.uk/group/cooking-together-7/2024-10-25/
LOCATION:Getaway Girls\, 19 Brooklands Avenue\, Leeds\, West Yorkshire\, LS14 6SG\, United Kingdom
ATTACH;FMTTYPE=image/jpeg:https://getawaygirls.co.uk/wp-content/uploads/2024/01/Cooking-together.jpg
END:VEVENT
BEGIN:VEVENT
DTSTART;TZID=UTC:20241028T130000
DTEND;TZID=UTC:20241028T143000
DTSTAMP:20260419T153226
CREATED:20241004T135915Z
LAST-MODIFIED:20241029T141017Z
UID:10000567-1730120400-1730125800@getawaygirls.co.uk
SUMMARY:Proud to be Mum group
DESCRIPTION:Proud to be Mums group\, upto 25yrs\, with creché
URL:https://getawaygirls.co.uk/group/proud-to-be-mum-group-4/2024-10-28/
LOCATION:Getaway Girls\, 19 Brooklands Avenue\, Leeds\, West Yorkshire\, LS14 6SG\, United Kingdom
ATTACH;FMTTYPE=image/jpeg:https://getawaygirls.co.uk/wp-content/uploads/2024/01/Proud-to-be-Mum.jpg
END:VEVENT
BEGIN:VEVENT
DTSTART;TZID=UTC:20241029T123000
DTEND;TZID=UTC:20241029T140000
DTSTAMP:20260419T153226
CREATED:20250618T144956Z
LAST-MODIFIED:20250618T145117Z
UID:10000938-1730205000-1730210400@getawaygirls.co.uk
SUMMARY:Yoga
DESCRIPTION:Yoga group\, refreshments and creché.
URL:https://getawaygirls.co.uk/group/yoga-4/2024-10-29/
LOCATION:Getaway Girls\, 19 Brooklands Avenue\, Leeds\, West Yorkshire\, LS14 6SG\, United Kingdom
ATTACH;FMTTYPE=image/jpeg:https://getawaygirls.co.uk/wp-content/uploads/2024/01/Yoga.jpg
END:VEVENT
BEGIN:VEVENT
DTSTART;TZID=UTC:20241030T123000
DTEND;TZID=UTC:20241030T143000
DTSTAMP:20260419T153226
CREATED:20241004T141410Z
LAST-MODIFIED:20241029T143139Z
UID:10000582-1730291400-1730298600@getawaygirls.co.uk
SUMMARY:Introduction to Youthwork
DESCRIPTION:training level 1
URL:https://getawaygirls.co.uk/group/vocal-girls/2024-10-30/
LOCATION:Getaway Girls\, 19 Brooklands Avenue\, Leeds\, West Yorkshire\, LS14 6SG\, United Kingdom
ATTACH;FMTTYPE=image/jpeg:https://getawaygirls.co.uk/wp-content/uploads/2024/01/DJing.jpg
END:VEVENT
BEGIN:VEVENT
DTSTART;TZID=UTC:20241030T160000
DTEND;TZID=UTC:20241030T173000
DTSTAMP:20260419T153226
CREATED:20240503T082110Z
LAST-MODIFIED:20241029T143053Z
UID:10000577-1730304000-1730309400@getawaygirls.co.uk
SUMMARY:Young women’s space 13-16yrs
DESCRIPTION:Young womens group\, for ages 13-16 yrs
URL:https://getawaygirls.co.uk/group/young-womens-space-3/2024-10-30/
LOCATION:Shine\, Harehills road\,\, Leeds\, West Yorkshire\, LS8 5HS\, United Kingdom
ATTACH;FMTTYPE=image/jpeg:https://getawaygirls.co.uk/wp-content/uploads/2024/01/Young-womens-space.jpg
END:VEVENT
BEGIN:VEVENT
DTSTART;TZID=UTC:20241031T160000
DTEND;TZID=UTC:20241031T173000
DTSTAMP:20260419T153226
CREATED:20241004T150616Z
LAST-MODIFIED:20241029T143402Z
UID:10000607-1730390400-1730395800@getawaygirls.co.uk
SUMMARY:Vocal Girls
DESCRIPTION:Campaigning Group
URL:https://getawaygirls.co.uk/group/vocal-girls-2/2024-10-31/
LOCATION:Getaway Girls\, 19 Brooklands Avenue\, Leeds\, West Yorkshire\, LS14 6SG\, United Kingdom
ATTACH;FMTTYPE=image/jpeg:https://getawaygirls.co.uk/wp-content/uploads/2024/01/Drop-in-lunch.jpg
END:VEVENT
BEGIN:VEVENT
DTSTART;TZID=UTC:20241101T080000
DTEND;TZID=UTC:20241101T170000
DTSTAMP:20260419T153226
CREATED:20241029T151646Z
LAST-MODIFIED:20241029T152124Z
UID:10000655-1730448000-1730480400@getawaygirls.co.uk
SUMMARY:Sports Group
DESCRIPTION:For girls aged 13-17yrs
URL:https://getawaygirls.co.uk/group/sports-group/2024-11-01/
LOCATION:Fearnville leisure centre\, Oakwood lane\, Leeds\, West Yorkshire\, LS8 3LF\, United Kingdom
END:VEVENT
BEGIN:VEVENT
DTSTART;TZID=UTC:20241101T130000
DTEND;TZID=UTC:20241101T143000
DTSTAMP:20260419T153226
CREATED:20241004T151010Z
LAST-MODIFIED:20241029T143543Z
UID:10000650-1730466000-1730471400@getawaygirls.co.uk
SUMMARY:Cooking together
DESCRIPTION:Cooking together for young women aged 16-25 yrs\, creché available
URL:https://getawaygirls.co.uk/group/cooking-together-7/2024-11-01/
LOCATION:Getaway Girls\, 19 Brooklands Avenue\, Leeds\, West Yorkshire\, LS14 6SG\, United Kingdom
ATTACH;FMTTYPE=image/jpeg:https://getawaygirls.co.uk/wp-content/uploads/2024/01/Cooking-together.jpg
END:VEVENT
BEGIN:VEVENT
DTSTART;TZID=UTC:20241104T130000
DTEND;TZID=UTC:20241104T143000
DTSTAMP:20260419T153226
CREATED:20241004T135915Z
LAST-MODIFIED:20241029T141017Z
UID:10000623-1730725200-1730730600@getawaygirls.co.uk
SUMMARY:Proud to be Mum group
DESCRIPTION:Proud to be Mums group\, upto 25yrs\, with creché
URL:https://getawaygirls.co.uk/group/proud-to-be-mum-group-4/2024-11-04/
LOCATION:Getaway Girls\, 19 Brooklands Avenue\, Leeds\, West Yorkshire\, LS14 6SG\, United Kingdom
ATTACH;FMTTYPE=image/jpeg:https://getawaygirls.co.uk/wp-content/uploads/2024/01/Proud-to-be-Mum.jpg
END:VEVENT
BEGIN:VEVENT
DTSTART;TZID=UTC:20241105T123000
DTEND;TZID=UTC:20241105T140000
DTSTAMP:20260419T153226
CREATED:20250618T144956Z
LAST-MODIFIED:20250618T145117Z
UID:10000939-1730809800-1730815200@getawaygirls.co.uk
SUMMARY:Yoga
DESCRIPTION:Yoga group\, refreshments and creché.
URL:https://getawaygirls.co.uk/group/yoga-4/2024-11-05/
LOCATION:Getaway Girls\, 19 Brooklands Avenue\, Leeds\, West Yorkshire\, LS14 6SG\, United Kingdom
ATTACH;FMTTYPE=image/jpeg:https://getawaygirls.co.uk/wp-content/uploads/2024/01/Yoga.jpg
END:VEVENT
BEGIN:VEVENT
DTSTART;TZID=UTC:20241106T160000
DTEND;TZID=UTC:20241106T173000
DTSTAMP:20260419T153226
CREATED:20240503T082110Z
LAST-MODIFIED:20241029T143053Z
UID:10000636-1730908800-1730914200@getawaygirls.co.uk
SUMMARY:Young women’s space 13-16yrs
DESCRIPTION:Young womens group\, for ages 13-16 yrs
URL:https://getawaygirls.co.uk/group/young-womens-space-3/2024-11-06/
LOCATION:Shine\, Harehills road\,\, Leeds\, West Yorkshire\, LS8 5HS\, United Kingdom
ATTACH;FMTTYPE=image/jpeg:https://getawaygirls.co.uk/wp-content/uploads/2024/01/Young-womens-space.jpg
END:VEVENT
BEGIN:VEVENT
DTSTART;TZID=UTC:20241107T160000
DTEND;TZID=UTC:20241107T173000
DTSTAMP:20260419T153226
CREATED:20241004T150616Z
LAST-MODIFIED:20241029T143402Z
UID:10000640-1730995200-1731000600@getawaygirls.co.uk
SUMMARY:Vocal Girls
DESCRIPTION:Campaigning Group
URL:https://getawaygirls.co.uk/group/vocal-girls-2/2024-11-07/
LOCATION:Getaway Girls\, 19 Brooklands Avenue\, Leeds\, West Yorkshire\, LS14 6SG\, United Kingdom
ATTACH;FMTTYPE=image/jpeg:https://getawaygirls.co.uk/wp-content/uploads/2024/01/Drop-in-lunch.jpg
END:VEVENT
BEGIN:VEVENT
DTSTART;TZID=UTC:20241108T080000
DTEND;TZID=UTC:20241108T170000
DTSTAMP:20260419T153226
CREATED:20241029T151646Z
LAST-MODIFIED:20241029T152124Z
UID:10000656-1731052800-1731085200@getawaygirls.co.uk
SUMMARY:Sports Group
DESCRIPTION:For girls aged 13-17yrs
URL:https://getawaygirls.co.uk/group/sports-group/2024-11-08/
LOCATION:Fearnville leisure centre\, Oakwood lane\, Leeds\, West Yorkshire\, LS8 3LF\, United Kingdom
END:VEVENT
BEGIN:VEVENT
DTSTART;TZID=UTC:20241111T130000
DTEND;TZID=UTC:20241111T143000
DTSTAMP:20260419T153226
CREATED:20241004T135915Z
LAST-MODIFIED:20241029T141017Z
UID:10000624-1731330000-1731335400@getawaygirls.co.uk
SUMMARY:Proud to be Mum group
DESCRIPTION:Proud to be Mums group\, upto 25yrs\, with creché
URL:https://getawaygirls.co.uk/group/proud-to-be-mum-group-4/2024-11-11/
LOCATION:Getaway Girls\, 19 Brooklands Avenue\, Leeds\, West Yorkshire\, LS14 6SG\, United Kingdom
ATTACH;FMTTYPE=image/jpeg:https://getawaygirls.co.uk/wp-content/uploads/2024/01/Proud-to-be-Mum.jpg
END:VEVENT
BEGIN:VEVENT
DTSTART;TZID=UTC:20241112T123000
DTEND;TZID=UTC:20241112T140000
DTSTAMP:20260419T153226
CREATED:20250618T144956Z
LAST-MODIFIED:20250618T145117Z
UID:10000940-1731414600-1731420000@getawaygirls.co.uk
SUMMARY:Yoga
DESCRIPTION:Yoga group\, refreshments and creché.
URL:https://getawaygirls.co.uk/group/yoga-4/2024-11-12/
LOCATION:Getaway Girls\, 19 Brooklands Avenue\, Leeds\, West Yorkshire\, LS14 6SG\, United Kingdom
ATTACH;FMTTYPE=image/jpeg:https://getawaygirls.co.uk/wp-content/uploads/2024/01/Yoga.jpg
END:VEVENT
BEGIN:VEVENT
DTSTART;TZID=UTC:20241113T160000
DTEND;TZID=UTC:20241113T173000
DTSTAMP:20260419T153226
CREATED:20240503T082110Z
LAST-MODIFIED:20241029T143053Z
UID:10000637-1731513600-1731519000@getawaygirls.co.uk
SUMMARY:Young women’s space 13-16yrs
DESCRIPTION:Young womens group\, for ages 13-16 yrs
URL:https://getawaygirls.co.uk/group/young-womens-space-3/2024-11-13/
LOCATION:Shine\, Harehills road\,\, Leeds\, West Yorkshire\, LS8 5HS\, United Kingdom
ATTACH;FMTTYPE=image/jpeg:https://getawaygirls.co.uk/wp-content/uploads/2024/01/Young-womens-space.jpg
END:VEVENT
BEGIN:VEVENT
DTSTART;TZID=UTC:20241114T160000
DTEND;TZID=UTC:20241114T173000
DTSTAMP:20260419T153226
CREATED:20241004T150616Z
LAST-MODIFIED:20241029T143402Z
UID:10000641-1731600000-1731605400@getawaygirls.co.uk
SUMMARY:Vocal Girls
DESCRIPTION:Campaigning Group
URL:https://getawaygirls.co.uk/group/vocal-girls-2/2024-11-14/
LOCATION:Getaway Girls\, 19 Brooklands Avenue\, Leeds\, West Yorkshire\, LS14 6SG\, United Kingdom
ATTACH;FMTTYPE=image/jpeg:https://getawaygirls.co.uk/wp-content/uploads/2024/01/Drop-in-lunch.jpg
END:VEVENT
BEGIN:VEVENT
DTSTART;TZID=UTC:20241115T080000
DTEND;TZID=UTC:20241115T170000
DTSTAMP:20260419T153226
CREATED:20241029T151646Z
LAST-MODIFIED:20241029T152124Z
UID:10000657-1731657600-1731690000@getawaygirls.co.uk
SUMMARY:Sports Group
DESCRIPTION:For girls aged 13-17yrs
URL:https://getawaygirls.co.uk/group/sports-group/2024-11-15/
LOCATION:Fearnville leisure centre\, Oakwood lane\, Leeds\, West Yorkshire\, LS8 3LF\, United Kingdom
END:VEVENT
BEGIN:VEVENT
DTSTART;TZID=UTC:20241118T130000
DTEND;TZID=UTC:20241118T143000
DTSTAMP:20260419T153226
CREATED:20241004T135915Z
LAST-MODIFIED:20241029T141017Z
UID:10000625-1731934800-1731940200@getawaygirls.co.uk
SUMMARY:Proud to be Mum group
DESCRIPTION:Proud to be Mums group\, upto 25yrs\, with creché
URL:https://getawaygirls.co.uk/group/proud-to-be-mum-group-4/2024-11-18/
LOCATION:Getaway Girls\, 19 Brooklands Avenue\, Leeds\, West Yorkshire\, LS14 6SG\, United Kingdom
ATTACH;FMTTYPE=image/jpeg:https://getawaygirls.co.uk/wp-content/uploads/2024/01/Proud-to-be-Mum.jpg
END:VEVENT
END:VCALENDAR