BEGIN:VCALENDAR
VERSION:2.0
PRODID:-//Getaway Girls - ECPv6.15.20//NONSGML v1.0//EN
CALSCALE:GREGORIAN
METHOD:PUBLISH
X-WR-CALNAME:Getaway Girls
X-ORIGINAL-URL:https://getawaygirls.co.uk
X-WR-CALDESC:Events for Getaway Girls
REFRESH-INTERVAL;VALUE=DURATION:PT1H
X-Robots-Tag:noindex
X-PUBLISHED-TTL:PT1H
BEGIN:VTIMEZONE
TZID:UTC
BEGIN:STANDARD
TZOFFSETFROM:+0000
TZOFFSETTO:+0000
TZNAME:UTC
DTSTART:20240101T000000
END:STANDARD
END:VTIMEZONE
BEGIN:VEVENT
DTSTART;TZID=UTC:20250207T160000
DTEND;TZID=UTC:20250207T173000
DTSTAMP:20260421T080257
CREATED:20250103T101128Z
LAST-MODIFIED:20250311T155457Z
UID:10000730-1738944000-1738949400@getawaygirls.co.uk
SUMMARY:Girls space 11-13yrs
DESCRIPTION:Girls Space for young women aged 11-13yrs
URL:https://getawaygirls.co.uk/group/girls-space-11-13yrs/2025-02-07/
LOCATION:Getaway Girls\, 19 Brooklands Avenue\, Leeds\, West Yorkshire\, LS14 6SG\, United Kingdom
ATTACH;FMTTYPE=image/jpeg:https://getawaygirls.co.uk/wp-content/uploads/2024/01/Girls-space.jpg
END:VEVENT
BEGIN:VEVENT
DTSTART;TZID=UTC:20250207T160000
DTEND;TZID=UTC:20250207T173000
DTSTAMP:20260421T080257
CREATED:20250103T114212Z
LAST-MODIFIED:20250311T155531Z
UID:10000797-1738944000-1738949400@getawaygirls.co.uk
SUMMARY:Music Group 16-21
DESCRIPTION:Music Group for your women aged 16-21yrs
URL:https://getawaygirls.co.uk/group/music-group-16-21/2025-02-07/
LOCATION:Getaway Girls\, 19 Brooklands Avenue\, Leeds\, West Yorkshire\, LS14 6SG\, United Kingdom
ATTACH;FMTTYPE=image/jpeg:https://getawaygirls.co.uk/wp-content/uploads/2025/01/Music-Group.jpg
END:VEVENT
BEGIN:VEVENT
DTSTART;TZID=UTC:20250210T123000
DTEND;TZID=UTC:20250210T143000
DTSTAMP:20260421T080257
CREATED:20250103T091751Z
LAST-MODIFIED:20250311T154839Z
UID:10000742-1739190600-1739197800@getawaygirls.co.uk
SUMMARY:Proud to be Mum group
DESCRIPTION:Proud to be Mums group\, upto 25yrs\, with creché
URL:https://getawaygirls.co.uk/group/proud-to-be-mum-group-5/2025-02-10/
LOCATION:Getaway Girls\, 19 Brooklands Avenue\, Leeds\, West Yorkshire\, LS14 6SG\, United Kingdom
ATTACH;FMTTYPE=image/jpeg:https://getawaygirls.co.uk/wp-content/uploads/2024/01/Proud-to-be-Mum.jpg
END:VEVENT
BEGIN:VEVENT
DTSTART;TZID=UTC:20250210T153000
DTEND;TZID=UTC:20250210T173000
DTSTAMP:20260421T080257
CREATED:20240904T104211Z
LAST-MODIFIED:20250311T154913Z
UID:10000754-1739201400-1739208600@getawaygirls.co.uk
SUMMARY:Girls Squad 8-11yrs
DESCRIPTION:Girls Space for girls aged 8-11yrs
URL:https://getawaygirls.co.uk/group/girls-space-8-11yrs/2025-02-10/
LOCATION:Getaway Girls\, 19 Brooklands Avenue\, Leeds\, West Yorkshire\, LS14 6SG\, United Kingdom
ATTACH;FMTTYPE=image/jpeg:https://getawaygirls.co.uk/wp-content/uploads/2024/01/Girls-space.jpg
END:VEVENT
BEGIN:VEVENT
DTSTART;TZID=UTC:20250211T123000
DTEND;TZID=UTC:20250211T140000
DTSTAMP:20260421T080257
CREATED:20250618T144956Z
LAST-MODIFIED:20250618T145117Z
UID:10000953-1739277000-1739282400@getawaygirls.co.uk
SUMMARY:Yoga
DESCRIPTION:Yoga group\, refreshments and creché.
URL:https://getawaygirls.co.uk/group/yoga-4/2025-02-11/
LOCATION:Getaway Girls\, 19 Brooklands Avenue\, Leeds\, West Yorkshire\, LS14 6SG\, United Kingdom
ATTACH;FMTTYPE=image/jpeg:https://getawaygirls.co.uk/wp-content/uploads/2024/01/Yoga.jpg
END:VEVENT
BEGIN:VEVENT
DTSTART;TZID=UTC:20250211T153000
DTEND;TZID=UTC:20250211T173000
DTSTAMP:20260421T080257
CREATED:20250103T092332Z
LAST-MODIFIED:20250311T154949Z
UID:10000767-1739287800-1739295000@getawaygirls.co.uk
SUMMARY:Girls space 13-16yrs
DESCRIPTION:Girls Space for young women aged 13-16yrs
URL:https://getawaygirls.co.uk/group/girls-space-13-16yrs-2/2025-02-11/
LOCATION:Getaway Girls\, 19 Brooklands Avenue\, Leeds\, West Yorkshire\, LS14 6SG\, United Kingdom
ATTACH;FMTTYPE=image/jpeg:https://getawaygirls.co.uk/wp-content/uploads/2024/01/Girls-space.jpg
END:VEVENT
BEGIN:VEVENT
DTSTART;TZID=UTC:20250212T160000
DTEND;TZID=UTC:20250212T173000
DTSTAMP:20260421T080257
CREATED:20250103T093735Z
LAST-MODIFIED:20250311T155022Z
UID:10000713-1739376000-1739381400@getawaygirls.co.uk
SUMMARY:Young women’s space 13-16yrs
DESCRIPTION:Young womens group\, for ages 13-16 yrs
URL:https://getawaygirls.co.uk/group/young-womens-space-13-16yrs/2025-02-12/
LOCATION:Shine\, Harehills road\,\, Leeds\, West Yorkshire\, LS8 5HS\, United Kingdom
ATTACH;FMTTYPE=image/jpeg:https://getawaygirls.co.uk/wp-content/uploads/2024/01/Young-womens-space.jpg
END:VEVENT
BEGIN:VEVENT
DTSTART;TZID=UTC:20250213T160000
DTEND;TZID=UTC:20250213T173000
DTSTAMP:20260421T080257
CREATED:20250103T100016Z
LAST-MODIFIED:20250311T155056Z
UID:10000716-1739462400-1739467800@getawaygirls.co.uk
SUMMARY:Vocal Girls
DESCRIPTION:Campaigning Group for girls 15-18yrs
URL:https://getawaygirls.co.uk/group/vocal-girls-3/2025-02-13/
LOCATION:Getaway Girls\, 19 Brooklands Avenue\, Leeds\, West Yorkshire\, LS14 6SG\, United Kingdom
ATTACH;FMTTYPE=image/jpeg:https://getawaygirls.co.uk/wp-content/uploads/2024/10/Vocal-Girls-event-2.jpg
END:VEVENT
BEGIN:VEVENT
DTSTART;TZID=UTC:20250213T160000
DTEND;TZID=UTC:20250213T173000
DTSTAMP:20260421T080257
CREATED:20250215T121448Z
LAST-MODIFIED:20250311T155322Z
UID:10000723-1739462400-1739467800@getawaygirls.co.uk
SUMMARY:Romanian Girls group 11-16yrs
DESCRIPTION:Romanian Girls group 11-16yrs
URL:https://getawaygirls.co.uk/group/romanian-girls-group-11-16yrs/2025-02-13/
LOCATION:St Aidans Church Hall\, Harehills\, Elford Place West\, Leeds\, LS8 5QD
ATTACH;FMTTYPE=image/png:https://getawaygirls.co.uk/wp-content/uploads/2025/02/Romanian-Girls.png
END:VEVENT
BEGIN:VEVENT
DTSTART;TZID=UTC:20250214T130000
DTEND;TZID=UTC:20250214T143000
DTSTAMP:20260421T080257
CREATED:20250103T100548Z
LAST-MODIFIED:20250311T155429Z
UID:10000727-1739538000-1739543400@getawaygirls.co.uk
SUMMARY:Cooking together
DESCRIPTION:Cooking together for young women aged 16-25 yrs\, creché available
URL:https://getawaygirls.co.uk/group/cooking-together-8/2025-02-14/
LOCATION:Getaway Girls\, 19 Brooklands Avenue\, Leeds\, West Yorkshire\, LS14 6SG\, United Kingdom
ATTACH;FMTTYPE=image/jpeg:https://getawaygirls.co.uk/wp-content/uploads/2024/01/Cooking-together.jpg
END:VEVENT
BEGIN:VEVENT
DTSTART;TZID=UTC:20250214T160000
DTEND;TZID=UTC:20250214T173000
DTSTAMP:20260421T080257
CREATED:20250103T101128Z
LAST-MODIFIED:20250311T155457Z
UID:10000731-1739548800-1739554200@getawaygirls.co.uk
SUMMARY:Girls space 11-13yrs
DESCRIPTION:Girls Space for young women aged 11-13yrs
URL:https://getawaygirls.co.uk/group/girls-space-11-13yrs/2025-02-14/
LOCATION:Getaway Girls\, 19 Brooklands Avenue\, Leeds\, West Yorkshire\, LS14 6SG\, United Kingdom
ATTACH;FMTTYPE=image/jpeg:https://getawaygirls.co.uk/wp-content/uploads/2024/01/Girls-space.jpg
END:VEVENT
BEGIN:VEVENT
DTSTART;TZID=UTC:20250214T160000
DTEND;TZID=UTC:20250214T173000
DTSTAMP:20260421T080257
CREATED:20250103T114212Z
LAST-MODIFIED:20250311T155531Z
UID:10000798-1739548800-1739554200@getawaygirls.co.uk
SUMMARY:Music Group 16-21
DESCRIPTION:Music Group for your women aged 16-21yrs
URL:https://getawaygirls.co.uk/group/music-group-16-21/2025-02-14/
LOCATION:Getaway Girls\, 19 Brooklands Avenue\, Leeds\, West Yorkshire\, LS14 6SG\, United Kingdom
ATTACH;FMTTYPE=image/jpeg:https://getawaygirls.co.uk/wp-content/uploads/2025/01/Music-Group.jpg
END:VEVENT
BEGIN:VEVENT
DTSTART;TZID=UTC:20250217T123000
DTEND;TZID=UTC:20250217T143000
DTSTAMP:20260421T080257
CREATED:20250103T091751Z
LAST-MODIFIED:20250311T154839Z
UID:10000743-1739795400-1739802600@getawaygirls.co.uk
SUMMARY:Proud to be Mum group
DESCRIPTION:Proud to be Mums group\, upto 25yrs\, with creché
URL:https://getawaygirls.co.uk/group/proud-to-be-mum-group-5/2025-02-17/
LOCATION:Getaway Girls\, 19 Brooklands Avenue\, Leeds\, West Yorkshire\, LS14 6SG\, United Kingdom
ATTACH;FMTTYPE=image/jpeg:https://getawaygirls.co.uk/wp-content/uploads/2024/01/Proud-to-be-Mum.jpg
END:VEVENT
BEGIN:VEVENT
DTSTART;TZID=UTC:20250218T123000
DTEND;TZID=UTC:20250218T140000
DTSTAMP:20260421T080257
CREATED:20250618T144956Z
LAST-MODIFIED:20250618T145117Z
UID:10000954-1739881800-1739887200@getawaygirls.co.uk
SUMMARY:Yoga
DESCRIPTION:Yoga group\, refreshments and creché.
URL:https://getawaygirls.co.uk/group/yoga-4/2025-02-18/
LOCATION:Getaway Girls\, 19 Brooklands Avenue\, Leeds\, West Yorkshire\, LS14 6SG\, United Kingdom
ATTACH;FMTTYPE=image/jpeg:https://getawaygirls.co.uk/wp-content/uploads/2024/01/Yoga.jpg
END:VEVENT
BEGIN:VEVENT
DTSTART;TZID=UTC:20250220T123000
DTEND;TZID=UTC:20250220T150000
DTSTAMP:20260421T080257
CREATED:20250215T123107Z
LAST-MODIFIED:20250215T123107Z
UID:10000736-1740054600-1740063600@getawaygirls.co.uk
SUMMARY:Girls Youth theatre
DESCRIPTION:Girls Youth theatre
URL:https://getawaygirls.co.uk/group/girls-youth-theatre/
LOCATION:Getaway Girls\, 19 Brooklands Avenue\, Leeds\, West Yorkshire\, LS14 6SG\, United Kingdom
ATTACH;FMTTYPE=image/png:https://getawaygirls.co.uk/wp-content/uploads/2024/03/Girls-Youth-theatre.png
END:VEVENT
BEGIN:VEVENT
DTSTART;TZID=UTC:20250220T160000
DTEND;TZID=UTC:20250220T173000
DTSTAMP:20260421T080257
CREATED:20250215T121448Z
LAST-MODIFIED:20250311T155322Z
UID:10000725-1740067200-1740072600@getawaygirls.co.uk
SUMMARY:Romanian Girls group 11-16yrs
DESCRIPTION:Romanian Girls group 11-16yrs
URL:https://getawaygirls.co.uk/group/romanian-girls-group-11-16yrs/2025-02-20/
LOCATION:St Aidans Church Hall\, Harehills\, Elford Place West\, Leeds\, LS8 5QD
ATTACH;FMTTYPE=image/png:https://getawaygirls.co.uk/wp-content/uploads/2025/02/Romanian-Girls.png
END:VEVENT
BEGIN:VEVENT
DTSTART;TZID=UTC:20250221T130000
DTEND;TZID=UTC:20250221T143000
DTSTAMP:20260421T080257
CREATED:20250103T100548Z
LAST-MODIFIED:20250311T155429Z
UID:10000728-1740142800-1740148200@getawaygirls.co.uk
SUMMARY:Cooking together
DESCRIPTION:Cooking together for young women aged 16-25 yrs\, creché available
URL:https://getawaygirls.co.uk/group/cooking-together-8/2025-02-21/
LOCATION:Getaway Girls\, 19 Brooklands Avenue\, Leeds\, West Yorkshire\, LS14 6SG\, United Kingdom
ATTACH;FMTTYPE=image/jpeg:https://getawaygirls.co.uk/wp-content/uploads/2024/01/Cooking-together.jpg
END:VEVENT
BEGIN:VEVENT
DTSTART;TZID=UTC:20250224T153000
DTEND;TZID=UTC:20250224T173000
DTSTAMP:20260421T080257
CREATED:20240904T104211Z
LAST-MODIFIED:20250311T154913Z
UID:10000755-1740411000-1740418200@getawaygirls.co.uk
SUMMARY:Girls Squad 8-11yrs
DESCRIPTION:Girls Space for girls aged 8-11yrs
URL:https://getawaygirls.co.uk/group/girls-space-8-11yrs/2025-02-24/
LOCATION:Getaway Girls\, 19 Brooklands Avenue\, Leeds\, West Yorkshire\, LS14 6SG\, United Kingdom
ATTACH;FMTTYPE=image/jpeg:https://getawaygirls.co.uk/wp-content/uploads/2024/01/Girls-space.jpg
END:VEVENT
BEGIN:VEVENT
DTSTART;TZID=UTC:20250225T123000
DTEND;TZID=UTC:20250225T140000
DTSTAMP:20260421T080257
CREATED:20250618T144956Z
LAST-MODIFIED:20250618T145117Z
UID:10000955-1740486600-1740492000@getawaygirls.co.uk
SUMMARY:Yoga
DESCRIPTION:Yoga group\, refreshments and creché.
URL:https://getawaygirls.co.uk/group/yoga-4/2025-02-25/
LOCATION:Getaway Girls\, 19 Brooklands Avenue\, Leeds\, West Yorkshire\, LS14 6SG\, United Kingdom
ATTACH;FMTTYPE=image/jpeg:https://getawaygirls.co.uk/wp-content/uploads/2024/01/Yoga.jpg
END:VEVENT
BEGIN:VEVENT
DTSTART;TZID=UTC:20250225T153000
DTEND;TZID=UTC:20250225T173000
DTSTAMP:20260421T080257
CREATED:20250103T092332Z
LAST-MODIFIED:20250311T154949Z
UID:10000768-1740497400-1740504600@getawaygirls.co.uk
SUMMARY:Girls space 13-16yrs
DESCRIPTION:Girls Space for young women aged 13-16yrs
URL:https://getawaygirls.co.uk/group/girls-space-13-16yrs-2/2025-02-25/
LOCATION:Getaway Girls\, 19 Brooklands Avenue\, Leeds\, West Yorkshire\, LS14 6SG\, United Kingdom
ATTACH;FMTTYPE=image/jpeg:https://getawaygirls.co.uk/wp-content/uploads/2024/01/Girls-space.jpg
END:VEVENT
BEGIN:VEVENT
DTSTART;TZID=UTC:20250227T160000
DTEND;TZID=UTC:20250227T173000
DTSTAMP:20260421T080257
CREATED:20250103T100016Z
LAST-MODIFIED:20250311T155056Z
UID:10000717-1740672000-1740677400@getawaygirls.co.uk
SUMMARY:Vocal Girls
DESCRIPTION:Campaigning Group for girls 15-18yrs
URL:https://getawaygirls.co.uk/group/vocal-girls-3/2025-02-27/
LOCATION:Getaway Girls\, 19 Brooklands Avenue\, Leeds\, West Yorkshire\, LS14 6SG\, United Kingdom
ATTACH;FMTTYPE=image/jpeg:https://getawaygirls.co.uk/wp-content/uploads/2024/10/Vocal-Girls-event-2.jpg
END:VEVENT
BEGIN:VEVENT
DTSTART;TZID=UTC:20250227T160000
DTEND;TZID=UTC:20250227T173000
DTSTAMP:20260421T080257
CREATED:20250215T121448Z
LAST-MODIFIED:20250311T155322Z
UID:10000724-1740672000-1740677400@getawaygirls.co.uk
SUMMARY:Romanian Girls group 11-16yrs
DESCRIPTION:Romanian Girls group 11-16yrs
URL:https://getawaygirls.co.uk/group/romanian-girls-group-11-16yrs/2025-02-27/
LOCATION:St Aidans Church Hall\, Harehills\, Elford Place West\, Leeds\, LS8 5QD
ATTACH;FMTTYPE=image/png:https://getawaygirls.co.uk/wp-content/uploads/2025/02/Romanian-Girls.png
END:VEVENT
BEGIN:VEVENT
DTSTART;TZID=UTC:20250228T160000
DTEND;TZID=UTC:20250228T173000
DTSTAMP:20260421T080257
CREATED:20250103T114212Z
LAST-MODIFIED:20250311T155531Z
UID:10000799-1740758400-1740763800@getawaygirls.co.uk
SUMMARY:Music Group 16-21
DESCRIPTION:Music Group for your women aged 16-21yrs
URL:https://getawaygirls.co.uk/group/music-group-16-21/2025-02-28/
LOCATION:Getaway Girls\, 19 Brooklands Avenue\, Leeds\, West Yorkshire\, LS14 6SG\, United Kingdom
ATTACH;FMTTYPE=image/jpeg:https://getawaygirls.co.uk/wp-content/uploads/2025/01/Music-Group.jpg
END:VEVENT
BEGIN:VEVENT
DTSTART;TZID=UTC:20250303T153000
DTEND;TZID=UTC:20250303T173000
DTSTAMP:20260421T080257
CREATED:20240904T104211Z
LAST-MODIFIED:20250311T154913Z
UID:10000756-1741015800-1741023000@getawaygirls.co.uk
SUMMARY:Girls Squad 8-11yrs
DESCRIPTION:Girls Space for girls aged 8-11yrs
URL:https://getawaygirls.co.uk/group/girls-space-8-11yrs/2025-03-03/
LOCATION:Getaway Girls\, 19 Brooklands Avenue\, Leeds\, West Yorkshire\, LS14 6SG\, United Kingdom
ATTACH;FMTTYPE=image/jpeg:https://getawaygirls.co.uk/wp-content/uploads/2024/01/Girls-space.jpg
END:VEVENT
BEGIN:VEVENT
DTSTART;TZID=UTC:20250304T123000
DTEND;TZID=UTC:20250304T140000
DTSTAMP:20260421T080257
CREATED:20250618T144956Z
LAST-MODIFIED:20250618T145117Z
UID:10000956-1741091400-1741096800@getawaygirls.co.uk
SUMMARY:Yoga
DESCRIPTION:Yoga group\, refreshments and creché.
URL:https://getawaygirls.co.uk/group/yoga-4/2025-03-04/
LOCATION:Getaway Girls\, 19 Brooklands Avenue\, Leeds\, West Yorkshire\, LS14 6SG\, United Kingdom
ATTACH;FMTTYPE=image/jpeg:https://getawaygirls.co.uk/wp-content/uploads/2024/01/Yoga.jpg
END:VEVENT
BEGIN:VEVENT
DTSTART;TZID=UTC:20250304T153000
DTEND;TZID=UTC:20250304T173000
DTSTAMP:20260421T080257
CREATED:20250103T092332Z
LAST-MODIFIED:20250311T154949Z
UID:10000769-1741102200-1741109400@getawaygirls.co.uk
SUMMARY:Girls space 13-16yrs
DESCRIPTION:Girls Space for young women aged 13-16yrs
URL:https://getawaygirls.co.uk/group/girls-space-13-16yrs-2/2025-03-04/
LOCATION:Getaway Girls\, 19 Brooklands Avenue\, Leeds\, West Yorkshire\, LS14 6SG\, United Kingdom
ATTACH;FMTTYPE=image/jpeg:https://getawaygirls.co.uk/wp-content/uploads/2024/01/Girls-space.jpg
END:VEVENT
BEGIN:VEVENT
DTSTART;TZID=UTC:20250306T160000
DTEND;TZID=UTC:20250306T173000
DTSTAMP:20260421T080257
CREATED:20250103T100016Z
LAST-MODIFIED:20250311T155056Z
UID:10000777-1741276800-1741282200@getawaygirls.co.uk
SUMMARY:Vocal Girls
DESCRIPTION:Campaigning Group for girls 15-18yrs
URL:https://getawaygirls.co.uk/group/vocal-girls-3/2025-03-06/
LOCATION:Getaway Girls\, 19 Brooklands Avenue\, Leeds\, West Yorkshire\, LS14 6SG\, United Kingdom
ATTACH;FMTTYPE=image/jpeg:https://getawaygirls.co.uk/wp-content/uploads/2024/10/Vocal-Girls-event-2.jpg
END:VEVENT
BEGIN:VEVENT
DTSTART;TZID=UTC:20250306T160000
DTEND;TZID=UTC:20250306T173000
DTSTAMP:20260421T080257
CREATED:20250215T121448Z
LAST-MODIFIED:20250311T155322Z
UID:10000781-1741276800-1741282200@getawaygirls.co.uk
SUMMARY:Romanian Girls group 11-16yrs
DESCRIPTION:Romanian Girls group 11-16yrs
URL:https://getawaygirls.co.uk/group/romanian-girls-group-11-16yrs/2025-03-06/
LOCATION:St Aidans Church Hall\, Harehills\, Elford Place West\, Leeds\, LS8 5QD
ATTACH;FMTTYPE=image/png:https://getawaygirls.co.uk/wp-content/uploads/2025/02/Romanian-Girls.png
END:VEVENT
BEGIN:VEVENT
DTSTART;TZID=UTC:20250307T160000
DTEND;TZID=UTC:20250307T173000
DTSTAMP:20260421T080257
CREATED:20250103T114212Z
LAST-MODIFIED:20250311T155531Z
UID:10000800-1741363200-1741368600@getawaygirls.co.uk
SUMMARY:Music Group 16-21
DESCRIPTION:Music Group for your women aged 16-21yrs
URL:https://getawaygirls.co.uk/group/music-group-16-21/2025-03-07/
LOCATION:Getaway Girls\, 19 Brooklands Avenue\, Leeds\, West Yorkshire\, LS14 6SG\, United Kingdom
ATTACH;FMTTYPE=image/jpeg:https://getawaygirls.co.uk/wp-content/uploads/2025/01/Music-Group.jpg
END:VEVENT
BEGIN:VEVENT
DTSTART;TZID=UTC:20250310T153000
DTEND;TZID=UTC:20250310T173000
DTSTAMP:20260421T080257
CREATED:20240904T104211Z
LAST-MODIFIED:20250311T154913Z
UID:10000757-1741620600-1741627800@getawaygirls.co.uk
SUMMARY:Girls Squad 8-11yrs
DESCRIPTION:Girls Space for girls aged 8-11yrs
URL:https://getawaygirls.co.uk/group/girls-space-8-11yrs/2025-03-10/
LOCATION:Getaway Girls\, 19 Brooklands Avenue\, Leeds\, West Yorkshire\, LS14 6SG\, United Kingdom
ATTACH;FMTTYPE=image/jpeg:https://getawaygirls.co.uk/wp-content/uploads/2024/01/Girls-space.jpg
END:VEVENT
END:VCALENDAR