BEGIN:VCALENDAR
VERSION:2.0
PRODID:-//Getaway Girls - ECPv6.15.20//NONSGML v1.0//EN
CALSCALE:GREGORIAN
METHOD:PUBLISH
X-WR-CALNAME:Getaway Girls
X-ORIGINAL-URL:https://getawaygirls.co.uk
X-WR-CALDESC:Events for Getaway Girls
REFRESH-INTERVAL;VALUE=DURATION:PT1H
X-Robots-Tag:noindex
X-PUBLISHED-TTL:PT1H
BEGIN:VTIMEZONE
TZID:UTC
BEGIN:STANDARD
TZOFFSETFROM:+0000
TZOFFSETTO:+0000
TZNAME:UTC
DTSTART:20230101T000000
END:STANDARD
END:VTIMEZONE
BEGIN:VEVENT
DTSTART;TZID=UTC:20240522T120000
DTEND;TZID=UTC:20240522T130000
DTSTAMP:20260421T232407
CREATED:20240503T081521Z
LAST-MODIFIED:20240503T081601Z
UID:10000398-1716379200-1716382800@getawaygirls.co.uk
SUMMARY:Drop in lunch
DESCRIPTION:Drop in / Lunch for young women aged 16-25 yrs
URL:https://getawaygirls.co.uk/group/drop-in-lunch-7/2024-05-22/
LOCATION:Getaway Girls\, 19 Brooklands Avenue\, Leeds\, West Yorkshire\, LS14 6SG\, United Kingdom
ATTACH;FMTTYPE=image/jpeg:https://getawaygirls.co.uk/wp-content/uploads/2024/01/Drop-in-lunch.jpg
END:VEVENT
BEGIN:VEVENT
DTSTART;TZID=UTC:20240522T130000
DTEND;TZID=UTC:20240522T143000
DTSTAMP:20260421T232407
CREATED:20240503T081837Z
LAST-MODIFIED:20240503T081915Z
UID:10000409-1716382800-1716388200@getawaygirls.co.uk
SUMMARY:She Writes
DESCRIPTION:Creative writing group for young women aged 16-25 yrs\, with creché
URL:https://getawaygirls.co.uk/group/she-writes-3/2024-05-22/
LOCATION:Getaway Girls\, 19 Brooklands Avenue\, Leeds\, West Yorkshire\, LS14 6SG\, United Kingdom
ATTACH;FMTTYPE=image/jpeg:https://getawaygirls.co.uk/wp-content/uploads/2024/01/She-writes.jpg
END:VEVENT
BEGIN:VEVENT
DTSTART;TZID=UTC:20240524T120000
DTEND;TZID=UTC:20240524T130000
DTSTAMP:20260421T232407
CREATED:20240329T123757Z
LAST-MODIFIED:20240503T082645Z
UID:10000420-1716552000-1716555600@getawaygirls.co.uk
SUMMARY:Drop in lunch
DESCRIPTION:Drop in / Lunch for young women aged 16-25 yrs
URL:https://getawaygirls.co.uk/group/drop-in-lunch-4/2024-05-24/
LOCATION:Getaway Girls\, 19 Brooklands Avenue\, Leeds\, West Yorkshire\, LS14 6SG\, United Kingdom
ATTACH;FMTTYPE=image/jpeg:https://getawaygirls.co.uk/wp-content/uploads/2024/01/Drop-in-lunch.jpg
END:VEVENT
BEGIN:VEVENT
DTSTART;TZID=UTC:20240524T130000
DTEND;TZID=UTC:20240524T143000
DTSTAMP:20260421T232407
CREATED:20240503T082824Z
LAST-MODIFIED:20240503T082917Z
UID:10000430-1716555600-1716561000@getawaygirls.co.uk
SUMMARY:Cooking together
DESCRIPTION:Cooking together for young women aged 16-25 yrs\, creché available
URL:https://getawaygirls.co.uk/group/cooking-together-3/2024-05-24/
LOCATION:Getaway Girls\, 19 Brooklands Avenue\, Leeds\, West Yorkshire\, LS14 6SG\, United Kingdom
ATTACH;FMTTYPE=image/jpeg:https://getawaygirls.co.uk/wp-content/uploads/2024/01/Cooking-together.jpg
END:VEVENT
BEGIN:VEVENT
DTSTART;TZID=UTC:20240524T160000
DTEND;TZID=UTC:20240524T173000
DTSTAMP:20260421T232407
CREATED:20240503T083055Z
LAST-MODIFIED:20240503T083112Z
UID:10000440-1716566400-1716571800@getawaygirls.co.uk
SUMMARY:Girls space
DESCRIPTION:Girls Space for girls aged 8-11yrs
URL:https://getawaygirls.co.uk/group/girls-space-5/2024-05-24/
LOCATION:Getaway Girls\, 19 Brooklands Avenue\, Leeds\, West Yorkshire\, LS14 6SG\, United Kingdom
ATTACH;FMTTYPE=image/jpeg:https://getawaygirls.co.uk/wp-content/uploads/2024/01/Girls-space.jpg
END:VEVENT
BEGIN:VEVENT
DTSTART;TZID=UTC:20240524T160000
DTEND;TZID=UTC:20240524T173000
DTSTAMP:20260421T232407
CREATED:20240503T083202Z
LAST-MODIFIED:20240503T083232Z
UID:10000450-1716566400-1716571800@getawaygirls.co.uk
SUMMARY:Girls space
DESCRIPTION:Girls Space for young women aged 11-17yrs
URL:https://getawaygirls.co.uk/group/girls-space-6/2024-05-24/
LOCATION:Getaway Girls\, 19 Brooklands Avenue\, Leeds\, West Yorkshire\, LS14 6SG\, United Kingdom
ATTACH;FMTTYPE=image/jpeg:https://getawaygirls.co.uk/wp-content/uploads/2024/01/Girls-space.jpg
END:VEVENT
BEGIN:VEVENT
DTSTART;TZID=UTC:20240526T130000
DTEND;TZID=UTC:20240526T160000
DTSTAMP:20260421T232407
CREATED:20240503T083625Z
LAST-MODIFIED:20240503T083813Z
UID:10000458-1716728400-1716739200@getawaygirls.co.uk
SUMMARY:DJing training\, MCing\, Music
DESCRIPTION:DJing training\, MCing\, Music\, for young women
URL:https://getawaygirls.co.uk/group/djing-training-mcing-music-2/2024-05-26/
LOCATION:Getaway Girls\, 19 Brooklands Avenue\, Leeds\, West Yorkshire\, LS14 6SG\, United Kingdom
ATTACH;FMTTYPE=image/jpeg:https://getawaygirls.co.uk/wp-content/uploads/2024/01/DJing.jpg
END:VEVENT
BEGIN:VEVENT
DTSTART;TZID=UTC:20240527T120000
DTEND;TZID=UTC:20240527T130000
DTSTAMP:20260421T232407
CREATED:20240502T163900Z
LAST-MODIFIED:20240503T081417Z
UID:10000359-1716811200-1716814800@getawaygirls.co.uk
SUMMARY:Drop in lunch
DESCRIPTION:Drop in / Lunch for young women aged 16-25 yrs
URL:https://getawaygirls.co.uk/group/drop-in-lunch-6/2024-05-27/
LOCATION:Getaway Girls\, 19 Brooklands Avenue\, Leeds\, West Yorkshire\, LS14 6SG\, United Kingdom
ATTACH;FMTTYPE=image/jpeg:https://getawaygirls.co.uk/wp-content/uploads/2024/01/Drop-in-lunch.jpg
END:VEVENT
BEGIN:VEVENT
DTSTART;TZID=UTC:20240527T130000
DTEND;TZID=UTC:20240527T143000
DTSTAMP:20260421T232407
CREATED:20240502T164222Z
LAST-MODIFIED:20240721T081553Z
UID:10000369-1716814800-1716820200@getawaygirls.co.uk
SUMMARY:Proud to be Mum group
DESCRIPTION:Proud to be Mums group\, upto 25yrs\, with creché
URL:https://getawaygirls.co.uk/group/proud-to-be-mum-group-2/2024-05-27/
LOCATION:Getaway Girls\, 19 Brooklands Avenue\, Leeds\, West Yorkshire\, LS14 6SG\, United Kingdom
ATTACH;FMTTYPE=image/jpeg:https://getawaygirls.co.uk/wp-content/uploads/2024/01/Proud-to-be-Mum.jpg
END:VEVENT
BEGIN:VEVENT
DTSTART;TZID=UTC:20240528T130000
DTEND;TZID=UTC:20240528T143000
DTSTAMP:20260421T232407
CREATED:20240502T164416Z
LAST-MODIFIED:20240502T164444Z
UID:10000379-1716901200-1716906600@getawaygirls.co.uk
SUMMARY:Yoga
DESCRIPTION:Yoga group\, refreshments and creché.
URL:https://getawaygirls.co.uk/group/yoga-3/2024-05-28/
LOCATION:Getaway Girls\, 19 Brooklands Avenue\, Leeds\, West Yorkshire\, LS14 6SG\, United Kingdom
ATTACH;FMTTYPE=image/jpeg:https://getawaygirls.co.uk/wp-content/uploads/2024/01/Yoga.jpg
END:VEVENT
BEGIN:VEVENT
DTSTART;TZID=UTC:20240528T160000
DTEND;TZID=UTC:20240528T173000
DTSTAMP:20260421T232407
CREATED:20240502T164735Z
LAST-MODIFIED:20240503T081208Z
UID:10000389-1716912000-1716917400@getawaygirls.co.uk
SUMMARY:Girls space
DESCRIPTION:Girls Space for young women aged 11-17yrs
URL:https://getawaygirls.co.uk/group/girls-space-4/2024-05-28/
LOCATION:Getaway Girls\, 19 Brooklands Avenue\, Leeds\, West Yorkshire\, LS14 6SG\, United Kingdom
ATTACH;FMTTYPE=image/jpeg:https://getawaygirls.co.uk/wp-content/uploads/2024/01/Girls-space.jpg
END:VEVENT
BEGIN:VEVENT
DTSTART;TZID=UTC:20240529T120000
DTEND;TZID=UTC:20240529T130000
DTSTAMP:20260421T232407
CREATED:20240503T081521Z
LAST-MODIFIED:20240503T081601Z
UID:10000399-1716984000-1716987600@getawaygirls.co.uk
SUMMARY:Drop in lunch
DESCRIPTION:Drop in / Lunch for young women aged 16-25 yrs
URL:https://getawaygirls.co.uk/group/drop-in-lunch-7/2024-05-29/
LOCATION:Getaway Girls\, 19 Brooklands Avenue\, Leeds\, West Yorkshire\, LS14 6SG\, United Kingdom
ATTACH;FMTTYPE=image/jpeg:https://getawaygirls.co.uk/wp-content/uploads/2024/01/Drop-in-lunch.jpg
END:VEVENT
BEGIN:VEVENT
DTSTART;TZID=UTC:20240529T120000
DTEND;TZID=UTC:20240529T160000
DTSTAMP:20260421T232407
CREATED:20240503T085016Z
LAST-MODIFIED:20240503T085046Z
UID:10000271-1716984000-1716998400@getawaygirls.co.uk
SUMMARY:Half Term Activity Day & self defence
DESCRIPTION:Girls Space for young women aged 11-17yrs
URL:https://getawaygirls.co.uk/group/girls-space-7/
LOCATION:Getaway Girls\, 19 Brooklands Avenue\, Leeds\, West Yorkshire\, LS14 6SG\, United Kingdom
ATTACH;FMTTYPE=image/jpeg:https://getawaygirls.co.uk/wp-content/uploads/2024/01/Girls-space.jpg
END:VEVENT
BEGIN:VEVENT
DTSTART;TZID=UTC:20240529T130000
DTEND;TZID=UTC:20240529T143000
DTSTAMP:20260421T232407
CREATED:20240503T081837Z
LAST-MODIFIED:20240503T081915Z
UID:10000410-1716987600-1716993000@getawaygirls.co.uk
SUMMARY:She Writes
DESCRIPTION:Creative writing group for young women aged 16-25 yrs\, with creché
URL:https://getawaygirls.co.uk/group/she-writes-3/2024-05-29/
LOCATION:Getaway Girls\, 19 Brooklands Avenue\, Leeds\, West Yorkshire\, LS14 6SG\, United Kingdom
ATTACH;FMTTYPE=image/jpeg:https://getawaygirls.co.uk/wp-content/uploads/2024/01/She-writes.jpg
END:VEVENT
BEGIN:VEVENT
DTSTART;TZID=UTC:20240531T120000
DTEND;TZID=UTC:20240531T130000
DTSTAMP:20260421T232407
CREATED:20240329T123757Z
LAST-MODIFIED:20240503T082645Z
UID:10000421-1717156800-1717160400@getawaygirls.co.uk
SUMMARY:Drop in lunch
DESCRIPTION:Drop in / Lunch for young women aged 16-25 yrs
URL:https://getawaygirls.co.uk/group/drop-in-lunch-4/2024-05-31/
LOCATION:Getaway Girls\, 19 Brooklands Avenue\, Leeds\, West Yorkshire\, LS14 6SG\, United Kingdom
ATTACH;FMTTYPE=image/jpeg:https://getawaygirls.co.uk/wp-content/uploads/2024/01/Drop-in-lunch.jpg
END:VEVENT
BEGIN:VEVENT
DTSTART;TZID=UTC:20240531T130000
DTEND;TZID=UTC:20240531T143000
DTSTAMP:20260421T232407
CREATED:20240503T082824Z
LAST-MODIFIED:20240503T082917Z
UID:10000431-1717160400-1717165800@getawaygirls.co.uk
SUMMARY:Cooking together
DESCRIPTION:Cooking together for young women aged 16-25 yrs\, creché available
URL:https://getawaygirls.co.uk/group/cooking-together-3/2024-05-31/
LOCATION:Getaway Girls\, 19 Brooklands Avenue\, Leeds\, West Yorkshire\, LS14 6SG\, United Kingdom
ATTACH;FMTTYPE=image/jpeg:https://getawaygirls.co.uk/wp-content/uploads/2024/01/Cooking-together.jpg
END:VEVENT
BEGIN:VEVENT
DTSTART;TZID=UTC:20240531T160000
DTEND;TZID=UTC:20240531T173000
DTSTAMP:20260421T232407
CREATED:20240503T083055Z
LAST-MODIFIED:20240503T083112Z
UID:10000441-1717171200-1717176600@getawaygirls.co.uk
SUMMARY:Girls space
DESCRIPTION:Girls Space for girls aged 8-11yrs
URL:https://getawaygirls.co.uk/group/girls-space-5/2024-05-31/
LOCATION:Getaway Girls\, 19 Brooklands Avenue\, Leeds\, West Yorkshire\, LS14 6SG\, United Kingdom
ATTACH;FMTTYPE=image/jpeg:https://getawaygirls.co.uk/wp-content/uploads/2024/01/Girls-space.jpg
END:VEVENT
BEGIN:VEVENT
DTSTART;TZID=UTC:20240531T160000
DTEND;TZID=UTC:20240531T173000
DTSTAMP:20260421T232407
CREATED:20240503T083202Z
LAST-MODIFIED:20240503T083232Z
UID:10000451-1717171200-1717176600@getawaygirls.co.uk
SUMMARY:Girls space
DESCRIPTION:Girls Space for young women aged 11-17yrs
URL:https://getawaygirls.co.uk/group/girls-space-6/2024-05-31/
LOCATION:Getaway Girls\, 19 Brooklands Avenue\, Leeds\, West Yorkshire\, LS14 6SG\, United Kingdom
ATTACH;FMTTYPE=image/jpeg:https://getawaygirls.co.uk/wp-content/uploads/2024/01/Girls-space.jpg
END:VEVENT
BEGIN:VEVENT
DTSTART;TZID=UTC:20240603T120000
DTEND;TZID=UTC:20240603T130000
DTSTAMP:20260421T232407
CREATED:20240502T163900Z
LAST-MODIFIED:20240503T081417Z
UID:10000360-1717416000-1717419600@getawaygirls.co.uk
SUMMARY:Drop in lunch
DESCRIPTION:Drop in / Lunch for young women aged 16-25 yrs
URL:https://getawaygirls.co.uk/group/drop-in-lunch-6/2024-06-03/
LOCATION:Getaway Girls\, 19 Brooklands Avenue\, Leeds\, West Yorkshire\, LS14 6SG\, United Kingdom
ATTACH;FMTTYPE=image/jpeg:https://getawaygirls.co.uk/wp-content/uploads/2024/01/Drop-in-lunch.jpg
END:VEVENT
BEGIN:VEVENT
DTSTART;TZID=UTC:20240603T130000
DTEND;TZID=UTC:20240603T143000
DTSTAMP:20260421T232407
CREATED:20240502T164222Z
LAST-MODIFIED:20240721T081553Z
UID:10000370-1717419600-1717425000@getawaygirls.co.uk
SUMMARY:Proud to be Mum group
DESCRIPTION:Proud to be Mums group\, upto 25yrs\, with creché
URL:https://getawaygirls.co.uk/group/proud-to-be-mum-group-2/2024-06-03/
LOCATION:Getaway Girls\, 19 Brooklands Avenue\, Leeds\, West Yorkshire\, LS14 6SG\, United Kingdom
ATTACH;FMTTYPE=image/jpeg:https://getawaygirls.co.uk/wp-content/uploads/2024/01/Proud-to-be-Mum.jpg
END:VEVENT
BEGIN:VEVENT
DTSTART;TZID=UTC:20240604T130000
DTEND;TZID=UTC:20240604T143000
DTSTAMP:20260421T232407
CREATED:20240502T164416Z
LAST-MODIFIED:20240502T164444Z
UID:10000380-1717506000-1717511400@getawaygirls.co.uk
SUMMARY:Yoga
DESCRIPTION:Yoga group\, refreshments and creché.
URL:https://getawaygirls.co.uk/group/yoga-3/2024-06-04/
LOCATION:Getaway Girls\, 19 Brooklands Avenue\, Leeds\, West Yorkshire\, LS14 6SG\, United Kingdom
ATTACH;FMTTYPE=image/jpeg:https://getawaygirls.co.uk/wp-content/uploads/2024/01/Yoga.jpg
END:VEVENT
BEGIN:VEVENT
DTSTART;TZID=UTC:20240604T160000
DTEND;TZID=UTC:20240604T173000
DTSTAMP:20260421T232407
CREATED:20240502T164735Z
LAST-MODIFIED:20240503T081208Z
UID:10000390-1717516800-1717522200@getawaygirls.co.uk
SUMMARY:Girls space
DESCRIPTION:Girls Space for young women aged 11-17yrs
URL:https://getawaygirls.co.uk/group/girls-space-4/2024-06-04/
LOCATION:Getaway Girls\, 19 Brooklands Avenue\, Leeds\, West Yorkshire\, LS14 6SG\, United Kingdom
ATTACH;FMTTYPE=image/jpeg:https://getawaygirls.co.uk/wp-content/uploads/2024/01/Girls-space.jpg
END:VEVENT
BEGIN:VEVENT
DTSTART;TZID=UTC:20240605T120000
DTEND;TZID=UTC:20240605T130000
DTSTAMP:20260421T232407
CREATED:20240503T081521Z
LAST-MODIFIED:20240503T081601Z
UID:10000400-1717588800-1717592400@getawaygirls.co.uk
SUMMARY:Drop in lunch
DESCRIPTION:Drop in / Lunch for young women aged 16-25 yrs
URL:https://getawaygirls.co.uk/group/drop-in-lunch-7/2024-06-05/
LOCATION:Getaway Girls\, 19 Brooklands Avenue\, Leeds\, West Yorkshire\, LS14 6SG\, United Kingdom
ATTACH;FMTTYPE=image/jpeg:https://getawaygirls.co.uk/wp-content/uploads/2024/01/Drop-in-lunch.jpg
END:VEVENT
BEGIN:VEVENT
DTSTART;TZID=UTC:20240605T130000
DTEND;TZID=UTC:20240605T143000
DTSTAMP:20260421T232407
CREATED:20240503T081837Z
LAST-MODIFIED:20240503T081915Z
UID:10000411-1717592400-1717597800@getawaygirls.co.uk
SUMMARY:She Writes
DESCRIPTION:Creative writing group for young women aged 16-25 yrs\, with creché
URL:https://getawaygirls.co.uk/group/she-writes-3/2024-06-05/
LOCATION:Getaway Girls\, 19 Brooklands Avenue\, Leeds\, West Yorkshire\, LS14 6SG\, United Kingdom
ATTACH;FMTTYPE=image/jpeg:https://getawaygirls.co.uk/wp-content/uploads/2024/01/She-writes.jpg
END:VEVENT
BEGIN:VEVENT
DTSTART;TZID=UTC:20240607T120000
DTEND;TZID=UTC:20240607T130000
DTSTAMP:20260421T232407
CREATED:20240329T123757Z
LAST-MODIFIED:20240503T082645Z
UID:10000422-1717761600-1717765200@getawaygirls.co.uk
SUMMARY:Drop in lunch
DESCRIPTION:Drop in / Lunch for young women aged 16-25 yrs
URL:https://getawaygirls.co.uk/group/drop-in-lunch-4/2024-06-07/
LOCATION:Getaway Girls\, 19 Brooklands Avenue\, Leeds\, West Yorkshire\, LS14 6SG\, United Kingdom
ATTACH;FMTTYPE=image/jpeg:https://getawaygirls.co.uk/wp-content/uploads/2024/01/Drop-in-lunch.jpg
END:VEVENT
BEGIN:VEVENT
DTSTART;TZID=UTC:20240607T130000
DTEND;TZID=UTC:20240607T143000
DTSTAMP:20260421T232407
CREATED:20240503T082824Z
LAST-MODIFIED:20240503T082917Z
UID:10000432-1717765200-1717770600@getawaygirls.co.uk
SUMMARY:Cooking together
DESCRIPTION:Cooking together for young women aged 16-25 yrs\, creché available
URL:https://getawaygirls.co.uk/group/cooking-together-3/2024-06-07/
LOCATION:Getaway Girls\, 19 Brooklands Avenue\, Leeds\, West Yorkshire\, LS14 6SG\, United Kingdom
ATTACH;FMTTYPE=image/jpeg:https://getawaygirls.co.uk/wp-content/uploads/2024/01/Cooking-together.jpg
END:VEVENT
BEGIN:VEVENT
DTSTART;TZID=UTC:20240607T160000
DTEND;TZID=UTC:20240607T173000
DTSTAMP:20260421T232407
CREATED:20240503T083055Z
LAST-MODIFIED:20240503T083112Z
UID:10000442-1717776000-1717781400@getawaygirls.co.uk
SUMMARY:Girls space
DESCRIPTION:Girls Space for girls aged 8-11yrs
URL:https://getawaygirls.co.uk/group/girls-space-5/2024-06-07/
LOCATION:Getaway Girls\, 19 Brooklands Avenue\, Leeds\, West Yorkshire\, LS14 6SG\, United Kingdom
ATTACH;FMTTYPE=image/jpeg:https://getawaygirls.co.uk/wp-content/uploads/2024/01/Girls-space.jpg
END:VEVENT
BEGIN:VEVENT
DTSTART;TZID=UTC:20240607T160000
DTEND;TZID=UTC:20240607T173000
DTSTAMP:20260421T232407
CREATED:20240503T083202Z
LAST-MODIFIED:20240503T083232Z
UID:10000452-1717776000-1717781400@getawaygirls.co.uk
SUMMARY:Girls space
DESCRIPTION:Girls Space for young women aged 11-17yrs
URL:https://getawaygirls.co.uk/group/girls-space-6/2024-06-07/
LOCATION:Getaway Girls\, 19 Brooklands Avenue\, Leeds\, West Yorkshire\, LS14 6SG\, United Kingdom
ATTACH;FMTTYPE=image/jpeg:https://getawaygirls.co.uk/wp-content/uploads/2024/01/Girls-space.jpg
END:VEVENT
BEGIN:VEVENT
DTSTART;TZID=UTC:20240609T130000
DTEND;TZID=UTC:20240609T160000
DTSTAMP:20260421T232407
CREATED:20240503T083905Z
LAST-MODIFIED:20240503T083922Z
UID:10000342-1717938000-1717948800@getawaygirls.co.uk
SUMMARY:DJing training\, MCing\, Music
DESCRIPTION:DJing training\, MCing\, Music\, for young women
URL:https://getawaygirls.co.uk/group/djing-training-mcing-music-3/2024-06-09/
LOCATION:Getaway Girls\, 19 Brooklands Avenue\, Leeds\, West Yorkshire\, LS14 6SG\, United Kingdom
ATTACH;FMTTYPE=image/jpeg:https://getawaygirls.co.uk/wp-content/uploads/2024/01/DJing.jpg
END:VEVENT
BEGIN:VEVENT
DTSTART;TZID=UTC:20240610T120000
DTEND;TZID=UTC:20240610T130000
DTSTAMP:20260421T232407
CREATED:20240502T163900Z
LAST-MODIFIED:20240503T081417Z
UID:10000361-1718020800-1718024400@getawaygirls.co.uk
SUMMARY:Drop in lunch
DESCRIPTION:Drop in / Lunch for young women aged 16-25 yrs
URL:https://getawaygirls.co.uk/group/drop-in-lunch-6/2024-06-10/
LOCATION:Getaway Girls\, 19 Brooklands Avenue\, Leeds\, West Yorkshire\, LS14 6SG\, United Kingdom
ATTACH;FMTTYPE=image/jpeg:https://getawaygirls.co.uk/wp-content/uploads/2024/01/Drop-in-lunch.jpg
END:VEVENT
END:VCALENDAR