BEGIN:VCALENDAR
VERSION:2.0
PRODID:-//Getaway Girls - ECPv6.15.20//NONSGML v1.0//EN
CALSCALE:GREGORIAN
METHOD:PUBLISH
X-WR-CALNAME:Getaway Girls
X-ORIGINAL-URL:https://getawaygirls.co.uk
X-WR-CALDESC:Events for Getaway Girls
REFRESH-INTERVAL;VALUE=DURATION:PT1H
X-Robots-Tag:noindex
X-PUBLISHED-TTL:PT1H
BEGIN:VTIMEZONE
TZID:UTC
BEGIN:STANDARD
TZOFFSETFROM:+0000
TZOFFSETTO:+0000
TZNAME:UTC
DTSTART:20230101T000000
END:STANDARD
END:VTIMEZONE
BEGIN:VEVENT
DTSTART;TZID=UTC:20240416T130000
DTEND;TZID=UTC:20240416T143000
DTSTAMP:20260422T023842
CREATED:20240329T130608Z
LAST-MODIFIED:20240329T130658Z
UID:10000329-1713272400-1713277800@getawaygirls.co.uk
SUMMARY:Yoga
DESCRIPTION:Yoga group\, refreshments and creché.
URL:https://getawaygirls.co.uk/group/yoga-2/2024-04-16/
LOCATION:Getaway Girls\, 19 Brooklands Avenue\, Leeds\, West Yorkshire\, LS14 6SG\, United Kingdom
ATTACH;FMTTYPE=image/jpeg:https://getawaygirls.co.uk/wp-content/uploads/2024/01/Yoga.jpg
END:VEVENT
BEGIN:VEVENT
DTSTART;TZID=UTC:20240417T130000
DTEND;TZID=UTC:20240417T143000
DTSTAMP:20260422T023842
CREATED:20240329T123233Z
LAST-MODIFIED:20240329T131525Z
UID:10000354-1713358800-1713364200@getawaygirls.co.uk
SUMMARY:She Writes
DESCRIPTION:Creative writing group for young women aged 16-25 yrs\, with creché
URL:https://getawaygirls.co.uk/group/she-writes-2/2024-04-17/
LOCATION:Getaway Girls\, 19 Brooklands Avenue\, Leeds\, West Yorkshire\, LS14 6SG\, United Kingdom
ATTACH;FMTTYPE=image/jpeg:https://getawaygirls.co.uk/wp-content/uploads/2024/01/She-writes.jpg
END:VEVENT
BEGIN:VEVENT
DTSTART;TZID=UTC:20240417T160000
DTEND;TZID=UTC:20240417T173000
DTSTAMP:20260422T023842
CREATED:20240329T122630Z
LAST-MODIFIED:20240329T122706Z
UID:10000145-1713369600-1713375000@getawaygirls.co.uk
SUMMARY:Young women’s space
DESCRIPTION:Young womens group\, for ages 13-17 yrs
URL:https://getawaygirls.co.uk/group/young-womens-space-2/2024-04-17/
LOCATION:Shine\, Harehills road\,\, Leeds\, West Yorkshire\, LS8 5HS\, United Kingdom
ATTACH;FMTTYPE=image/jpeg:https://getawaygirls.co.uk/wp-content/uploads/2024/01/Young-womens-space.jpg
END:VEVENT
BEGIN:VEVENT
DTSTART;TZID=UTC:20240418T160000
DTEND;TZID=UTC:20240418T173000
DTSTAMP:20260422T023842
CREATED:20240329T122240Z
LAST-MODIFIED:20240329T122423Z
UID:10000153-1713456000-1713461400@getawaygirls.co.uk
SUMMARY:Leadership programme
DESCRIPTION:Leadership programme for young women aged 15-18 yrs
URL:https://getawaygirls.co.uk/group/leadership-programme-2/2024-04-18/
LOCATION:Getaway Girls\, 19 Brooklands Avenue\, Leeds\, West Yorkshire\, LS14 6SG\, United Kingdom
ATTACH;FMTTYPE=image/jpeg:https://getawaygirls.co.uk/wp-content/uploads/2024/01/Leadership-programme.jpg
END:VEVENT
BEGIN:VEVENT
DTSTART;TZID=UTC:20240419T120000
DTEND;TZID=UTC:20240419T130000
DTSTAMP:20260422T023842
CREATED:20240125T234302Z
LAST-MODIFIED:20240329T131341Z
UID:10000350-1713528000-1713531600@getawaygirls.co.uk
SUMMARY:Drop in lunch
DESCRIPTION:Drop in / Lunch for young women aged 16-25 yrs
URL:https://getawaygirls.co.uk/group/drop-in-lunch-3/2024-04-19/
LOCATION:Getaway Girls\, 19 Brooklands Avenue\, Leeds\, West Yorkshire\, LS14 6SG\, United Kingdom
ATTACH;FMTTYPE=image/jpeg:https://getawaygirls.co.uk/wp-content/uploads/2024/01/Drop-in-lunch.jpg
END:VEVENT
BEGIN:VEVENT
DTSTART;TZID=UTC:20240419T130000
DTEND;TZID=UTC:20240419T143000
DTSTAMP:20260422T023842
CREATED:20240329T131238Z
LAST-MODIFIED:20240329T131258Z
UID:10000346-1713531600-1713537000@getawaygirls.co.uk
SUMMARY:Cooking together
DESCRIPTION:Cooking together for young women aged 16-25 yrs
URL:https://getawaygirls.co.uk/group/cooking-together-2/2024-04-19/
LOCATION:Getaway Girls\, 19 Brooklands Avenue\, Leeds\, West Yorkshire\, LS14 6SG\, United Kingdom
ATTACH;FMTTYPE=image/jpeg:https://getawaygirls.co.uk/wp-content/uploads/2024/01/Cooking-together.jpg
END:VEVENT
BEGIN:VEVENT
DTSTART;TZID=UTC:20240422T130000
DTEND;TZID=UTC:20240422T143000
DTSTAMP:20260422T023842
CREATED:20240329T130852Z
LAST-MODIFIED:20240329T130921Z
UID:10000334-1713790800-1713796200@getawaygirls.co.uk
SUMMARY:Proud to be Mum group
DESCRIPTION:Proud to be Mums group\, upto 25yrs\, with creché
URL:https://getawaygirls.co.uk/group/proud-to-be-mum-group/2024-04-22/
LOCATION:Getaway Girls\, 19 Brooklands Avenue\, Leeds\, West Yorkshire\, LS14 6SG\, United Kingdom
ATTACH;FMTTYPE=image/jpeg:https://getawaygirls.co.uk/wp-content/uploads/2024/01/Proud-to-be-Mum.jpg
END:VEVENT
BEGIN:VEVENT
DTSTART;TZID=UTC:20240423T130000
DTEND;TZID=UTC:20240423T143000
DTSTAMP:20260422T023842
CREATED:20240329T130608Z
LAST-MODIFIED:20240329T130658Z
UID:10000330-1713877200-1713882600@getawaygirls.co.uk
SUMMARY:Yoga
DESCRIPTION:Yoga group\, refreshments and creché.
URL:https://getawaygirls.co.uk/group/yoga-2/2024-04-23/
LOCATION:Getaway Girls\, 19 Brooklands Avenue\, Leeds\, West Yorkshire\, LS14 6SG\, United Kingdom
ATTACH;FMTTYPE=image/jpeg:https://getawaygirls.co.uk/wp-content/uploads/2024/01/Yoga.jpg
END:VEVENT
BEGIN:VEVENT
DTSTART;TZID=UTC:20240424T130000
DTEND;TZID=UTC:20240424T143000
DTSTAMP:20260422T023842
CREATED:20240329T123233Z
LAST-MODIFIED:20240329T131525Z
UID:10000355-1713963600-1713969000@getawaygirls.co.uk
SUMMARY:She Writes
DESCRIPTION:Creative writing group for young women aged 16-25 yrs\, with creché
URL:https://getawaygirls.co.uk/group/she-writes-2/2024-04-24/
LOCATION:Getaway Girls\, 19 Brooklands Avenue\, Leeds\, West Yorkshire\, LS14 6SG\, United Kingdom
ATTACH;FMTTYPE=image/jpeg:https://getawaygirls.co.uk/wp-content/uploads/2024/01/She-writes.jpg
END:VEVENT
BEGIN:VEVENT
DTSTART;TZID=UTC:20240424T160000
DTEND;TZID=UTC:20240424T173000
DTSTAMP:20260422T023842
CREATED:20240329T122630Z
LAST-MODIFIED:20240329T122706Z
UID:10000263-1713974400-1713979800@getawaygirls.co.uk
SUMMARY:Young women’s space
DESCRIPTION:Young womens group\, for ages 13-17 yrs
URL:https://getawaygirls.co.uk/group/young-womens-space-2/2024-04-24/
LOCATION:Shine\, Harehills road\,\, Leeds\, West Yorkshire\, LS8 5HS\, United Kingdom
ATTACH;FMTTYPE=image/jpeg:https://getawaygirls.co.uk/wp-content/uploads/2024/01/Young-womens-space.jpg
END:VEVENT
BEGIN:VEVENT
DTSTART;TZID=UTC:20240425T160000
DTEND;TZID=UTC:20240425T173000
DTSTAMP:20260422T023842
CREATED:20240329T122240Z
LAST-MODIFIED:20240329T122423Z
UID:10000254-1714060800-1714066200@getawaygirls.co.uk
SUMMARY:Leadership programme
DESCRIPTION:Leadership programme for young women aged 15-18 yrs
URL:https://getawaygirls.co.uk/group/leadership-programme-2/2024-04-25/
LOCATION:Getaway Girls\, 19 Brooklands Avenue\, Leeds\, West Yorkshire\, LS14 6SG\, United Kingdom
ATTACH;FMTTYPE=image/jpeg:https://getawaygirls.co.uk/wp-content/uploads/2024/01/Leadership-programme.jpg
END:VEVENT
BEGIN:VEVENT
DTSTART;TZID=UTC:20240426T120000
DTEND;TZID=UTC:20240426T130000
DTSTAMP:20260422T023842
CREATED:20240125T234302Z
LAST-MODIFIED:20240329T131341Z
UID:10000351-1714132800-1714136400@getawaygirls.co.uk
SUMMARY:Drop in lunch
DESCRIPTION:Drop in / Lunch for young women aged 16-25 yrs
URL:https://getawaygirls.co.uk/group/drop-in-lunch-3/2024-04-26/
LOCATION:Getaway Girls\, 19 Brooklands Avenue\, Leeds\, West Yorkshire\, LS14 6SG\, United Kingdom
ATTACH;FMTTYPE=image/jpeg:https://getawaygirls.co.uk/wp-content/uploads/2024/01/Drop-in-lunch.jpg
END:VEVENT
BEGIN:VEVENT
DTSTART;TZID=UTC:20240501T130000
DTEND;TZID=UTC:20240501T143000
DTSTAMP:20260422T023842
CREATED:20240503T081837Z
LAST-MODIFIED:20240503T081915Z
UID:10000356-1714568400-1714573800@getawaygirls.co.uk
SUMMARY:She Writes
DESCRIPTION:Creative writing group for young women aged 16-25 yrs\, with creché
URL:https://getawaygirls.co.uk/group/she-writes-3/2024-05-01/
LOCATION:Getaway Girls\, 19 Brooklands Avenue\, Leeds\, West Yorkshire\, LS14 6SG\, United Kingdom
ATTACH;FMTTYPE=image/jpeg:https://getawaygirls.co.uk/wp-content/uploads/2024/01/She-writes.jpg
END:VEVENT
BEGIN:VEVENT
DTSTART;TZID=UTC:20240503T120000
DTEND;TZID=UTC:20240503T130000
DTSTAMP:20260422T023842
CREATED:20240329T123757Z
LAST-MODIFIED:20240503T082645Z
UID:10000417-1714737600-1714741200@getawaygirls.co.uk
SUMMARY:Drop in lunch
DESCRIPTION:Drop in / Lunch for young women aged 16-25 yrs
URL:https://getawaygirls.co.uk/group/drop-in-lunch-4/2024-05-03/
LOCATION:Getaway Girls\, 19 Brooklands Avenue\, Leeds\, West Yorkshire\, LS14 6SG\, United Kingdom
ATTACH;FMTTYPE=image/jpeg:https://getawaygirls.co.uk/wp-content/uploads/2024/01/Drop-in-lunch.jpg
END:VEVENT
BEGIN:VEVENT
DTSTART;TZID=UTC:20240503T130000
DTEND;TZID=UTC:20240503T143000
DTSTAMP:20260422T023842
CREATED:20240503T082824Z
LAST-MODIFIED:20240503T082917Z
UID:10000347-1714741200-1714746600@getawaygirls.co.uk
SUMMARY:Cooking together
DESCRIPTION:Cooking together for young women aged 16-25 yrs\, creché available
URL:https://getawaygirls.co.uk/group/cooking-together-3/2024-05-03/
LOCATION:Getaway Girls\, 19 Brooklands Avenue\, Leeds\, West Yorkshire\, LS14 6SG\, United Kingdom
ATTACH;FMTTYPE=image/jpeg:https://getawaygirls.co.uk/wp-content/uploads/2024/01/Cooking-together.jpg
END:VEVENT
BEGIN:VEVENT
DTSTART;TZID=UTC:20240503T160000
DTEND;TZID=UTC:20240503T173000
DTSTAMP:20260422T023842
CREATED:20240503T083055Z
LAST-MODIFIED:20240503T083112Z
UID:10000320-1714752000-1714757400@getawaygirls.co.uk
SUMMARY:Girls space
DESCRIPTION:Girls Space for girls aged 8-11yrs
URL:https://getawaygirls.co.uk/group/girls-space-5/2024-05-03/
LOCATION:Getaway Girls\, 19 Brooklands Avenue\, Leeds\, West Yorkshire\, LS14 6SG\, United Kingdom
ATTACH;FMTTYPE=image/jpeg:https://getawaygirls.co.uk/wp-content/uploads/2024/01/Girls-space.jpg
END:VEVENT
BEGIN:VEVENT
DTSTART;TZID=UTC:20240503T160000
DTEND;TZID=UTC:20240503T173000
DTSTAMP:20260422T023842
CREATED:20240503T083202Z
LAST-MODIFIED:20240503T083232Z
UID:10000319-1714752000-1714757400@getawaygirls.co.uk
SUMMARY:Girls space
DESCRIPTION:Girls Space for young women aged 11-17yrs
URL:https://getawaygirls.co.uk/group/girls-space-6/2024-05-03/
LOCATION:Getaway Girls\, 19 Brooklands Avenue\, Leeds\, West Yorkshire\, LS14 6SG\, United Kingdom
ATTACH;FMTTYPE=image/jpeg:https://getawaygirls.co.uk/wp-content/uploads/2024/01/Girls-space.jpg
END:VEVENT
BEGIN:VEVENT
DTSTART;TZID=UTC:20240506T120000
DTEND;TZID=UTC:20240506T130000
DTSTAMP:20260422T023842
CREATED:20240502T163900Z
LAST-MODIFIED:20240503T081417Z
UID:10000268-1714996800-1715000400@getawaygirls.co.uk
SUMMARY:Drop in lunch
DESCRIPTION:Drop in / Lunch for young women aged 16-25 yrs
URL:https://getawaygirls.co.uk/group/drop-in-lunch-6/2024-05-06/
LOCATION:Getaway Girls\, 19 Brooklands Avenue\, Leeds\, West Yorkshire\, LS14 6SG\, United Kingdom
ATTACH;FMTTYPE=image/jpeg:https://getawaygirls.co.uk/wp-content/uploads/2024/01/Drop-in-lunch.jpg
END:VEVENT
BEGIN:VEVENT
DTSTART;TZID=UTC:20240506T130000
DTEND;TZID=UTC:20240506T143000
DTSTAMP:20260422T023842
CREATED:20240502T164222Z
LAST-MODIFIED:20240721T081553Z
UID:10000335-1715000400-1715005800@getawaygirls.co.uk
SUMMARY:Proud to be Mum group
DESCRIPTION:Proud to be Mums group\, upto 25yrs\, with creché
URL:https://getawaygirls.co.uk/group/proud-to-be-mum-group-2/2024-05-06/
LOCATION:Getaway Girls\, 19 Brooklands Avenue\, Leeds\, West Yorkshire\, LS14 6SG\, United Kingdom
ATTACH;FMTTYPE=image/jpeg:https://getawaygirls.co.uk/wp-content/uploads/2024/01/Proud-to-be-Mum.jpg
END:VEVENT
BEGIN:VEVENT
DTSTART;TZID=UTC:20240507T130000
DTEND;TZID=UTC:20240507T143000
DTSTAMP:20260422T023842
CREATED:20240502T164416Z
LAST-MODIFIED:20240502T164444Z
UID:10000331-1715086800-1715092200@getawaygirls.co.uk
SUMMARY:Yoga
DESCRIPTION:Yoga group\, refreshments and creché.
URL:https://getawaygirls.co.uk/group/yoga-3/2024-05-07/
LOCATION:Getaway Girls\, 19 Brooklands Avenue\, Leeds\, West Yorkshire\, LS14 6SG\, United Kingdom
ATTACH;FMTTYPE=image/jpeg:https://getawaygirls.co.uk/wp-content/uploads/2024/01/Yoga.jpg
END:VEVENT
BEGIN:VEVENT
DTSTART;TZID=UTC:20240507T160000
DTEND;TZID=UTC:20240507T173000
DTSTAMP:20260422T023842
CREATED:20240502T164735Z
LAST-MODIFIED:20240503T081208Z
UID:10000090-1715097600-1715103000@getawaygirls.co.uk
SUMMARY:Girls space
DESCRIPTION:Girls Space for young women aged 11-17yrs
URL:https://getawaygirls.co.uk/group/girls-space-4/2024-05-07/
LOCATION:Getaway Girls\, 19 Brooklands Avenue\, Leeds\, West Yorkshire\, LS14 6SG\, United Kingdom
ATTACH;FMTTYPE=image/jpeg:https://getawaygirls.co.uk/wp-content/uploads/2024/01/Girls-space.jpg
END:VEVENT
BEGIN:VEVENT
DTSTART;TZID=UTC:20240508T120000
DTEND;TZID=UTC:20240508T130000
DTSTAMP:20260422T023842
CREATED:20240503T081521Z
LAST-MODIFIED:20240503T081601Z
UID:10000267-1715169600-1715173200@getawaygirls.co.uk
SUMMARY:Drop in lunch
DESCRIPTION:Drop in / Lunch for young women aged 16-25 yrs
URL:https://getawaygirls.co.uk/group/drop-in-lunch-7/2024-05-08/
LOCATION:Getaway Girls\, 19 Brooklands Avenue\, Leeds\, West Yorkshire\, LS14 6SG\, United Kingdom
ATTACH;FMTTYPE=image/jpeg:https://getawaygirls.co.uk/wp-content/uploads/2024/01/Drop-in-lunch.jpg
END:VEVENT
BEGIN:VEVENT
DTSTART;TZID=UTC:20240508T130000
DTEND;TZID=UTC:20240508T143000
DTSTAMP:20260422T023842
CREATED:20240503T081837Z
LAST-MODIFIED:20240503T081915Z
UID:10000407-1715173200-1715178600@getawaygirls.co.uk
SUMMARY:She Writes
DESCRIPTION:Creative writing group for young women aged 16-25 yrs\, with creché
URL:https://getawaygirls.co.uk/group/she-writes-3/2024-05-08/
LOCATION:Getaway Girls\, 19 Brooklands Avenue\, Leeds\, West Yorkshire\, LS14 6SG\, United Kingdom
ATTACH;FMTTYPE=image/jpeg:https://getawaygirls.co.uk/wp-content/uploads/2024/01/She-writes.jpg
END:VEVENT
BEGIN:VEVENT
DTSTART;TZID=UTC:20240510T120000
DTEND;TZID=UTC:20240510T130000
DTSTAMP:20260422T023843
CREATED:20240329T123757Z
LAST-MODIFIED:20240503T082645Z
UID:10000418-1715342400-1715346000@getawaygirls.co.uk
SUMMARY:Drop in lunch
DESCRIPTION:Drop in / Lunch for young women aged 16-25 yrs
URL:https://getawaygirls.co.uk/group/drop-in-lunch-4/2024-05-10/
LOCATION:Getaway Girls\, 19 Brooklands Avenue\, Leeds\, West Yorkshire\, LS14 6SG\, United Kingdom
ATTACH;FMTTYPE=image/jpeg:https://getawaygirls.co.uk/wp-content/uploads/2024/01/Drop-in-lunch.jpg
END:VEVENT
BEGIN:VEVENT
DTSTART;TZID=UTC:20240510T130000
DTEND;TZID=UTC:20240510T143000
DTSTAMP:20260422T023843
CREATED:20240503T082824Z
LAST-MODIFIED:20240503T082917Z
UID:10000428-1715346000-1715351400@getawaygirls.co.uk
SUMMARY:Cooking together
DESCRIPTION:Cooking together for young women aged 16-25 yrs\, creché available
URL:https://getawaygirls.co.uk/group/cooking-together-3/2024-05-10/
LOCATION:Getaway Girls\, 19 Brooklands Avenue\, Leeds\, West Yorkshire\, LS14 6SG\, United Kingdom
ATTACH;FMTTYPE=image/jpeg:https://getawaygirls.co.uk/wp-content/uploads/2024/01/Cooking-together.jpg
END:VEVENT
BEGIN:VEVENT
DTSTART;TZID=UTC:20240510T160000
DTEND;TZID=UTC:20240510T173000
DTSTAMP:20260422T023843
CREATED:20240503T083055Z
LAST-MODIFIED:20240503T083112Z
UID:10000438-1715356800-1715362200@getawaygirls.co.uk
SUMMARY:Girls space
DESCRIPTION:Girls Space for girls aged 8-11yrs
URL:https://getawaygirls.co.uk/group/girls-space-5/2024-05-10/
LOCATION:Getaway Girls\, 19 Brooklands Avenue\, Leeds\, West Yorkshire\, LS14 6SG\, United Kingdom
ATTACH;FMTTYPE=image/jpeg:https://getawaygirls.co.uk/wp-content/uploads/2024/01/Girls-space.jpg
END:VEVENT
BEGIN:VEVENT
DTSTART;TZID=UTC:20240510T160000
DTEND;TZID=UTC:20240510T173000
DTSTAMP:20260422T023843
CREATED:20240503T083202Z
LAST-MODIFIED:20240503T083232Z
UID:10000448-1715356800-1715362200@getawaygirls.co.uk
SUMMARY:Girls space
DESCRIPTION:Girls Space for young women aged 11-17yrs
URL:https://getawaygirls.co.uk/group/girls-space-6/2024-05-10/
LOCATION:Getaway Girls\, 19 Brooklands Avenue\, Leeds\, West Yorkshire\, LS14 6SG\, United Kingdom
ATTACH;FMTTYPE=image/jpeg:https://getawaygirls.co.uk/wp-content/uploads/2024/01/Girls-space.jpg
END:VEVENT
BEGIN:VEVENT
DTSTART;TZID=UTC:20240513T120000
DTEND;TZID=UTC:20240513T130000
DTSTAMP:20260422T023843
CREATED:20240502T163900Z
LAST-MODIFIED:20240503T081417Z
UID:10000357-1715601600-1715605200@getawaygirls.co.uk
SUMMARY:Drop in lunch
DESCRIPTION:Drop in / Lunch for young women aged 16-25 yrs
URL:https://getawaygirls.co.uk/group/drop-in-lunch-6/2024-05-13/
LOCATION:Getaway Girls\, 19 Brooklands Avenue\, Leeds\, West Yorkshire\, LS14 6SG\, United Kingdom
ATTACH;FMTTYPE=image/jpeg:https://getawaygirls.co.uk/wp-content/uploads/2024/01/Drop-in-lunch.jpg
END:VEVENT
BEGIN:VEVENT
DTSTART;TZID=UTC:20240513T130000
DTEND;TZID=UTC:20240513T143000
DTSTAMP:20260422T023843
CREATED:20240502T164222Z
LAST-MODIFIED:20240721T081553Z
UID:10000367-1715605200-1715610600@getawaygirls.co.uk
SUMMARY:Proud to be Mum group
DESCRIPTION:Proud to be Mums group\, upto 25yrs\, with creché
URL:https://getawaygirls.co.uk/group/proud-to-be-mum-group-2/2024-05-13/
LOCATION:Getaway Girls\, 19 Brooklands Avenue\, Leeds\, West Yorkshire\, LS14 6SG\, United Kingdom
ATTACH;FMTTYPE=image/jpeg:https://getawaygirls.co.uk/wp-content/uploads/2024/01/Proud-to-be-Mum.jpg
END:VEVENT
BEGIN:VEVENT
DTSTART;TZID=UTC:20240514T130000
DTEND;TZID=UTC:20240514T143000
DTSTAMP:20260422T023843
CREATED:20240502T164416Z
LAST-MODIFIED:20240502T164444Z
UID:10000377-1715691600-1715697000@getawaygirls.co.uk
SUMMARY:Yoga
DESCRIPTION:Yoga group\, refreshments and creché.
URL:https://getawaygirls.co.uk/group/yoga-3/2024-05-14/
LOCATION:Getaway Girls\, 19 Brooklands Avenue\, Leeds\, West Yorkshire\, LS14 6SG\, United Kingdom
ATTACH;FMTTYPE=image/jpeg:https://getawaygirls.co.uk/wp-content/uploads/2024/01/Yoga.jpg
END:VEVENT
END:VCALENDAR