BEGIN:VCALENDAR
VERSION:2.0
PRODID:-//Getaway Girls - ECPv6.15.20//NONSGML v1.0//EN
CALSCALE:GREGORIAN
METHOD:PUBLISH
X-WR-CALNAME:Getaway Girls
X-ORIGINAL-URL:https://getawaygirls.co.uk
X-WR-CALDESC:Events for Getaway Girls
REFRESH-INTERVAL;VALUE=DURATION:PT1H
X-Robots-Tag:noindex
X-PUBLISHED-TTL:PT1H
BEGIN:VTIMEZONE
TZID:UTC
BEGIN:STANDARD
TZOFFSETFROM:+0000
TZOFFSETTO:+0000
TZNAME:UTC
DTSTART:20240101T000000
END:STANDARD
END:VTIMEZONE
BEGIN:VEVENT
DTSTART;TZID=UTC:20251113T160000
DTEND;TZID=UTC:20251113T173000
DTSTAMP:20260420T182142
CREATED:20250904T085534Z
LAST-MODIFIED:20250904T085633Z
UID:10001253-1763049600-1763055000@getawaygirls.co.uk
SUMMARY:Vocal Girls
DESCRIPTION:Campaigning Group for young women 15-19yrs
URL:https://getawaygirls.co.uk/group/vocal-girls-6/2025-11-13/
LOCATION:Getaway Girls\, 19 Brooklands Avenue\, Leeds\, West Yorkshire\, LS14 6SG\, United Kingdom
ATTACH;FMTTYPE=image/jpeg:https://getawaygirls.co.uk/wp-content/uploads/2024/10/Vocal-Girls-event-2.jpg
END:VEVENT
BEGIN:VEVENT
DTSTART;TZID=UTC:20251114T130000
DTEND;TZID=UTC:20251114T143000
DTSTAMP:20260420T182142
CREATED:20250904T085900Z
LAST-MODIFIED:20250904T090645Z
UID:10001294-1763125200-1763130600@getawaygirls.co.uk
SUMMARY:Cooking together
DESCRIPTION:Cooking together for young women aged 16-25 yrs\, creché available
URL:https://getawaygirls.co.uk/group/cooking-together-13/2025-11-14/
LOCATION:Getaway Girls\, 19 Brooklands Avenue\, Leeds\, West Yorkshire\, LS14 6SG\, United Kingdom
ATTACH;FMTTYPE=image/jpeg:https://getawaygirls.co.uk/wp-content/uploads/2024/01/Cooking-together.jpg
END:VEVENT
BEGIN:VEVENT
DTSTART;TZID=UTC:20251114T160000
DTEND;TZID=UTC:20251114T173000
DTSTAMP:20260420T182142
CREATED:20250904T090255Z
LAST-MODIFIED:20250904T090738Z
UID:10001345-1763136000-1763141400@getawaygirls.co.uk
SUMMARY:Girls Zone 11-13yrs
DESCRIPTION:Girls Zone for girls aged 11-13yrs
URL:https://getawaygirls.co.uk/group/girls-zone-11-13yrs/2025-11-14/
LOCATION:Getaway Girls\, 19 Brooklands Avenue\, Leeds\, West Yorkshire\, LS14 6SG\, United Kingdom
ATTACH;FMTTYPE=image/jpeg:https://getawaygirls.co.uk/wp-content/uploads/2024/01/Girls-space.jpg
END:VEVENT
BEGIN:VEVENT
DTSTART;TZID=UTC:20251114T160000
DTEND;TZID=UTC:20251114T173000
DTSTAMP:20260420T182142
CREATED:20250904T091116Z
LAST-MODIFIED:20251208T163547Z
UID:10001385-1763136000-1763141400@getawaygirls.co.uk
SUMMARY:BassLines - music Group 14-19
DESCRIPTION:Music Group for your women aged 14-19yrs
URL:https://getawaygirls.co.uk/group/sister-sound-salon-music-group-14-19-2/2025-11-14/
LOCATION:Getaway Girls\, 19 Brooklands Avenue\, Leeds\, West Yorkshire\, LS14 6SG\, United Kingdom
ATTACH;FMTTYPE=image/jpeg:https://getawaygirls.co.uk/wp-content/uploads/2025/01/Music-Group.jpg
END:VEVENT
BEGIN:VEVENT
DTSTART;TZID=UTC:20251117T160000
DTEND;TZID=UTC:20251117T173000
DTSTAMP:20260420T182142
CREATED:20250904T082826Z
LAST-MODIFIED:20250904T082924Z
UID:10001101-1763395200-1763400600@getawaygirls.co.uk
SUMMARY:Girls Squad 8-11yrs
DESCRIPTION:Girls Space for girls aged 8-11yrs
URL:https://getawaygirls.co.uk/group/girls-squad-8-11yrs-4/2025-11-17/
LOCATION:Getaway Girls\, 19 Brooklands Avenue\, Leeds\, West Yorkshire\, LS14 6SG\, United Kingdom
ATTACH;FMTTYPE=image/jpeg:https://getawaygirls.co.uk/wp-content/uploads/2024/01/Girls-space.jpg
END:VEVENT
BEGIN:VEVENT
DTSTART;TZID=UTC:20251118T153000
DTEND;TZID=UTC:20251118T173000
DTSTAMP:20260420T182142
CREATED:20250904T083315Z
LAST-MODIFIED:20250904T083911Z
UID:10001152-1763479800-1763487000@getawaygirls.co.uk
SUMMARY:Girls space 13-17yrs
DESCRIPTION:Girls Space for young women aged 13-17yrs
URL:https://getawaygirls.co.uk/group/girls-space-13-16yrs-5/2025-11-18/
LOCATION:Getaway Girls\, 19 Brooklands Avenue\, Leeds\, West Yorkshire\, LS14 6SG\, United Kingdom
ATTACH;FMTTYPE=image/jpeg:https://getawaygirls.co.uk/wp-content/uploads/2024/01/Girls-space.jpg
END:VEVENT
BEGIN:VEVENT
DTSTART;TZID=UTC:20251119T123000
DTEND;TZID=UTC:20251119T143000
DTSTAMP:20260420T182142
CREATED:20250904T083545Z
LAST-MODIFIED:20260327T164812Z
UID:10001508-1763555400-1763562600@getawaygirls.co.uk
SUMMARY:Proud to be Mum group
DESCRIPTION:Proud to be Mums group\, 18- 25yrs\, with creché
URL:https://getawaygirls.co.uk/group/proud-to-be-mum-group-9/2025-11-19/
LOCATION:Getaway Girls\, 19 Brooklands Avenue\, Leeds\, West Yorkshire\, LS14 6SG\, United Kingdom
ATTACH;FMTTYPE=image/jpeg:https://getawaygirls.co.uk/wp-content/uploads/2024/01/Proud-to-be-Mum.jpg
END:VEVENT
BEGIN:VEVENT
DTSTART;TZID=UTC:20251119T153000
DTEND;TZID=UTC:20251119T173000
DTSTAMP:20260420T182142
CREATED:20250904T085053Z
LAST-MODIFIED:20260327T165606Z
UID:10001229-1763566200-1763573400@getawaygirls.co.uk
SUMMARY:Girls space 12-14yrs
DESCRIPTION:Girls Space for young women aged 12-14yrs
URL:https://getawaygirls.co.uk/group/girls-space-13-17yrs/2025-11-19/
LOCATION:Getaway Girls\, 19 Brooklands Avenue\, Leeds\, West Yorkshire\, LS14 6SG\, United Kingdom
ATTACH;FMTTYPE=image/jpeg:https://getawaygirls.co.uk/wp-content/uploads/2024/01/Girls-space.jpg
END:VEVENT
BEGIN:VEVENT
DTSTART;TZID=UTC:20251120T160000
DTEND;TZID=UTC:20251120T173000
DTSTAMP:20260420T182142
CREATED:20250904T085534Z
LAST-MODIFIED:20250904T085633Z
UID:10001254-1763654400-1763659800@getawaygirls.co.uk
SUMMARY:Vocal Girls
DESCRIPTION:Campaigning Group for young women 15-19yrs
URL:https://getawaygirls.co.uk/group/vocal-girls-6/2025-11-20/
LOCATION:Getaway Girls\, 19 Brooklands Avenue\, Leeds\, West Yorkshire\, LS14 6SG\, United Kingdom
ATTACH;FMTTYPE=image/jpeg:https://getawaygirls.co.uk/wp-content/uploads/2024/10/Vocal-Girls-event-2.jpg
END:VEVENT
BEGIN:VEVENT
DTSTART;TZID=UTC:20251121T130000
DTEND;TZID=UTC:20251121T143000
DTSTAMP:20260420T182142
CREATED:20250904T085900Z
LAST-MODIFIED:20250904T090645Z
UID:10001295-1763730000-1763735400@getawaygirls.co.uk
SUMMARY:Cooking together
DESCRIPTION:Cooking together for young women aged 16-25 yrs\, creché available
URL:https://getawaygirls.co.uk/group/cooking-together-13/2025-11-21/
LOCATION:Getaway Girls\, 19 Brooklands Avenue\, Leeds\, West Yorkshire\, LS14 6SG\, United Kingdom
ATTACH;FMTTYPE=image/jpeg:https://getawaygirls.co.uk/wp-content/uploads/2024/01/Cooking-together.jpg
END:VEVENT
BEGIN:VEVENT
DTSTART;TZID=UTC:20251121T160000
DTEND;TZID=UTC:20251121T173000
DTSTAMP:20260420T182142
CREATED:20250904T090255Z
LAST-MODIFIED:20250904T090738Z
UID:10001346-1763740800-1763746200@getawaygirls.co.uk
SUMMARY:Girls Zone 11-13yrs
DESCRIPTION:Girls Zone for girls aged 11-13yrs
URL:https://getawaygirls.co.uk/group/girls-zone-11-13yrs/2025-11-21/
LOCATION:Getaway Girls\, 19 Brooklands Avenue\, Leeds\, West Yorkshire\, LS14 6SG\, United Kingdom
ATTACH;FMTTYPE=image/jpeg:https://getawaygirls.co.uk/wp-content/uploads/2024/01/Girls-space.jpg
END:VEVENT
BEGIN:VEVENT
DTSTART;TZID=UTC:20251121T160000
DTEND;TZID=UTC:20251121T173000
DTSTAMP:20260420T182142
CREATED:20250904T091116Z
LAST-MODIFIED:20251208T163547Z
UID:10001386-1763740800-1763746200@getawaygirls.co.uk
SUMMARY:BassLines - music Group 14-19
DESCRIPTION:Music Group for your women aged 14-19yrs
URL:https://getawaygirls.co.uk/group/sister-sound-salon-music-group-14-19-2/2025-11-21/
LOCATION:Getaway Girls\, 19 Brooklands Avenue\, Leeds\, West Yorkshire\, LS14 6SG\, United Kingdom
ATTACH;FMTTYPE=image/jpeg:https://getawaygirls.co.uk/wp-content/uploads/2025/01/Music-Group.jpg
END:VEVENT
BEGIN:VEVENT
DTSTART;TZID=UTC:20251124T160000
DTEND;TZID=UTC:20251124T173000
DTSTAMP:20260420T182142
CREATED:20250904T082826Z
LAST-MODIFIED:20250904T082924Z
UID:10001102-1764000000-1764005400@getawaygirls.co.uk
SUMMARY:Girls Squad 8-11yrs
DESCRIPTION:Girls Space for girls aged 8-11yrs
URL:https://getawaygirls.co.uk/group/girls-squad-8-11yrs-4/2025-11-24/
LOCATION:Getaway Girls\, 19 Brooklands Avenue\, Leeds\, West Yorkshire\, LS14 6SG\, United Kingdom
ATTACH;FMTTYPE=image/jpeg:https://getawaygirls.co.uk/wp-content/uploads/2024/01/Girls-space.jpg
END:VEVENT
BEGIN:VEVENT
DTSTART;TZID=UTC:20251125T153000
DTEND;TZID=UTC:20251125T173000
DTSTAMP:20260420T182142
CREATED:20250904T083315Z
LAST-MODIFIED:20250904T083911Z
UID:10001153-1764084600-1764091800@getawaygirls.co.uk
SUMMARY:Girls space 13-17yrs
DESCRIPTION:Girls Space for young women aged 13-17yrs
URL:https://getawaygirls.co.uk/group/girls-space-13-16yrs-5/2025-11-25/
LOCATION:Getaway Girls\, 19 Brooklands Avenue\, Leeds\, West Yorkshire\, LS14 6SG\, United Kingdom
ATTACH;FMTTYPE=image/jpeg:https://getawaygirls.co.uk/wp-content/uploads/2024/01/Girls-space.jpg
END:VEVENT
BEGIN:VEVENT
DTSTART;TZID=UTC:20251126T123000
DTEND;TZID=UTC:20251126T143000
DTSTAMP:20260420T182142
CREATED:20250904T083545Z
LAST-MODIFIED:20260327T164812Z
UID:10001509-1764160200-1764167400@getawaygirls.co.uk
SUMMARY:Proud to be Mum group
DESCRIPTION:Proud to be Mums group\, 18- 25yrs\, with creché
URL:https://getawaygirls.co.uk/group/proud-to-be-mum-group-9/2025-11-26/
LOCATION:Getaway Girls\, 19 Brooklands Avenue\, Leeds\, West Yorkshire\, LS14 6SG\, United Kingdom
ATTACH;FMTTYPE=image/jpeg:https://getawaygirls.co.uk/wp-content/uploads/2024/01/Proud-to-be-Mum.jpg
END:VEVENT
BEGIN:VEVENT
DTSTART;TZID=UTC:20251126T153000
DTEND;TZID=UTC:20251126T173000
DTSTAMP:20260420T182142
CREATED:20250904T085053Z
LAST-MODIFIED:20260327T165606Z
UID:10001230-1764171000-1764178200@getawaygirls.co.uk
SUMMARY:Girls space 12-14yrs
DESCRIPTION:Girls Space for young women aged 12-14yrs
URL:https://getawaygirls.co.uk/group/girls-space-13-17yrs/2025-11-26/
LOCATION:Getaway Girls\, 19 Brooklands Avenue\, Leeds\, West Yorkshire\, LS14 6SG\, United Kingdom
ATTACH;FMTTYPE=image/jpeg:https://getawaygirls.co.uk/wp-content/uploads/2024/01/Girls-space.jpg
END:VEVENT
BEGIN:VEVENT
DTSTART;TZID=UTC:20251127T160000
DTEND;TZID=UTC:20251127T173000
DTSTAMP:20260420T182142
CREATED:20250904T085534Z
LAST-MODIFIED:20250904T085633Z
UID:10001255-1764259200-1764264600@getawaygirls.co.uk
SUMMARY:Vocal Girls
DESCRIPTION:Campaigning Group for young women 15-19yrs
URL:https://getawaygirls.co.uk/group/vocal-girls-6/2025-11-27/
LOCATION:Getaway Girls\, 19 Brooklands Avenue\, Leeds\, West Yorkshire\, LS14 6SG\, United Kingdom
ATTACH;FMTTYPE=image/jpeg:https://getawaygirls.co.uk/wp-content/uploads/2024/10/Vocal-Girls-event-2.jpg
END:VEVENT
BEGIN:VEVENT
DTSTART;TZID=UTC:20251128T130000
DTEND;TZID=UTC:20251128T143000
DTSTAMP:20260420T182142
CREATED:20250904T085900Z
LAST-MODIFIED:20250904T090645Z
UID:10001296-1764334800-1764340200@getawaygirls.co.uk
SUMMARY:Cooking together
DESCRIPTION:Cooking together for young women aged 16-25 yrs\, creché available
URL:https://getawaygirls.co.uk/group/cooking-together-13/2025-11-28/
LOCATION:Getaway Girls\, 19 Brooklands Avenue\, Leeds\, West Yorkshire\, LS14 6SG\, United Kingdom
ATTACH;FMTTYPE=image/jpeg:https://getawaygirls.co.uk/wp-content/uploads/2024/01/Cooking-together.jpg
END:VEVENT
BEGIN:VEVENT
DTSTART;TZID=UTC:20251128T160000
DTEND;TZID=UTC:20251128T173000
DTSTAMP:20260420T182142
CREATED:20250904T090255Z
LAST-MODIFIED:20250904T090738Z
UID:10001347-1764345600-1764351000@getawaygirls.co.uk
SUMMARY:Girls Zone 11-13yrs
DESCRIPTION:Girls Zone for girls aged 11-13yrs
URL:https://getawaygirls.co.uk/group/girls-zone-11-13yrs/2025-11-28/
LOCATION:Getaway Girls\, 19 Brooklands Avenue\, Leeds\, West Yorkshire\, LS14 6SG\, United Kingdom
ATTACH;FMTTYPE=image/jpeg:https://getawaygirls.co.uk/wp-content/uploads/2024/01/Girls-space.jpg
END:VEVENT
BEGIN:VEVENT
DTSTART;TZID=UTC:20251128T160000
DTEND;TZID=UTC:20251128T173000
DTSTAMP:20260420T182142
CREATED:20250904T091116Z
LAST-MODIFIED:20251208T163547Z
UID:10001387-1764345600-1764351000@getawaygirls.co.uk
SUMMARY:BassLines - music Group 14-19
DESCRIPTION:Music Group for your women aged 14-19yrs
URL:https://getawaygirls.co.uk/group/sister-sound-salon-music-group-14-19-2/2025-11-28/
LOCATION:Getaway Girls\, 19 Brooklands Avenue\, Leeds\, West Yorkshire\, LS14 6SG\, United Kingdom
ATTACH;FMTTYPE=image/jpeg:https://getawaygirls.co.uk/wp-content/uploads/2025/01/Music-Group.jpg
END:VEVENT
BEGIN:VEVENT
DTSTART;TZID=UTC:20251201T160000
DTEND;TZID=UTC:20251201T173000
DTSTAMP:20260420T182142
CREATED:20250904T082826Z
LAST-MODIFIED:20250904T082924Z
UID:10001103-1764604800-1764610200@getawaygirls.co.uk
SUMMARY:Girls Squad 8-11yrs
DESCRIPTION:Girls Space for girls aged 8-11yrs
URL:https://getawaygirls.co.uk/group/girls-squad-8-11yrs-4/2025-12-01/
LOCATION:Getaway Girls\, 19 Brooklands Avenue\, Leeds\, West Yorkshire\, LS14 6SG\, United Kingdom
ATTACH;FMTTYPE=image/jpeg:https://getawaygirls.co.uk/wp-content/uploads/2024/01/Girls-space.jpg
END:VEVENT
BEGIN:VEVENT
DTSTART;TZID=UTC:20251202T153000
DTEND;TZID=UTC:20251202T173000
DTSTAMP:20260420T182142
CREATED:20250904T083315Z
LAST-MODIFIED:20250904T083911Z
UID:10001154-1764689400-1764696600@getawaygirls.co.uk
SUMMARY:Girls space 13-17yrs
DESCRIPTION:Girls Space for young women aged 13-17yrs
URL:https://getawaygirls.co.uk/group/girls-space-13-16yrs-5/2025-12-02/
LOCATION:Getaway Girls\, 19 Brooklands Avenue\, Leeds\, West Yorkshire\, LS14 6SG\, United Kingdom
ATTACH;FMTTYPE=image/jpeg:https://getawaygirls.co.uk/wp-content/uploads/2024/01/Girls-space.jpg
END:VEVENT
BEGIN:VEVENT
DTSTART;TZID=UTC:20251203T123000
DTEND;TZID=UTC:20251203T143000
DTSTAMP:20260420T182142
CREATED:20250904T083545Z
LAST-MODIFIED:20260327T164812Z
UID:10001510-1764765000-1764772200@getawaygirls.co.uk
SUMMARY:Proud to be Mum group
DESCRIPTION:Proud to be Mums group\, 18- 25yrs\, with creché
URL:https://getawaygirls.co.uk/group/proud-to-be-mum-group-9/2025-12-03/
LOCATION:Getaway Girls\, 19 Brooklands Avenue\, Leeds\, West Yorkshire\, LS14 6SG\, United Kingdom
ATTACH;FMTTYPE=image/jpeg:https://getawaygirls.co.uk/wp-content/uploads/2024/01/Proud-to-be-Mum.jpg
END:VEVENT
BEGIN:VEVENT
DTSTART;TZID=UTC:20251203T153000
DTEND;TZID=UTC:20251203T173000
DTSTAMP:20260420T182142
CREATED:20250904T085053Z
LAST-MODIFIED:20260327T165606Z
UID:10001231-1764775800-1764783000@getawaygirls.co.uk
SUMMARY:Girls space 12-14yrs
DESCRIPTION:Girls Space for young women aged 12-14yrs
URL:https://getawaygirls.co.uk/group/girls-space-13-17yrs/2025-12-03/
LOCATION:Getaway Girls\, 19 Brooklands Avenue\, Leeds\, West Yorkshire\, LS14 6SG\, United Kingdom
ATTACH;FMTTYPE=image/jpeg:https://getawaygirls.co.uk/wp-content/uploads/2024/01/Girls-space.jpg
END:VEVENT
BEGIN:VEVENT
DTSTART;TZID=UTC:20251204T160000
DTEND;TZID=UTC:20251204T173000
DTSTAMP:20260420T182142
CREATED:20250904T085534Z
LAST-MODIFIED:20250904T085633Z
UID:10001256-1764864000-1764869400@getawaygirls.co.uk
SUMMARY:Vocal Girls
DESCRIPTION:Campaigning Group for young women 15-19yrs
URL:https://getawaygirls.co.uk/group/vocal-girls-6/2025-12-04/
LOCATION:Getaway Girls\, 19 Brooklands Avenue\, Leeds\, West Yorkshire\, LS14 6SG\, United Kingdom
ATTACH;FMTTYPE=image/jpeg:https://getawaygirls.co.uk/wp-content/uploads/2024/10/Vocal-Girls-event-2.jpg
END:VEVENT
BEGIN:VEVENT
DTSTART;TZID=UTC:20251205T130000
DTEND;TZID=UTC:20251205T143000
DTSTAMP:20260420T182142
CREATED:20250904T085900Z
LAST-MODIFIED:20250904T090645Z
UID:10001297-1764939600-1764945000@getawaygirls.co.uk
SUMMARY:Cooking together
DESCRIPTION:Cooking together for young women aged 16-25 yrs\, creché available
URL:https://getawaygirls.co.uk/group/cooking-together-13/2025-12-05/
LOCATION:Getaway Girls\, 19 Brooklands Avenue\, Leeds\, West Yorkshire\, LS14 6SG\, United Kingdom
ATTACH;FMTTYPE=image/jpeg:https://getawaygirls.co.uk/wp-content/uploads/2024/01/Cooking-together.jpg
END:VEVENT
BEGIN:VEVENT
DTSTART;TZID=UTC:20251205T160000
DTEND;TZID=UTC:20251205T173000
DTSTAMP:20260420T182142
CREATED:20250904T090255Z
LAST-MODIFIED:20250904T090738Z
UID:10001348-1764950400-1764955800@getawaygirls.co.uk
SUMMARY:Girls Zone 11-13yrs
DESCRIPTION:Girls Zone for girls aged 11-13yrs
URL:https://getawaygirls.co.uk/group/girls-zone-11-13yrs/2025-12-05/
LOCATION:Getaway Girls\, 19 Brooklands Avenue\, Leeds\, West Yorkshire\, LS14 6SG\, United Kingdom
ATTACH;FMTTYPE=image/jpeg:https://getawaygirls.co.uk/wp-content/uploads/2024/01/Girls-space.jpg
END:VEVENT
BEGIN:VEVENT
DTSTART;TZID=UTC:20251205T160000
DTEND;TZID=UTC:20251205T173000
DTSTAMP:20260420T182142
CREATED:20250904T091116Z
LAST-MODIFIED:20251208T163547Z
UID:10001388-1764950400-1764955800@getawaygirls.co.uk
SUMMARY:BassLines - music Group 14-19
DESCRIPTION:Music Group for your women aged 14-19yrs
URL:https://getawaygirls.co.uk/group/sister-sound-salon-music-group-14-19-2/2025-12-05/
LOCATION:Getaway Girls\, 19 Brooklands Avenue\, Leeds\, West Yorkshire\, LS14 6SG\, United Kingdom
ATTACH;FMTTYPE=image/jpeg:https://getawaygirls.co.uk/wp-content/uploads/2025/01/Music-Group.jpg
END:VEVENT
BEGIN:VEVENT
DTSTART;TZID=UTC:20251208T160000
DTEND;TZID=UTC:20251208T173000
DTSTAMP:20260420T182142
CREATED:20250904T082826Z
LAST-MODIFIED:20250904T082924Z
UID:10001104-1765209600-1765215000@getawaygirls.co.uk
SUMMARY:Girls Squad 8-11yrs
DESCRIPTION:Girls Space for girls aged 8-11yrs
URL:https://getawaygirls.co.uk/group/girls-squad-8-11yrs-4/2025-12-08/
LOCATION:Getaway Girls\, 19 Brooklands Avenue\, Leeds\, West Yorkshire\, LS14 6SG\, United Kingdom
ATTACH;FMTTYPE=image/jpeg:https://getawaygirls.co.uk/wp-content/uploads/2024/01/Girls-space.jpg
END:VEVENT
BEGIN:VEVENT
DTSTART;TZID=UTC:20251209T153000
DTEND;TZID=UTC:20251209T173000
DTSTAMP:20260420T182142
CREATED:20250904T083315Z
LAST-MODIFIED:20250904T083911Z
UID:10001155-1765294200-1765301400@getawaygirls.co.uk
SUMMARY:Girls space 13-17yrs
DESCRIPTION:Girls Space for young women aged 13-17yrs
URL:https://getawaygirls.co.uk/group/girls-space-13-16yrs-5/2025-12-09/
LOCATION:Getaway Girls\, 19 Brooklands Avenue\, Leeds\, West Yorkshire\, LS14 6SG\, United Kingdom
ATTACH;FMTTYPE=image/jpeg:https://getawaygirls.co.uk/wp-content/uploads/2024/01/Girls-space.jpg
END:VEVENT
END:VCALENDAR