BEGIN:VCALENDAR
VERSION:2.0
PRODID:-//Getaway Girls - ECPv6.15.20//NONSGML v1.0//EN
CALSCALE:GREGORIAN
METHOD:PUBLISH
X-WR-CALNAME:Getaway Girls
X-ORIGINAL-URL:https://getawaygirls.co.uk
X-WR-CALDESC:Events for Getaway Girls
REFRESH-INTERVAL;VALUE=DURATION:PT1H
X-Robots-Tag:noindex
X-PUBLISHED-TTL:PT1H
BEGIN:VTIMEZONE
TZID:UTC
BEGIN:STANDARD
TZOFFSETFROM:+0000
TZOFFSETTO:+0000
TZNAME:UTC
DTSTART:20240101T000000
END:STANDARD
END:VTIMEZONE
BEGIN:VEVENT
DTSTART;TZID=UTC:20251009T160000
DTEND;TZID=UTC:20251009T173000
DTSTAMP:20260420T194028
CREATED:20250904T085534Z
LAST-MODIFIED:20250904T085633Z
UID:10001248-1760025600-1760031000@getawaygirls.co.uk
SUMMARY:Vocal Girls
DESCRIPTION:Campaigning Group for young women 15-19yrs
URL:https://getawaygirls.co.uk/group/vocal-girls-6/2025-10-09/
LOCATION:Getaway Girls\, 19 Brooklands Avenue\, Leeds\, West Yorkshire\, LS14 6SG\, United Kingdom
ATTACH;FMTTYPE=image/jpeg:https://getawaygirls.co.uk/wp-content/uploads/2024/10/Vocal-Girls-event-2.jpg
END:VEVENT
BEGIN:VEVENT
DTSTART;TZID=UTC:20251010T130000
DTEND;TZID=UTC:20251010T143000
DTSTAMP:20260420T194028
CREATED:20250904T085900Z
LAST-MODIFIED:20250904T090645Z
UID:10001289-1760101200-1760106600@getawaygirls.co.uk
SUMMARY:Cooking together
DESCRIPTION:Cooking together for young women aged 16-25 yrs\, creché available
URL:https://getawaygirls.co.uk/group/cooking-together-13/2025-10-10/
LOCATION:Getaway Girls\, 19 Brooklands Avenue\, Leeds\, West Yorkshire\, LS14 6SG\, United Kingdom
ATTACH;FMTTYPE=image/jpeg:https://getawaygirls.co.uk/wp-content/uploads/2024/01/Cooking-together.jpg
END:VEVENT
BEGIN:VEVENT
DTSTART;TZID=UTC:20251010T160000
DTEND;TZID=UTC:20251010T173000
DTSTAMP:20260420T194028
CREATED:20250904T090255Z
LAST-MODIFIED:20250904T090738Z
UID:10001340-1760112000-1760117400@getawaygirls.co.uk
SUMMARY:Girls Zone 11-13yrs
DESCRIPTION:Girls Zone for girls aged 11-13yrs
URL:https://getawaygirls.co.uk/group/girls-zone-11-13yrs/2025-10-10/
LOCATION:Getaway Girls\, 19 Brooklands Avenue\, Leeds\, West Yorkshire\, LS14 6SG\, United Kingdom
ATTACH;FMTTYPE=image/jpeg:https://getawaygirls.co.uk/wp-content/uploads/2024/01/Girls-space.jpg
END:VEVENT
BEGIN:VEVENT
DTSTART;TZID=UTC:20251010T160000
DTEND;TZID=UTC:20251010T173000
DTSTAMP:20260420T194028
CREATED:20250904T091116Z
LAST-MODIFIED:20251208T163547Z
UID:10001380-1760112000-1760117400@getawaygirls.co.uk
SUMMARY:BassLines - music Group 14-19
DESCRIPTION:Music Group for your women aged 14-19yrs
URL:https://getawaygirls.co.uk/group/sister-sound-salon-music-group-14-19-2/2025-10-10/
LOCATION:Getaway Girls\, 19 Brooklands Avenue\, Leeds\, West Yorkshire\, LS14 6SG\, United Kingdom
ATTACH;FMTTYPE=image/jpeg:https://getawaygirls.co.uk/wp-content/uploads/2025/01/Music-Group.jpg
END:VEVENT
BEGIN:VEVENT
DTSTART;TZID=UTC:20251013T160000
DTEND;TZID=UTC:20251013T173000
DTSTAMP:20260420T194028
CREATED:20250904T082826Z
LAST-MODIFIED:20250904T082924Z
UID:10001096-1760371200-1760376600@getawaygirls.co.uk
SUMMARY:Girls Squad 8-11yrs
DESCRIPTION:Girls Space for girls aged 8-11yrs
URL:https://getawaygirls.co.uk/group/girls-squad-8-11yrs-4/2025-10-13/
LOCATION:Getaway Girls\, 19 Brooklands Avenue\, Leeds\, West Yorkshire\, LS14 6SG\, United Kingdom
ATTACH;FMTTYPE=image/jpeg:https://getawaygirls.co.uk/wp-content/uploads/2024/01/Girls-space.jpg
END:VEVENT
BEGIN:VEVENT
DTSTART;TZID=UTC:20251014T153000
DTEND;TZID=UTC:20251014T173000
DTSTAMP:20260420T194028
CREATED:20250904T083315Z
LAST-MODIFIED:20250904T083911Z
UID:10001147-1760455800-1760463000@getawaygirls.co.uk
SUMMARY:Girls space 13-17yrs
DESCRIPTION:Girls Space for young women aged 13-17yrs
URL:https://getawaygirls.co.uk/group/girls-space-13-16yrs-5/2025-10-14/
LOCATION:Getaway Girls\, 19 Brooklands Avenue\, Leeds\, West Yorkshire\, LS14 6SG\, United Kingdom
ATTACH;FMTTYPE=image/jpeg:https://getawaygirls.co.uk/wp-content/uploads/2024/01/Girls-space.jpg
END:VEVENT
BEGIN:VEVENT
DTSTART;TZID=UTC:20251015T123000
DTEND;TZID=UTC:20251015T143000
DTSTAMP:20260420T194028
CREATED:20250904T083545Z
LAST-MODIFIED:20260327T164812Z
UID:10001503-1760531400-1760538600@getawaygirls.co.uk
SUMMARY:Proud to be Mum group
DESCRIPTION:Proud to be Mums group\, 18- 25yrs\, with creché
URL:https://getawaygirls.co.uk/group/proud-to-be-mum-group-9/2025-10-15/
LOCATION:Getaway Girls\, 19 Brooklands Avenue\, Leeds\, West Yorkshire\, LS14 6SG\, United Kingdom
ATTACH;FMTTYPE=image/jpeg:https://getawaygirls.co.uk/wp-content/uploads/2024/01/Proud-to-be-Mum.jpg
END:VEVENT
BEGIN:VEVENT
DTSTART;TZID=UTC:20251015T153000
DTEND;TZID=UTC:20251015T173000
DTSTAMP:20260420T194028
CREATED:20250904T085053Z
LAST-MODIFIED:20260327T165606Z
UID:10001224-1760542200-1760549400@getawaygirls.co.uk
SUMMARY:Girls space 12-14yrs
DESCRIPTION:Girls Space for young women aged 12-14yrs
URL:https://getawaygirls.co.uk/group/girls-space-13-17yrs/2025-10-15/
LOCATION:Getaway Girls\, 19 Brooklands Avenue\, Leeds\, West Yorkshire\, LS14 6SG\, United Kingdom
ATTACH;FMTTYPE=image/jpeg:https://getawaygirls.co.uk/wp-content/uploads/2024/01/Girls-space.jpg
END:VEVENT
BEGIN:VEVENT
DTSTART;TZID=UTC:20251016T160000
DTEND;TZID=UTC:20251016T173000
DTSTAMP:20260420T194028
CREATED:20250904T085534Z
LAST-MODIFIED:20250904T085633Z
UID:10001249-1760630400-1760635800@getawaygirls.co.uk
SUMMARY:Vocal Girls
DESCRIPTION:Campaigning Group for young women 15-19yrs
URL:https://getawaygirls.co.uk/group/vocal-girls-6/2025-10-16/
LOCATION:Getaway Girls\, 19 Brooklands Avenue\, Leeds\, West Yorkshire\, LS14 6SG\, United Kingdom
ATTACH;FMTTYPE=image/jpeg:https://getawaygirls.co.uk/wp-content/uploads/2024/10/Vocal-Girls-event-2.jpg
END:VEVENT
BEGIN:VEVENT
DTSTART;TZID=UTC:20251017T130000
DTEND;TZID=UTC:20251017T143000
DTSTAMP:20260420T194028
CREATED:20250904T085900Z
LAST-MODIFIED:20250904T090645Z
UID:10001290-1760706000-1760711400@getawaygirls.co.uk
SUMMARY:Cooking together
DESCRIPTION:Cooking together for young women aged 16-25 yrs\, creché available
URL:https://getawaygirls.co.uk/group/cooking-together-13/2025-10-17/
LOCATION:Getaway Girls\, 19 Brooklands Avenue\, Leeds\, West Yorkshire\, LS14 6SG\, United Kingdom
ATTACH;FMTTYPE=image/jpeg:https://getawaygirls.co.uk/wp-content/uploads/2024/01/Cooking-together.jpg
END:VEVENT
BEGIN:VEVENT
DTSTART;TZID=UTC:20251017T160000
DTEND;TZID=UTC:20251017T173000
DTSTAMP:20260420T194028
CREATED:20250904T090255Z
LAST-MODIFIED:20250904T090738Z
UID:10001341-1760716800-1760722200@getawaygirls.co.uk
SUMMARY:Girls Zone 11-13yrs
DESCRIPTION:Girls Zone for girls aged 11-13yrs
URL:https://getawaygirls.co.uk/group/girls-zone-11-13yrs/2025-10-17/
LOCATION:Getaway Girls\, 19 Brooklands Avenue\, Leeds\, West Yorkshire\, LS14 6SG\, United Kingdom
ATTACH;FMTTYPE=image/jpeg:https://getawaygirls.co.uk/wp-content/uploads/2024/01/Girls-space.jpg
END:VEVENT
BEGIN:VEVENT
DTSTART;TZID=UTC:20251017T160000
DTEND;TZID=UTC:20251017T173000
DTSTAMP:20260420T194028
CREATED:20250904T091116Z
LAST-MODIFIED:20251208T163547Z
UID:10001381-1760716800-1760722200@getawaygirls.co.uk
SUMMARY:BassLines - music Group 14-19
DESCRIPTION:Music Group for your women aged 14-19yrs
URL:https://getawaygirls.co.uk/group/sister-sound-salon-music-group-14-19-2/2025-10-17/
LOCATION:Getaway Girls\, 19 Brooklands Avenue\, Leeds\, West Yorkshire\, LS14 6SG\, United Kingdom
ATTACH;FMTTYPE=image/jpeg:https://getawaygirls.co.uk/wp-content/uploads/2025/01/Music-Group.jpg
END:VEVENT
BEGIN:VEVENT
DTSTART;TZID=UTC:20251020T160000
DTEND;TZID=UTC:20251020T173000
DTSTAMP:20260420T194028
CREATED:20250904T082826Z
LAST-MODIFIED:20250904T082924Z
UID:10001097-1760976000-1760981400@getawaygirls.co.uk
SUMMARY:Girls Squad 8-11yrs
DESCRIPTION:Girls Space for girls aged 8-11yrs
URL:https://getawaygirls.co.uk/group/girls-squad-8-11yrs-4/2025-10-20/
LOCATION:Getaway Girls\, 19 Brooklands Avenue\, Leeds\, West Yorkshire\, LS14 6SG\, United Kingdom
ATTACH;FMTTYPE=image/jpeg:https://getawaygirls.co.uk/wp-content/uploads/2024/01/Girls-space.jpg
END:VEVENT
BEGIN:VEVENT
DTSTART;TZID=UTC:20251021T153000
DTEND;TZID=UTC:20251021T173000
DTSTAMP:20260420T194028
CREATED:20250904T083315Z
LAST-MODIFIED:20250904T083911Z
UID:10001148-1761060600-1761067800@getawaygirls.co.uk
SUMMARY:Girls space 13-17yrs
DESCRIPTION:Girls Space for young women aged 13-17yrs
URL:https://getawaygirls.co.uk/group/girls-space-13-16yrs-5/2025-10-21/
LOCATION:Getaway Girls\, 19 Brooklands Avenue\, Leeds\, West Yorkshire\, LS14 6SG\, United Kingdom
ATTACH;FMTTYPE=image/jpeg:https://getawaygirls.co.uk/wp-content/uploads/2024/01/Girls-space.jpg
END:VEVENT
BEGIN:VEVENT
DTSTART;TZID=UTC:20251022T123000
DTEND;TZID=UTC:20251022T143000
DTSTAMP:20260420T194028
CREATED:20250904T083545Z
LAST-MODIFIED:20260327T164812Z
UID:10001504-1761136200-1761143400@getawaygirls.co.uk
SUMMARY:Proud to be Mum group
DESCRIPTION:Proud to be Mums group\, 18- 25yrs\, with creché
URL:https://getawaygirls.co.uk/group/proud-to-be-mum-group-9/2025-10-22/
LOCATION:Getaway Girls\, 19 Brooklands Avenue\, Leeds\, West Yorkshire\, LS14 6SG\, United Kingdom
ATTACH;FMTTYPE=image/jpeg:https://getawaygirls.co.uk/wp-content/uploads/2024/01/Proud-to-be-Mum.jpg
END:VEVENT
BEGIN:VEVENT
DTSTART;TZID=UTC:20251022T153000
DTEND;TZID=UTC:20251022T173000
DTSTAMP:20260420T194028
CREATED:20250904T085053Z
LAST-MODIFIED:20260327T165606Z
UID:10001225-1761147000-1761154200@getawaygirls.co.uk
SUMMARY:Girls space 12-14yrs
DESCRIPTION:Girls Space for young women aged 12-14yrs
URL:https://getawaygirls.co.uk/group/girls-space-13-17yrs/2025-10-22/
LOCATION:Getaway Girls\, 19 Brooklands Avenue\, Leeds\, West Yorkshire\, LS14 6SG\, United Kingdom
ATTACH;FMTTYPE=image/jpeg:https://getawaygirls.co.uk/wp-content/uploads/2024/01/Girls-space.jpg
END:VEVENT
BEGIN:VEVENT
DTSTART;TZID=UTC:20251023T160000
DTEND;TZID=UTC:20251023T173000
DTSTAMP:20260420T194028
CREATED:20250904T085534Z
LAST-MODIFIED:20250904T085633Z
UID:10001250-1761235200-1761240600@getawaygirls.co.uk
SUMMARY:Vocal Girls
DESCRIPTION:Campaigning Group for young women 15-19yrs
URL:https://getawaygirls.co.uk/group/vocal-girls-6/2025-10-23/
LOCATION:Getaway Girls\, 19 Brooklands Avenue\, Leeds\, West Yorkshire\, LS14 6SG\, United Kingdom
ATTACH;FMTTYPE=image/jpeg:https://getawaygirls.co.uk/wp-content/uploads/2024/10/Vocal-Girls-event-2.jpg
END:VEVENT
BEGIN:VEVENT
DTSTART;TZID=UTC:20251024T130000
DTEND;TZID=UTC:20251024T143000
DTSTAMP:20260420T194028
CREATED:20250904T085900Z
LAST-MODIFIED:20250904T090645Z
UID:10001291-1761310800-1761316200@getawaygirls.co.uk
SUMMARY:Cooking together
DESCRIPTION:Cooking together for young women aged 16-25 yrs\, creché available
URL:https://getawaygirls.co.uk/group/cooking-together-13/2025-10-24/
LOCATION:Getaway Girls\, 19 Brooklands Avenue\, Leeds\, West Yorkshire\, LS14 6SG\, United Kingdom
ATTACH;FMTTYPE=image/jpeg:https://getawaygirls.co.uk/wp-content/uploads/2024/01/Cooking-together.jpg
END:VEVENT
BEGIN:VEVENT
DTSTART;TZID=UTC:20251024T160000
DTEND;TZID=UTC:20251024T173000
DTSTAMP:20260420T194028
CREATED:20250904T090255Z
LAST-MODIFIED:20250904T090738Z
UID:10001342-1761321600-1761327000@getawaygirls.co.uk
SUMMARY:Girls Zone 11-13yrs
DESCRIPTION:Girls Zone for girls aged 11-13yrs
URL:https://getawaygirls.co.uk/group/girls-zone-11-13yrs/2025-10-24/
LOCATION:Getaway Girls\, 19 Brooklands Avenue\, Leeds\, West Yorkshire\, LS14 6SG\, United Kingdom
ATTACH;FMTTYPE=image/jpeg:https://getawaygirls.co.uk/wp-content/uploads/2024/01/Girls-space.jpg
END:VEVENT
BEGIN:VEVENT
DTSTART;TZID=UTC:20251024T160000
DTEND;TZID=UTC:20251024T173000
DTSTAMP:20260420T194028
CREATED:20250904T091116Z
LAST-MODIFIED:20251208T163547Z
UID:10001382-1761321600-1761327000@getawaygirls.co.uk
SUMMARY:BassLines - music Group 14-19
DESCRIPTION:Music Group for your women aged 14-19yrs
URL:https://getawaygirls.co.uk/group/sister-sound-salon-music-group-14-19-2/2025-10-24/
LOCATION:Getaway Girls\, 19 Brooklands Avenue\, Leeds\, West Yorkshire\, LS14 6SG\, United Kingdom
ATTACH;FMTTYPE=image/jpeg:https://getawaygirls.co.uk/wp-content/uploads/2025/01/Music-Group.jpg
END:VEVENT
BEGIN:VEVENT
DTSTART;TZID=UTC:20251027T160000
DTEND;TZID=UTC:20251027T173000
DTSTAMP:20260420T194028
CREATED:20250904T082826Z
LAST-MODIFIED:20250904T082924Z
UID:10001098-1761580800-1761586200@getawaygirls.co.uk
SUMMARY:Girls Squad 8-11yrs
DESCRIPTION:Girls Space for girls aged 8-11yrs
URL:https://getawaygirls.co.uk/group/girls-squad-8-11yrs-4/2025-10-27/
LOCATION:Getaway Girls\, 19 Brooklands Avenue\, Leeds\, West Yorkshire\, LS14 6SG\, United Kingdom
ATTACH;FMTTYPE=image/jpeg:https://getawaygirls.co.uk/wp-content/uploads/2024/01/Girls-space.jpg
END:VEVENT
BEGIN:VEVENT
DTSTART;TZID=UTC:20251028T153000
DTEND;TZID=UTC:20251028T173000
DTSTAMP:20260420T194028
CREATED:20250904T083315Z
LAST-MODIFIED:20250904T083911Z
UID:10001149-1761665400-1761672600@getawaygirls.co.uk
SUMMARY:Girls space 13-17yrs
DESCRIPTION:Girls Space for young women aged 13-17yrs
URL:https://getawaygirls.co.uk/group/girls-space-13-16yrs-5/2025-10-28/
LOCATION:Getaway Girls\, 19 Brooklands Avenue\, Leeds\, West Yorkshire\, LS14 6SG\, United Kingdom
ATTACH;FMTTYPE=image/jpeg:https://getawaygirls.co.uk/wp-content/uploads/2024/01/Girls-space.jpg
END:VEVENT
BEGIN:VEVENT
DTSTART;TZID=UTC:20251029T123000
DTEND;TZID=UTC:20251029T143000
DTSTAMP:20260420T194028
CREATED:20250904T083545Z
LAST-MODIFIED:20260327T164812Z
UID:10001505-1761741000-1761748200@getawaygirls.co.uk
SUMMARY:Proud to be Mum group
DESCRIPTION:Proud to be Mums group\, 18- 25yrs\, with creché
URL:https://getawaygirls.co.uk/group/proud-to-be-mum-group-9/2025-10-29/
LOCATION:Getaway Girls\, 19 Brooklands Avenue\, Leeds\, West Yorkshire\, LS14 6SG\, United Kingdom
ATTACH;FMTTYPE=image/jpeg:https://getawaygirls.co.uk/wp-content/uploads/2024/01/Proud-to-be-Mum.jpg
END:VEVENT
BEGIN:VEVENT
DTSTART;TZID=UTC:20251029T153000
DTEND;TZID=UTC:20251029T173000
DTSTAMP:20260420T194028
CREATED:20250904T085053Z
LAST-MODIFIED:20260327T165606Z
UID:10001226-1761751800-1761759000@getawaygirls.co.uk
SUMMARY:Girls space 12-14yrs
DESCRIPTION:Girls Space for young women aged 12-14yrs
URL:https://getawaygirls.co.uk/group/girls-space-13-17yrs/2025-10-29/
LOCATION:Getaway Girls\, 19 Brooklands Avenue\, Leeds\, West Yorkshire\, LS14 6SG\, United Kingdom
ATTACH;FMTTYPE=image/jpeg:https://getawaygirls.co.uk/wp-content/uploads/2024/01/Girls-space.jpg
END:VEVENT
BEGIN:VEVENT
DTSTART;TZID=UTC:20251030T160000
DTEND;TZID=UTC:20251030T173000
DTSTAMP:20260420T194028
CREATED:20250904T085534Z
LAST-MODIFIED:20250904T085633Z
UID:10001251-1761840000-1761845400@getawaygirls.co.uk
SUMMARY:Vocal Girls
DESCRIPTION:Campaigning Group for young women 15-19yrs
URL:https://getawaygirls.co.uk/group/vocal-girls-6/2025-10-30/
LOCATION:Getaway Girls\, 19 Brooklands Avenue\, Leeds\, West Yorkshire\, LS14 6SG\, United Kingdom
ATTACH;FMTTYPE=image/jpeg:https://getawaygirls.co.uk/wp-content/uploads/2024/10/Vocal-Girls-event-2.jpg
END:VEVENT
BEGIN:VEVENT
DTSTART;TZID=UTC:20251031T130000
DTEND;TZID=UTC:20251031T143000
DTSTAMP:20260420T194028
CREATED:20250904T085900Z
LAST-MODIFIED:20250904T090645Z
UID:10001292-1761915600-1761921000@getawaygirls.co.uk
SUMMARY:Cooking together
DESCRIPTION:Cooking together for young women aged 16-25 yrs\, creché available
URL:https://getawaygirls.co.uk/group/cooking-together-13/2025-10-31/
LOCATION:Getaway Girls\, 19 Brooklands Avenue\, Leeds\, West Yorkshire\, LS14 6SG\, United Kingdom
ATTACH;FMTTYPE=image/jpeg:https://getawaygirls.co.uk/wp-content/uploads/2024/01/Cooking-together.jpg
END:VEVENT
BEGIN:VEVENT
DTSTART;TZID=UTC:20251031T160000
DTEND;TZID=UTC:20251031T173000
DTSTAMP:20260420T194028
CREATED:20250904T090255Z
LAST-MODIFIED:20250904T090738Z
UID:10001343-1761926400-1761931800@getawaygirls.co.uk
SUMMARY:Girls Zone 11-13yrs
DESCRIPTION:Girls Zone for girls aged 11-13yrs
URL:https://getawaygirls.co.uk/group/girls-zone-11-13yrs/2025-10-31/
LOCATION:Getaway Girls\, 19 Brooklands Avenue\, Leeds\, West Yorkshire\, LS14 6SG\, United Kingdom
ATTACH;FMTTYPE=image/jpeg:https://getawaygirls.co.uk/wp-content/uploads/2024/01/Girls-space.jpg
END:VEVENT
BEGIN:VEVENT
DTSTART;TZID=UTC:20251031T160000
DTEND;TZID=UTC:20251031T173000
DTSTAMP:20260420T194028
CREATED:20250904T091116Z
LAST-MODIFIED:20251208T163547Z
UID:10001383-1761926400-1761931800@getawaygirls.co.uk
SUMMARY:BassLines - music Group 14-19
DESCRIPTION:Music Group for your women aged 14-19yrs
URL:https://getawaygirls.co.uk/group/sister-sound-salon-music-group-14-19-2/2025-10-31/
LOCATION:Getaway Girls\, 19 Brooklands Avenue\, Leeds\, West Yorkshire\, LS14 6SG\, United Kingdom
ATTACH;FMTTYPE=image/jpeg:https://getawaygirls.co.uk/wp-content/uploads/2025/01/Music-Group.jpg
END:VEVENT
BEGIN:VEVENT
DTSTART;TZID=UTC:20251103T160000
DTEND;TZID=UTC:20251103T173000
DTSTAMP:20260420T194028
CREATED:20250904T082826Z
LAST-MODIFIED:20250904T082924Z
UID:10001099-1762185600-1762191000@getawaygirls.co.uk
SUMMARY:Girls Squad 8-11yrs
DESCRIPTION:Girls Space for girls aged 8-11yrs
URL:https://getawaygirls.co.uk/group/girls-squad-8-11yrs-4/2025-11-03/
LOCATION:Getaway Girls\, 19 Brooklands Avenue\, Leeds\, West Yorkshire\, LS14 6SG\, United Kingdom
ATTACH;FMTTYPE=image/jpeg:https://getawaygirls.co.uk/wp-content/uploads/2024/01/Girls-space.jpg
END:VEVENT
BEGIN:VEVENT
DTSTART;TZID=UTC:20251104T153000
DTEND;TZID=UTC:20251104T173000
DTSTAMP:20260420T194028
CREATED:20250904T083315Z
LAST-MODIFIED:20250904T083911Z
UID:10001150-1762270200-1762277400@getawaygirls.co.uk
SUMMARY:Girls space 13-17yrs
DESCRIPTION:Girls Space for young women aged 13-17yrs
URL:https://getawaygirls.co.uk/group/girls-space-13-16yrs-5/2025-11-04/
LOCATION:Getaway Girls\, 19 Brooklands Avenue\, Leeds\, West Yorkshire\, LS14 6SG\, United Kingdom
ATTACH;FMTTYPE=image/jpeg:https://getawaygirls.co.uk/wp-content/uploads/2024/01/Girls-space.jpg
END:VEVENT
END:VCALENDAR