BEGIN:VCALENDAR
VERSION:2.0
PRODID:-//Getaway Girls - ECPv6.15.20//NONSGML v1.0//EN
CALSCALE:GREGORIAN
METHOD:PUBLISH
X-WR-CALNAME:Getaway Girls
X-ORIGINAL-URL:https://getawaygirls.co.uk
X-WR-CALDESC:Events for Getaway Girls
REFRESH-INTERVAL;VALUE=DURATION:PT1H
X-Robots-Tag:noindex
X-PUBLISHED-TTL:PT1H
BEGIN:VTIMEZONE
TZID:UTC
BEGIN:STANDARD
TZOFFSETFROM:+0000
TZOFFSETTO:+0000
TZNAME:UTC
DTSTART:20240101T000000
END:STANDARD
END:VTIMEZONE
BEGIN:VEVENT
DTSTART;TZID=UTC:20250807T113000
DTEND;TZID=UTC:20250807T153000
DTSTAMP:20260420T221959
CREATED:20250729T062114Z
LAST-MODIFIED:20250729T062748Z
UID:10001079-1754566200-1754580600@getawaygirls.co.uk
SUMMARY:8-13’s Summer Scheme
DESCRIPTION:You must book through Healthy Holidays and be on free school meals
URL:https://getawaygirls.co.uk/group/8-13s-summer-scheme-3/2025-08-07/
LOCATION:Getaway Girls\, 19 Brooklands Avenue\, Leeds\, West Yorkshire\, LS14 6SG\, United Kingdom
ATTACH;FMTTYPE=image/png:https://getawaygirls.co.uk/wp-content/uploads/2025/07/8-13s-Summer-Scheme.png
END:VEVENT
BEGIN:VEVENT
DTSTART;TZID=UTC:20250808T113000
DTEND;TZID=UTC:20250808T153000
DTSTAMP:20260420T221959
CREATED:20250729T080226Z
LAST-MODIFIED:20250729T091500Z
UID:10001088-1754652600-1754667000@getawaygirls.co.uk
SUMMARY:13-17’s Summer Scheme
DESCRIPTION:You must book through Healthy Holidays and be on free school meals
URL:https://getawaygirls.co.uk/group/13-17s-summer-scheme-2/2025-08-08/
LOCATION:Getaway Girls\, 19 Brooklands Avenue\, Leeds\, West Yorkshire\, LS14 6SG\, United Kingdom
ATTACH;FMTTYPE=image/png:https://getawaygirls.co.uk/wp-content/uploads/2025/07/8-13s-Summer-Scheme.png
END:VEVENT
BEGIN:VEVENT
DTSTART;TZID=UTC:20250808T123000
DTEND;TZID=UTC:20250808T143000
DTSTAMP:20260420T221959
CREATED:20250729T060752Z
LAST-MODIFIED:20250729T060752Z
UID:10001047-1754656200-1754663400@getawaygirls.co.uk
SUMMARY:Cooking together
DESCRIPTION:Cooking together for young women aged 16-25 yrs\, creché available
URL:https://getawaygirls.co.uk/group/cooking-together-11/2025-08-08/
LOCATION:Getaway Girls\, 19 Brooklands Avenue\, Leeds\, West Yorkshire\, LS14 6SG\, United Kingdom
ATTACH;FMTTYPE=image/jpeg:https://getawaygirls.co.uk/wp-content/uploads/2024/01/Cooking-together.jpg
END:VEVENT
BEGIN:VEVENT
DTSTART;TZID=UTC:20250811T123000
DTEND;TZID=UTC:20250811T143000
DTSTAMP:20260420T221959
CREATED:20250904T083545Z
LAST-MODIFIED:20260327T164812Z
UID:10001039-1754915400-1754922600@getawaygirls.co.uk
SUMMARY:Proud to be Mum group
DESCRIPTION:Proud to be Mums group\, 18- 25yrs\, with creché
URL:https://getawaygirls.co.uk/group/proud-to-be-mum-group-9/2025-08-11/
LOCATION:Getaway Girls\, 19 Brooklands Avenue\, Leeds\, West Yorkshire\, LS14 6SG\, United Kingdom
ATTACH;FMTTYPE=image/jpeg:https://getawaygirls.co.uk/wp-content/uploads/2024/01/Proud-to-be-Mum.jpg
END:VEVENT
BEGIN:VEVENT
DTSTART;TZID=UTC:20250812T113000
DTEND;TZID=UTC:20250812T153000
DTSTAMP:20260420T221959
CREATED:20250729T061726Z
LAST-MODIFIED:20250729T061829Z
UID:10001053-1754998200-1755012600@getawaygirls.co.uk
SUMMARY:8-13’s Summer Scheme
DESCRIPTION:You must book through Healthy Holidays and be on free school meals
URL:https://getawaygirls.co.uk/group/8-13s-summer-scheme/2025-08-12/
LOCATION:Getaway Girls\, 19 Brooklands Avenue\, Leeds\, West Yorkshire\, LS14 6SG\, United Kingdom
ATTACH;FMTTYPE=image/png:https://getawaygirls.co.uk/wp-content/uploads/2025/07/8-13s-Summer-Scheme.png
END:VEVENT
BEGIN:VEVENT
DTSTART;TZID=UTC:20250813T113000
DTEND;TZID=UTC:20250813T153000
DTSTAMP:20260420T221959
CREATED:20250729T063401Z
LAST-MODIFIED:20250729T091431Z
UID:10001083-1755084600-1755099000@getawaygirls.co.uk
SUMMARY:13-17’s Summer Scheme
DESCRIPTION:You must book through Healthy Holidays and be on free school meals
URL:https://getawaygirls.co.uk/group/13-17s-summer-scheme-3/2025-08-13/
LOCATION:Getaway Girls\, 19 Brooklands Avenue\, Leeds\, West Yorkshire\, LS14 6SG\, United Kingdom
ATTACH;FMTTYPE=image/png:https://getawaygirls.co.uk/wp-content/uploads/2025/07/8-13s-Summer-Scheme.png
END:VEVENT
BEGIN:VEVENT
DTSTART;TZID=UTC:20250813T123000
DTEND;TZID=UTC:20250813T143000
DTSTAMP:20260420T221959
CREATED:20250904T083545Z
LAST-MODIFIED:20260327T164812Z
UID:10001494-1755088200-1755095400@getawaygirls.co.uk
SUMMARY:Proud to be Mum group
DESCRIPTION:Proud to be Mums group\, 18- 25yrs\, with creché
URL:https://getawaygirls.co.uk/group/proud-to-be-mum-group-9/2025-08-13/
LOCATION:Getaway Girls\, 19 Brooklands Avenue\, Leeds\, West Yorkshire\, LS14 6SG\, United Kingdom
ATTACH;FMTTYPE=image/jpeg:https://getawaygirls.co.uk/wp-content/uploads/2024/01/Proud-to-be-Mum.jpg
END:VEVENT
BEGIN:VEVENT
DTSTART;TZID=UTC:20250814T113000
DTEND;TZID=UTC:20250814T153000
DTSTAMP:20260420T221959
CREATED:20250729T062114Z
LAST-MODIFIED:20250729T062748Z
UID:10001080-1755171000-1755185400@getawaygirls.co.uk
SUMMARY:8-13’s Summer Scheme
DESCRIPTION:You must book through Healthy Holidays and be on free school meals
URL:https://getawaygirls.co.uk/group/8-13s-summer-scheme-3/2025-08-14/
LOCATION:Getaway Girls\, 19 Brooklands Avenue\, Leeds\, West Yorkshire\, LS14 6SG\, United Kingdom
ATTACH;FMTTYPE=image/png:https://getawaygirls.co.uk/wp-content/uploads/2025/07/8-13s-Summer-Scheme.png
END:VEVENT
BEGIN:VEVENT
DTSTART;TZID=UTC:20250815T113000
DTEND;TZID=UTC:20250815T153000
DTSTAMP:20260420T221959
CREATED:20250729T080226Z
LAST-MODIFIED:20250729T091500Z
UID:10001089-1755257400-1755271800@getawaygirls.co.uk
SUMMARY:13-17’s Summer Scheme
DESCRIPTION:You must book through Healthy Holidays and be on free school meals
URL:https://getawaygirls.co.uk/group/13-17s-summer-scheme-2/2025-08-15/
LOCATION:Getaway Girls\, 19 Brooklands Avenue\, Leeds\, West Yorkshire\, LS14 6SG\, United Kingdom
ATTACH;FMTTYPE=image/png:https://getawaygirls.co.uk/wp-content/uploads/2025/07/8-13s-Summer-Scheme.png
END:VEVENT
BEGIN:VEVENT
DTSTART;TZID=UTC:20250815T123000
DTEND;TZID=UTC:20250815T143000
DTSTAMP:20260420T222000
CREATED:20250729T060752Z
LAST-MODIFIED:20250729T060752Z
UID:10001048-1755261000-1755268200@getawaygirls.co.uk
SUMMARY:Cooking together
DESCRIPTION:Cooking together for young women aged 16-25 yrs\, creché available
URL:https://getawaygirls.co.uk/group/cooking-together-11/2025-08-15/
LOCATION:Getaway Girls\, 19 Brooklands Avenue\, Leeds\, West Yorkshire\, LS14 6SG\, United Kingdom
ATTACH;FMTTYPE=image/jpeg:https://getawaygirls.co.uk/wp-content/uploads/2024/01/Cooking-together.jpg
END:VEVENT
BEGIN:VEVENT
DTSTART;TZID=UTC:20250819T113000
DTEND;TZID=UTC:20250819T153000
DTSTAMP:20260420T222000
CREATED:20250729T061726Z
LAST-MODIFIED:20250729T061829Z
UID:10001054-1755603000-1755617400@getawaygirls.co.uk
SUMMARY:8-13’s Summer Scheme
DESCRIPTION:You must book through Healthy Holidays and be on free school meals
URL:https://getawaygirls.co.uk/group/8-13s-summer-scheme/2025-08-19/
LOCATION:Getaway Girls\, 19 Brooklands Avenue\, Leeds\, West Yorkshire\, LS14 6SG\, United Kingdom
ATTACH;FMTTYPE=image/png:https://getawaygirls.co.uk/wp-content/uploads/2025/07/8-13s-Summer-Scheme.png
END:VEVENT
BEGIN:VEVENT
DTSTART;TZID=UTC:20250820T113000
DTEND;TZID=UTC:20250820T153000
DTSTAMP:20260420T222000
CREATED:20250729T063401Z
LAST-MODIFIED:20250729T091431Z
UID:10001084-1755689400-1755703800@getawaygirls.co.uk
SUMMARY:13-17’s Summer Scheme
DESCRIPTION:You must book through Healthy Holidays and be on free school meals
URL:https://getawaygirls.co.uk/group/13-17s-summer-scheme-3/2025-08-20/
LOCATION:Getaway Girls\, 19 Brooklands Avenue\, Leeds\, West Yorkshire\, LS14 6SG\, United Kingdom
ATTACH;FMTTYPE=image/png:https://getawaygirls.co.uk/wp-content/uploads/2025/07/8-13s-Summer-Scheme.png
END:VEVENT
BEGIN:VEVENT
DTSTART;TZID=UTC:20250820T123000
DTEND;TZID=UTC:20250820T143000
DTSTAMP:20260420T222000
CREATED:20250904T083545Z
LAST-MODIFIED:20260327T164812Z
UID:10001495-1755693000-1755700200@getawaygirls.co.uk
SUMMARY:Proud to be Mum group
DESCRIPTION:Proud to be Mums group\, 18- 25yrs\, with creché
URL:https://getawaygirls.co.uk/group/proud-to-be-mum-group-9/2025-08-20/
LOCATION:Getaway Girls\, 19 Brooklands Avenue\, Leeds\, West Yorkshire\, LS14 6SG\, United Kingdom
ATTACH;FMTTYPE=image/jpeg:https://getawaygirls.co.uk/wp-content/uploads/2024/01/Proud-to-be-Mum.jpg
END:VEVENT
BEGIN:VEVENT
DTSTART;TZID=UTC:20250821T113000
DTEND;TZID=UTC:20250821T153000
DTSTAMP:20260420T222000
CREATED:20250729T062114Z
LAST-MODIFIED:20250729T062748Z
UID:10001081-1755775800-1755790200@getawaygirls.co.uk
SUMMARY:8-13’s Summer Scheme
DESCRIPTION:You must book through Healthy Holidays and be on free school meals
URL:https://getawaygirls.co.uk/group/8-13s-summer-scheme-3/2025-08-21/
LOCATION:Getaway Girls\, 19 Brooklands Avenue\, Leeds\, West Yorkshire\, LS14 6SG\, United Kingdom
ATTACH;FMTTYPE=image/png:https://getawaygirls.co.uk/wp-content/uploads/2025/07/8-13s-Summer-Scheme.png
END:VEVENT
BEGIN:VEVENT
DTSTART;TZID=UTC:20250822T113000
DTEND;TZID=UTC:20250822T153000
DTSTAMP:20260420T222000
CREATED:20250729T080226Z
LAST-MODIFIED:20250729T091500Z
UID:10001090-1755862200-1755876600@getawaygirls.co.uk
SUMMARY:13-17’s Summer Scheme
DESCRIPTION:You must book through Healthy Holidays and be on free school meals
URL:https://getawaygirls.co.uk/group/13-17s-summer-scheme-2/2025-08-22/
LOCATION:Getaway Girls\, 19 Brooklands Avenue\, Leeds\, West Yorkshire\, LS14 6SG\, United Kingdom
ATTACH;FMTTYPE=image/png:https://getawaygirls.co.uk/wp-content/uploads/2025/07/8-13s-Summer-Scheme.png
END:VEVENT
BEGIN:VEVENT
DTSTART;TZID=UTC:20250822T123000
DTEND;TZID=UTC:20250822T143000
DTSTAMP:20260420T222000
CREATED:20250729T060752Z
LAST-MODIFIED:20250729T060752Z
UID:10001049-1755865800-1755873000@getawaygirls.co.uk
SUMMARY:Cooking together
DESCRIPTION:Cooking together for young women aged 16-25 yrs\, creché available
URL:https://getawaygirls.co.uk/group/cooking-together-11/2025-08-22/
LOCATION:Getaway Girls\, 19 Brooklands Avenue\, Leeds\, West Yorkshire\, LS14 6SG\, United Kingdom
ATTACH;FMTTYPE=image/jpeg:https://getawaygirls.co.uk/wp-content/uploads/2024/01/Cooking-together.jpg
END:VEVENT
BEGIN:VEVENT
DTSTART;TZID=UTC:20250826T113000
DTEND;TZID=UTC:20250826T153000
DTSTAMP:20260420T222000
CREATED:20250729T061726Z
LAST-MODIFIED:20250729T061829Z
UID:10001055-1756207800-1756222200@getawaygirls.co.uk
SUMMARY:8-13’s Summer Scheme
DESCRIPTION:You must book through Healthy Holidays and be on free school meals
URL:https://getawaygirls.co.uk/group/8-13s-summer-scheme/2025-08-26/
LOCATION:Getaway Girls\, 19 Brooklands Avenue\, Leeds\, West Yorkshire\, LS14 6SG\, United Kingdom
ATTACH;FMTTYPE=image/png:https://getawaygirls.co.uk/wp-content/uploads/2025/07/8-13s-Summer-Scheme.png
END:VEVENT
BEGIN:VEVENT
DTSTART;TZID=UTC:20250827T123000
DTEND;TZID=UTC:20250827T143000
DTSTAMP:20260420T222000
CREATED:20250904T083545Z
LAST-MODIFIED:20260327T164812Z
UID:10001496-1756297800-1756305000@getawaygirls.co.uk
SUMMARY:Proud to be Mum group
DESCRIPTION:Proud to be Mums group\, 18- 25yrs\, with creché
URL:https://getawaygirls.co.uk/group/proud-to-be-mum-group-9/2025-08-27/
LOCATION:Getaway Girls\, 19 Brooklands Avenue\, Leeds\, West Yorkshire\, LS14 6SG\, United Kingdom
ATTACH;FMTTYPE=image/jpeg:https://getawaygirls.co.uk/wp-content/uploads/2024/01/Proud-to-be-Mum.jpg
END:VEVENT
BEGIN:VEVENT
DTSTART;TZID=UTC:20250828T113000
DTEND;TZID=UTC:20250828T153000
DTSTAMP:20260420T222000
CREATED:20250729T062114Z
LAST-MODIFIED:20250729T062748Z
UID:10001082-1756380600-1756395000@getawaygirls.co.uk
SUMMARY:8-13’s Summer Scheme
DESCRIPTION:You must book through Healthy Holidays and be on free school meals
URL:https://getawaygirls.co.uk/group/8-13s-summer-scheme-3/2025-08-28/
LOCATION:Getaway Girls\, 19 Brooklands Avenue\, Leeds\, West Yorkshire\, LS14 6SG\, United Kingdom
ATTACH;FMTTYPE=image/png:https://getawaygirls.co.uk/wp-content/uploads/2025/07/8-13s-Summer-Scheme.png
END:VEVENT
BEGIN:VEVENT
DTSTART;TZID=UTC:20250829T123000
DTEND;TZID=UTC:20250829T143000
DTSTAMP:20260420T222000
CREATED:20250729T060752Z
LAST-MODIFIED:20250729T060752Z
UID:10001050-1756470600-1756477800@getawaygirls.co.uk
SUMMARY:Cooking together
DESCRIPTION:Cooking together for young women aged 16-25 yrs\, creché available
URL:https://getawaygirls.co.uk/group/cooking-together-11/2025-08-29/
LOCATION:Getaway Girls\, 19 Brooklands Avenue\, Leeds\, West Yorkshire\, LS14 6SG\, United Kingdom
ATTACH;FMTTYPE=image/jpeg:https://getawaygirls.co.uk/wp-content/uploads/2024/01/Cooking-together.jpg
END:VEVENT
BEGIN:VEVENT
DTSTART;TZID=UTC:20250903T123000
DTEND;TZID=UTC:20250903T143000
DTSTAMP:20260420T222000
CREATED:20250904T083545Z
LAST-MODIFIED:20260327T164812Z
UID:10001497-1756902600-1756909800@getawaygirls.co.uk
SUMMARY:Proud to be Mum group
DESCRIPTION:Proud to be Mums group\, 18- 25yrs\, with creché
URL:https://getawaygirls.co.uk/group/proud-to-be-mum-group-9/2025-09-03/
LOCATION:Getaway Girls\, 19 Brooklands Avenue\, Leeds\, West Yorkshire\, LS14 6SG\, United Kingdom
ATTACH;FMTTYPE=image/jpeg:https://getawaygirls.co.uk/wp-content/uploads/2024/01/Proud-to-be-Mum.jpg
END:VEVENT
BEGIN:VEVENT
DTSTART;TZID=UTC:20250905T130000
DTEND;TZID=UTC:20250905T143000
DTSTAMP:20260420T222000
CREATED:20250904T085900Z
LAST-MODIFIED:20250904T090645Z
UID:10001368-1757077200-1757082600@getawaygirls.co.uk
SUMMARY:Cooking together
DESCRIPTION:Cooking together for young women aged 16-25 yrs\, creché available
URL:https://getawaygirls.co.uk/group/cooking-together-13/2025-09-05/
LOCATION:Getaway Girls\, 19 Brooklands Avenue\, Leeds\, West Yorkshire\, LS14 6SG\, United Kingdom
ATTACH;FMTTYPE=image/jpeg:https://getawaygirls.co.uk/wp-content/uploads/2024/01/Cooking-together.jpg
END:VEVENT
BEGIN:VEVENT
DTSTART;TZID=UTC:20250905T160000
DTEND;TZID=UTC:20250905T173000
DTSTAMP:20260420T222000
CREATED:20250904T090255Z
LAST-MODIFIED:20250904T090738Z
UID:10001369-1757088000-1757093400@getawaygirls.co.uk
SUMMARY:Girls Zone 11-13yrs
DESCRIPTION:Girls Zone for girls aged 11-13yrs
URL:https://getawaygirls.co.uk/group/girls-zone-11-13yrs/2025-09-05/
LOCATION:Getaway Girls\, 19 Brooklands Avenue\, Leeds\, West Yorkshire\, LS14 6SG\, United Kingdom
ATTACH;FMTTYPE=image/jpeg:https://getawaygirls.co.uk/wp-content/uploads/2024/01/Girls-space.jpg
END:VEVENT
BEGIN:VEVENT
DTSTART;TZID=UTC:20250905T160000
DTEND;TZID=UTC:20250905T173000
DTSTAMP:20260420T222000
CREATED:20250904T091116Z
LAST-MODIFIED:20251208T163547Z
UID:10001374-1757088000-1757093400@getawaygirls.co.uk
SUMMARY:BassLines - music Group 14-19
DESCRIPTION:Music Group for your women aged 14-19yrs
URL:https://getawaygirls.co.uk/group/sister-sound-salon-music-group-14-19-2/2025-09-05/
LOCATION:Getaway Girls\, 19 Brooklands Avenue\, Leeds\, West Yorkshire\, LS14 6SG\, United Kingdom
ATTACH;FMTTYPE=image/jpeg:https://getawaygirls.co.uk/wp-content/uploads/2025/01/Music-Group.jpg
END:VEVENT
BEGIN:VEVENT
DTSTART;TZID=UTC:20250908T160000
DTEND;TZID=UTC:20250908T173000
DTSTAMP:20260420T222000
CREATED:20250904T082826Z
LAST-MODIFIED:20250904T082924Z
UID:10000873-1757347200-1757352600@getawaygirls.co.uk
SUMMARY:Girls Squad 8-11yrs
DESCRIPTION:Girls Space for girls aged 8-11yrs
URL:https://getawaygirls.co.uk/group/girls-squad-8-11yrs-4/2025-09-08/
LOCATION:Getaway Girls\, 19 Brooklands Avenue\, Leeds\, West Yorkshire\, LS14 6SG\, United Kingdom
ATTACH;FMTTYPE=image/jpeg:https://getawaygirls.co.uk/wp-content/uploads/2024/01/Girls-space.jpg
END:VEVENT
BEGIN:VEVENT
DTSTART;TZID=UTC:20250909T153000
DTEND;TZID=UTC:20250909T173000
DTSTAMP:20260420T222000
CREATED:20250904T083315Z
LAST-MODIFIED:20250904T083911Z
UID:10001142-1757431800-1757439000@getawaygirls.co.uk
SUMMARY:Girls space 13-17yrs
DESCRIPTION:Girls Space for young women aged 13-17yrs
URL:https://getawaygirls.co.uk/group/girls-space-13-16yrs-5/2025-09-09/
LOCATION:Getaway Girls\, 19 Brooklands Avenue\, Leeds\, West Yorkshire\, LS14 6SG\, United Kingdom
ATTACH;FMTTYPE=image/jpeg:https://getawaygirls.co.uk/wp-content/uploads/2024/01/Girls-space.jpg
END:VEVENT
BEGIN:VEVENT
DTSTART;TZID=UTC:20250910T123000
DTEND;TZID=UTC:20250910T143000
DTSTAMP:20260420T222000
CREATED:20250904T083545Z
LAST-MODIFIED:20260327T164812Z
UID:10001498-1757507400-1757514600@getawaygirls.co.uk
SUMMARY:Proud to be Mum group
DESCRIPTION:Proud to be Mums group\, 18- 25yrs\, with creché
URL:https://getawaygirls.co.uk/group/proud-to-be-mum-group-9/2025-09-10/
LOCATION:Getaway Girls\, 19 Brooklands Avenue\, Leeds\, West Yorkshire\, LS14 6SG\, United Kingdom
ATTACH;FMTTYPE=image/jpeg:https://getawaygirls.co.uk/wp-content/uploads/2024/01/Proud-to-be-Mum.jpg
END:VEVENT
BEGIN:VEVENT
DTSTART;TZID=UTC:20250910T153000
DTEND;TZID=UTC:20250910T173000
DTSTAMP:20260420T222000
CREATED:20250904T085053Z
LAST-MODIFIED:20260327T165606Z
UID:10001219-1757518200-1757525400@getawaygirls.co.uk
SUMMARY:Girls space 12-14yrs
DESCRIPTION:Girls Space for young women aged 12-14yrs
URL:https://getawaygirls.co.uk/group/girls-space-13-17yrs/2025-09-10/
LOCATION:Getaway Girls\, 19 Brooklands Avenue\, Leeds\, West Yorkshire\, LS14 6SG\, United Kingdom
ATTACH;FMTTYPE=image/jpeg:https://getawaygirls.co.uk/wp-content/uploads/2024/01/Girls-space.jpg
END:VEVENT
BEGIN:VEVENT
DTSTART;TZID=UTC:20250911T160000
DTEND;TZID=UTC:20250911T173000
DTSTAMP:20260420T222000
CREATED:20250904T085534Z
LAST-MODIFIED:20250904T085633Z
UID:10000986-1757606400-1757611800@getawaygirls.co.uk
SUMMARY:Vocal Girls
DESCRIPTION:Campaigning Group for young women 15-19yrs
URL:https://getawaygirls.co.uk/group/vocal-girls-6/2025-09-11/
LOCATION:Getaway Girls\, 19 Brooklands Avenue\, Leeds\, West Yorkshire\, LS14 6SG\, United Kingdom
ATTACH;FMTTYPE=image/jpeg:https://getawaygirls.co.uk/wp-content/uploads/2024/10/Vocal-Girls-event-2.jpg
END:VEVENT
BEGIN:VEVENT
DTSTART;TZID=UTC:20250912T130000
DTEND;TZID=UTC:20250912T143000
DTSTAMP:20260420T222000
CREATED:20250904T085900Z
LAST-MODIFIED:20250904T090645Z
UID:10001284-1757682000-1757687400@getawaygirls.co.uk
SUMMARY:Cooking together
DESCRIPTION:Cooking together for young women aged 16-25 yrs\, creché available
URL:https://getawaygirls.co.uk/group/cooking-together-13/2025-09-12/
LOCATION:Getaway Girls\, 19 Brooklands Avenue\, Leeds\, West Yorkshire\, LS14 6SG\, United Kingdom
ATTACH;FMTTYPE=image/jpeg:https://getawaygirls.co.uk/wp-content/uploads/2024/01/Cooking-together.jpg
END:VEVENT
END:VCALENDAR