BEGIN:VCALENDAR
VERSION:2.0
PRODID:-//Getaway Girls - ECPv6.15.20//NONSGML v1.0//EN
CALSCALE:GREGORIAN
METHOD:PUBLISH
X-WR-CALNAME:Getaway Girls
X-ORIGINAL-URL:https://getawaygirls.co.uk
X-WR-CALDESC:Events for Getaway Girls
REFRESH-INTERVAL;VALUE=DURATION:PT1H
X-Robots-Tag:noindex
X-PUBLISHED-TTL:PT1H
BEGIN:VTIMEZONE
TZID:UTC
BEGIN:STANDARD
TZOFFSETFROM:+0000
TZOFFSETTO:+0000
TZNAME:UTC
DTSTART:20240101T000000
END:STANDARD
END:VTIMEZONE
BEGIN:VEVENT
DTSTART;TZID=UTC:20250428T121500
DTEND;TZID=UTC:20250428T143000
DTSTAMP:20260421T061621
CREATED:20250428T135937Z
LAST-MODIFIED:20250729T060550Z
UID:10000806-1745842500-1745850600@getawaygirls.co.uk
SUMMARY:Proud to be Mum group
DESCRIPTION:Proud to be Mums group\, upto 25yrs\, with creché
URL:https://getawaygirls.co.uk/group/proud-to-be-mum-group-7/2025-04-28/
LOCATION:Getaway Girls\, 19 Brooklands Avenue\, Leeds\, West Yorkshire\, LS14 6SG\, United Kingdom
ATTACH;FMTTYPE=image/jpeg:https://getawaygirls.co.uk/wp-content/uploads/2024/01/Proud-to-be-Mum.jpg
END:VEVENT
BEGIN:VEVENT
DTSTART;TZID=UTC:20250428T153000
DTEND;TZID=UTC:20250428T173000
DTSTAMP:20260421T061621
CREATED:20250403T100005Z
LAST-MODIFIED:20250618T144505Z
UID:10000761-1745854200-1745861400@getawaygirls.co.uk
SUMMARY:Girls Squad 8-10yrs
DESCRIPTION:Girls Space for girls aged 8-10yrs
URL:https://getawaygirls.co.uk/group/girls-squad-8-11yrs/2025-04-28/
LOCATION:Getaway Girls\, 19 Brooklands Avenue\, Leeds\, West Yorkshire\, LS14 6SG\, United Kingdom
ATTACH;FMTTYPE=image/jpeg:https://getawaygirls.co.uk/wp-content/uploads/2024/01/Girls-space.jpg
END:VEVENT
BEGIN:VEVENT
DTSTART;TZID=UTC:20250429T123000
DTEND;TZID=UTC:20250429T140000
DTSTAMP:20260421T061621
CREATED:20250618T144956Z
LAST-MODIFIED:20250618T145117Z
UID:10000964-1745929800-1745935200@getawaygirls.co.uk
SUMMARY:Yoga
DESCRIPTION:Yoga group\, refreshments and creché.
URL:https://getawaygirls.co.uk/group/yoga-4/2025-04-29/
LOCATION:Getaway Girls\, 19 Brooklands Avenue\, Leeds\, West Yorkshire\, LS14 6SG\, United Kingdom
ATTACH;FMTTYPE=image/jpeg:https://getawaygirls.co.uk/wp-content/uploads/2024/01/Yoga.jpg
END:VEVENT
BEGIN:VEVENT
DTSTART;TZID=UTC:20250429T153000
DTEND;TZID=UTC:20250429T173000
DTSTAMP:20260421T061621
CREATED:20250428T140203Z
LAST-MODIFIED:20250428T140245Z
UID:10000842-1745940600-1745947800@getawaygirls.co.uk
SUMMARY:Girls space 13-16yrs
DESCRIPTION:Girls Space for young women aged 13-16yrs
URL:https://getawaygirls.co.uk/group/girls-space-13-16yrs-4/2025-04-29/
LOCATION:Getaway Girls\, 19 Brooklands Avenue\, Leeds\, West Yorkshire\, LS14 6SG\, United Kingdom
ATTACH;FMTTYPE=image/jpeg:https://getawaygirls.co.uk/wp-content/uploads/2024/01/Girls-space.jpg
END:VEVENT
BEGIN:VEVENT
DTSTART;TZID=UTC:20250430T160000
DTEND;TZID=UTC:20250430T173000
DTSTAMP:20260421T061621
CREATED:20250428T140326Z
LAST-MODIFIED:20250618T145305Z
UID:10000974-1746028800-1746034200@getawaygirls.co.uk
SUMMARY:Young women’s space 13-16yrs
DESCRIPTION:Young womens group\, for ages 13-16 yrs
URL:https://getawaygirls.co.uk/group/young-womens-space-13-16yrs-3/2025-04-30/
LOCATION:Shine\, Harehills road\,\, Leeds\, West Yorkshire\, LS8 5HS\, United Kingdom
ATTACH;FMTTYPE=image/jpeg:https://getawaygirls.co.uk/wp-content/uploads/2024/01/Young-womens-space.jpg
END:VEVENT
BEGIN:VEVENT
DTSTART;TZID=UTC:20250501T160000
DTEND;TZID=UTC:20250501T173000
DTSTAMP:20260421T061621
CREATED:20250428T140835Z
LAST-MODIFIED:20250618T145431Z
UID:10000858-1746115200-1746120600@getawaygirls.co.uk
SUMMARY:Vocal Girls
DESCRIPTION:Campaigning Group for girls 15-18yrs
URL:https://getawaygirls.co.uk/group/vocal-girls-5/2025-05-01/
LOCATION:Getaway Girls\, 19 Brooklands Avenue\, Leeds\, West Yorkshire\, LS14 6SG\, United Kingdom
ATTACH;FMTTYPE=image/jpeg:https://getawaygirls.co.uk/wp-content/uploads/2024/10/Vocal-Girls-event-2.jpg
END:VEVENT
BEGIN:VEVENT
DTSTART;TZID=UTC:20250502T123000
DTEND;TZID=UTC:20250502T143000
DTSTAMP:20260421T061621
CREATED:20250428T141038Z
LAST-MODIFIED:20250618T145527Z
UID:10000988-1746189000-1746196200@getawaygirls.co.uk
SUMMARY:Cooking together
DESCRIPTION:Cooking together for young women aged 16-25 yrs\, creché available
URL:https://getawaygirls.co.uk/group/cooking-together-10/2025-05-02/
LOCATION:Getaway Girls\, 19 Brooklands Avenue\, Leeds\, West Yorkshire\, LS14 6SG\, United Kingdom
ATTACH;FMTTYPE=image/jpeg:https://getawaygirls.co.uk/wp-content/uploads/2024/01/Cooking-together.jpg
END:VEVENT
BEGIN:VEVENT
DTSTART;TZID=UTC:20250502T160000
DTEND;TZID=UTC:20250502T173000
DTSTAMP:20260421T061621
CREATED:20250403T101326Z
LAST-MODIFIED:20250618T145621Z
UID:10000998-1746201600-1746207000@getawaygirls.co.uk
SUMMARY:Girls Squad 11-13yrs
DESCRIPTION:Girls Space for young women aged 11-13yrs
URL:https://getawaygirls.co.uk/group/girls-space-11-13yrs-2/2025-05-02/
LOCATION:Getaway Girls\, 19 Brooklands Avenue\, Leeds\, West Yorkshire\, LS14 6SG\, United Kingdom
ATTACH;FMTTYPE=image/jpeg:https://getawaygirls.co.uk/wp-content/uploads/2024/01/Girls-space.jpg
END:VEVENT
BEGIN:VEVENT
DTSTART;TZID=UTC:20250505T121500
DTEND;TZID=UTC:20250505T143000
DTSTAMP:20260421T061621
CREATED:20250428T135937Z
LAST-MODIFIED:20250729T060550Z
UID:10000833-1746447300-1746455400@getawaygirls.co.uk
SUMMARY:Proud to be Mum group
DESCRIPTION:Proud to be Mums group\, upto 25yrs\, with creché
URL:https://getawaygirls.co.uk/group/proud-to-be-mum-group-7/2025-05-05/
LOCATION:Getaway Girls\, 19 Brooklands Avenue\, Leeds\, West Yorkshire\, LS14 6SG\, United Kingdom
ATTACH;FMTTYPE=image/jpeg:https://getawaygirls.co.uk/wp-content/uploads/2024/01/Proud-to-be-Mum.jpg
END:VEVENT
BEGIN:VEVENT
DTSTART;TZID=UTC:20250505T153000
DTEND;TZID=UTC:20250505T173000
DTSTAMP:20260421T061621
CREATED:20250403T100005Z
LAST-MODIFIED:20250618T144505Z
UID:10000838-1746459000-1746466200@getawaygirls.co.uk
SUMMARY:Girls Squad 8-10yrs
DESCRIPTION:Girls Space for girls aged 8-10yrs
URL:https://getawaygirls.co.uk/group/girls-squad-8-11yrs/2025-05-05/
LOCATION:Getaway Girls\, 19 Brooklands Avenue\, Leeds\, West Yorkshire\, LS14 6SG\, United Kingdom
ATTACH;FMTTYPE=image/jpeg:https://getawaygirls.co.uk/wp-content/uploads/2024/01/Girls-space.jpg
END:VEVENT
BEGIN:VEVENT
DTSTART;TZID=UTC:20250506T123000
DTEND;TZID=UTC:20250506T140000
DTSTAMP:20260421T061621
CREATED:20250618T144956Z
LAST-MODIFIED:20250618T145117Z
UID:10000965-1746534600-1746540000@getawaygirls.co.uk
SUMMARY:Yoga
DESCRIPTION:Yoga group\, refreshments and creché.
URL:https://getawaygirls.co.uk/group/yoga-4/2025-05-06/
LOCATION:Getaway Girls\, 19 Brooklands Avenue\, Leeds\, West Yorkshire\, LS14 6SG\, United Kingdom
ATTACH;FMTTYPE=image/jpeg:https://getawaygirls.co.uk/wp-content/uploads/2024/01/Yoga.jpg
END:VEVENT
BEGIN:VEVENT
DTSTART;TZID=UTC:20250506T153000
DTEND;TZID=UTC:20250506T173000
DTSTAMP:20260421T061621
CREATED:20250428T140203Z
LAST-MODIFIED:20250428T140245Z
UID:10000843-1746545400-1746552600@getawaygirls.co.uk
SUMMARY:Girls space 13-16yrs
DESCRIPTION:Girls Space for young women aged 13-16yrs
URL:https://getawaygirls.co.uk/group/girls-space-13-16yrs-4/2025-05-06/
LOCATION:Getaway Girls\, 19 Brooklands Avenue\, Leeds\, West Yorkshire\, LS14 6SG\, United Kingdom
ATTACH;FMTTYPE=image/jpeg:https://getawaygirls.co.uk/wp-content/uploads/2024/01/Girls-space.jpg
END:VEVENT
BEGIN:VEVENT
DTSTART;TZID=UTC:20250507T160000
DTEND;TZID=UTC:20250507T173000
DTSTAMP:20260421T061621
CREATED:20250428T140326Z
LAST-MODIFIED:20250618T145305Z
UID:10000975-1746633600-1746639000@getawaygirls.co.uk
SUMMARY:Young women’s space 13-16yrs
DESCRIPTION:Young womens group\, for ages 13-16 yrs
URL:https://getawaygirls.co.uk/group/young-womens-space-13-16yrs-3/2025-05-07/
LOCATION:Shine\, Harehills road\,\, Leeds\, West Yorkshire\, LS8 5HS\, United Kingdom
ATTACH;FMTTYPE=image/jpeg:https://getawaygirls.co.uk/wp-content/uploads/2024/01/Young-womens-space.jpg
END:VEVENT
BEGIN:VEVENT
DTSTART;TZID=UTC:20250508T160000
DTEND;TZID=UTC:20250508T173000
DTSTAMP:20260421T061621
CREATED:20250428T140835Z
LAST-MODIFIED:20250618T145431Z
UID:10000859-1746720000-1746725400@getawaygirls.co.uk
SUMMARY:Vocal Girls
DESCRIPTION:Campaigning Group for girls 15-18yrs
URL:https://getawaygirls.co.uk/group/vocal-girls-5/2025-05-08/
LOCATION:Getaway Girls\, 19 Brooklands Avenue\, Leeds\, West Yorkshire\, LS14 6SG\, United Kingdom
ATTACH;FMTTYPE=image/jpeg:https://getawaygirls.co.uk/wp-content/uploads/2024/10/Vocal-Girls-event-2.jpg
END:VEVENT
BEGIN:VEVENT
DTSTART;TZID=UTC:20250509T123000
DTEND;TZID=UTC:20250509T143000
DTSTAMP:20260421T061621
CREATED:20250428T141038Z
LAST-MODIFIED:20250618T145527Z
UID:10000989-1746793800-1746801000@getawaygirls.co.uk
SUMMARY:Cooking together
DESCRIPTION:Cooking together for young women aged 16-25 yrs\, creché available
URL:https://getawaygirls.co.uk/group/cooking-together-10/2025-05-09/
LOCATION:Getaway Girls\, 19 Brooklands Avenue\, Leeds\, West Yorkshire\, LS14 6SG\, United Kingdom
ATTACH;FMTTYPE=image/jpeg:https://getawaygirls.co.uk/wp-content/uploads/2024/01/Cooking-together.jpg
END:VEVENT
BEGIN:VEVENT
DTSTART;TZID=UTC:20250509T160000
DTEND;TZID=UTC:20250509T173000
DTSTAMP:20260421T061621
CREATED:20250403T101326Z
LAST-MODIFIED:20250618T145621Z
UID:10000999-1746806400-1746811800@getawaygirls.co.uk
SUMMARY:Girls Squad 11-13yrs
DESCRIPTION:Girls Space for young women aged 11-13yrs
URL:https://getawaygirls.co.uk/group/girls-space-11-13yrs-2/2025-05-09/
LOCATION:Getaway Girls\, 19 Brooklands Avenue\, Leeds\, West Yorkshire\, LS14 6SG\, United Kingdom
ATTACH;FMTTYPE=image/jpeg:https://getawaygirls.co.uk/wp-content/uploads/2024/01/Girls-space.jpg
END:VEVENT
BEGIN:VEVENT
DTSTART;TZID=UTC:20250512T121500
DTEND;TZID=UTC:20250512T143000
DTSTAMP:20260421T061621
CREATED:20250428T135937Z
LAST-MODIFIED:20250729T060550Z
UID:10000834-1747052100-1747060200@getawaygirls.co.uk
SUMMARY:Proud to be Mum group
DESCRIPTION:Proud to be Mums group\, upto 25yrs\, with creché
URL:https://getawaygirls.co.uk/group/proud-to-be-mum-group-7/2025-05-12/
LOCATION:Getaway Girls\, 19 Brooklands Avenue\, Leeds\, West Yorkshire\, LS14 6SG\, United Kingdom
ATTACH;FMTTYPE=image/jpeg:https://getawaygirls.co.uk/wp-content/uploads/2024/01/Proud-to-be-Mum.jpg
END:VEVENT
BEGIN:VEVENT
DTSTART;TZID=UTC:20250512T153000
DTEND;TZID=UTC:20250512T173000
DTSTAMP:20260421T061621
CREATED:20250403T100005Z
LAST-MODIFIED:20250618T144505Z
UID:10000839-1747063800-1747071000@getawaygirls.co.uk
SUMMARY:Girls Squad 8-10yrs
DESCRIPTION:Girls Space for girls aged 8-10yrs
URL:https://getawaygirls.co.uk/group/girls-squad-8-11yrs/2025-05-12/
LOCATION:Getaway Girls\, 19 Brooklands Avenue\, Leeds\, West Yorkshire\, LS14 6SG\, United Kingdom
ATTACH;FMTTYPE=image/jpeg:https://getawaygirls.co.uk/wp-content/uploads/2024/01/Girls-space.jpg
END:VEVENT
BEGIN:VEVENT
DTSTART;TZID=UTC:20250513T123000
DTEND;TZID=UTC:20250513T140000
DTSTAMP:20260421T061621
CREATED:20250618T144956Z
LAST-MODIFIED:20250618T145117Z
UID:10000966-1747139400-1747144800@getawaygirls.co.uk
SUMMARY:Yoga
DESCRIPTION:Yoga group\, refreshments and creché.
URL:https://getawaygirls.co.uk/group/yoga-4/2025-05-13/
LOCATION:Getaway Girls\, 19 Brooklands Avenue\, Leeds\, West Yorkshire\, LS14 6SG\, United Kingdom
ATTACH;FMTTYPE=image/jpeg:https://getawaygirls.co.uk/wp-content/uploads/2024/01/Yoga.jpg
END:VEVENT
BEGIN:VEVENT
DTSTART;TZID=UTC:20250513T153000
DTEND;TZID=UTC:20250513T173000
DTSTAMP:20260421T061621
CREATED:20250428T140203Z
LAST-MODIFIED:20250428T140245Z
UID:10000844-1747150200-1747157400@getawaygirls.co.uk
SUMMARY:Girls space 13-16yrs
DESCRIPTION:Girls Space for young women aged 13-16yrs
URL:https://getawaygirls.co.uk/group/girls-space-13-16yrs-4/2025-05-13/
LOCATION:Getaway Girls\, 19 Brooklands Avenue\, Leeds\, West Yorkshire\, LS14 6SG\, United Kingdom
ATTACH;FMTTYPE=image/jpeg:https://getawaygirls.co.uk/wp-content/uploads/2024/01/Girls-space.jpg
END:VEVENT
BEGIN:VEVENT
DTSTART;TZID=UTC:20250514T160000
DTEND;TZID=UTC:20250514T173000
DTSTAMP:20260421T061621
CREATED:20250428T140326Z
LAST-MODIFIED:20250618T145305Z
UID:10000976-1747238400-1747243800@getawaygirls.co.uk
SUMMARY:Young women’s space 13-16yrs
DESCRIPTION:Young womens group\, for ages 13-16 yrs
URL:https://getawaygirls.co.uk/group/young-womens-space-13-16yrs-3/2025-05-14/
LOCATION:Shine\, Harehills road\,\, Leeds\, West Yorkshire\, LS8 5HS\, United Kingdom
ATTACH;FMTTYPE=image/jpeg:https://getawaygirls.co.uk/wp-content/uploads/2024/01/Young-womens-space.jpg
END:VEVENT
BEGIN:VEVENT
DTSTART;TZID=UTC:20250515T160000
DTEND;TZID=UTC:20250515T173000
DTSTAMP:20260421T061621
CREATED:20250428T140835Z
LAST-MODIFIED:20250618T145431Z
UID:10000860-1747324800-1747330200@getawaygirls.co.uk
SUMMARY:Vocal Girls
DESCRIPTION:Campaigning Group for girls 15-18yrs
URL:https://getawaygirls.co.uk/group/vocal-girls-5/2025-05-15/
LOCATION:Getaway Girls\, 19 Brooklands Avenue\, Leeds\, West Yorkshire\, LS14 6SG\, United Kingdom
ATTACH;FMTTYPE=image/jpeg:https://getawaygirls.co.uk/wp-content/uploads/2024/10/Vocal-Girls-event-2.jpg
END:VEVENT
BEGIN:VEVENT
DTSTART;TZID=UTC:20250516T123000
DTEND;TZID=UTC:20250516T143000
DTSTAMP:20260421T061621
CREATED:20250428T141038Z
LAST-MODIFIED:20250618T145527Z
UID:10000990-1747398600-1747405800@getawaygirls.co.uk
SUMMARY:Cooking together
DESCRIPTION:Cooking together for young women aged 16-25 yrs\, creché available
URL:https://getawaygirls.co.uk/group/cooking-together-10/2025-05-16/
LOCATION:Getaway Girls\, 19 Brooklands Avenue\, Leeds\, West Yorkshire\, LS14 6SG\, United Kingdom
ATTACH;FMTTYPE=image/jpeg:https://getawaygirls.co.uk/wp-content/uploads/2024/01/Cooking-together.jpg
END:VEVENT
BEGIN:VEVENT
DTSTART;TZID=UTC:20250516T160000
DTEND;TZID=UTC:20250516T173000
DTSTAMP:20260421T061621
CREATED:20250403T101326Z
LAST-MODIFIED:20250618T145621Z
UID:10001000-1747411200-1747416600@getawaygirls.co.uk
SUMMARY:Girls Squad 11-13yrs
DESCRIPTION:Girls Space for young women aged 11-13yrs
URL:https://getawaygirls.co.uk/group/girls-space-11-13yrs-2/2025-05-16/
LOCATION:Getaway Girls\, 19 Brooklands Avenue\, Leeds\, West Yorkshire\, LS14 6SG\, United Kingdom
ATTACH;FMTTYPE=image/jpeg:https://getawaygirls.co.uk/wp-content/uploads/2024/01/Girls-space.jpg
END:VEVENT
BEGIN:VEVENT
DTSTART;TZID=UTC:20250519T121500
DTEND;TZID=UTC:20250519T143000
DTSTAMP:20260421T061621
CREATED:20250428T135937Z
LAST-MODIFIED:20250729T060550Z
UID:10000835-1747656900-1747665000@getawaygirls.co.uk
SUMMARY:Proud to be Mum group
DESCRIPTION:Proud to be Mums group\, upto 25yrs\, with creché
URL:https://getawaygirls.co.uk/group/proud-to-be-mum-group-7/2025-05-19/
LOCATION:Getaway Girls\, 19 Brooklands Avenue\, Leeds\, West Yorkshire\, LS14 6SG\, United Kingdom
ATTACH;FMTTYPE=image/jpeg:https://getawaygirls.co.uk/wp-content/uploads/2024/01/Proud-to-be-Mum.jpg
END:VEVENT
BEGIN:VEVENT
DTSTART;TZID=UTC:20250519T153000
DTEND;TZID=UTC:20250519T173000
DTSTAMP:20260421T061621
CREATED:20250403T100005Z
LAST-MODIFIED:20250618T144505Z
UID:10000840-1747668600-1747675800@getawaygirls.co.uk
SUMMARY:Girls Squad 8-10yrs
DESCRIPTION:Girls Space for girls aged 8-10yrs
URL:https://getawaygirls.co.uk/group/girls-squad-8-11yrs/2025-05-19/
LOCATION:Getaway Girls\, 19 Brooklands Avenue\, Leeds\, West Yorkshire\, LS14 6SG\, United Kingdom
ATTACH;FMTTYPE=image/jpeg:https://getawaygirls.co.uk/wp-content/uploads/2024/01/Girls-space.jpg
END:VEVENT
BEGIN:VEVENT
DTSTART;TZID=UTC:20250520T123000
DTEND;TZID=UTC:20250520T140000
DTSTAMP:20260421T061621
CREATED:20250618T144956Z
LAST-MODIFIED:20250618T145117Z
UID:10000967-1747744200-1747749600@getawaygirls.co.uk
SUMMARY:Yoga
DESCRIPTION:Yoga group\, refreshments and creché.
URL:https://getawaygirls.co.uk/group/yoga-4/2025-05-20/
LOCATION:Getaway Girls\, 19 Brooklands Avenue\, Leeds\, West Yorkshire\, LS14 6SG\, United Kingdom
ATTACH;FMTTYPE=image/jpeg:https://getawaygirls.co.uk/wp-content/uploads/2024/01/Yoga.jpg
END:VEVENT
BEGIN:VEVENT
DTSTART;TZID=UTC:20250520T153000
DTEND;TZID=UTC:20250520T173000
DTSTAMP:20260421T061621
CREATED:20250428T140203Z
LAST-MODIFIED:20250428T140245Z
UID:10000845-1747755000-1747762200@getawaygirls.co.uk
SUMMARY:Girls space 13-16yrs
DESCRIPTION:Girls Space for young women aged 13-16yrs
URL:https://getawaygirls.co.uk/group/girls-space-13-16yrs-4/2025-05-20/
LOCATION:Getaway Girls\, 19 Brooklands Avenue\, Leeds\, West Yorkshire\, LS14 6SG\, United Kingdom
ATTACH;FMTTYPE=image/jpeg:https://getawaygirls.co.uk/wp-content/uploads/2024/01/Girls-space.jpg
END:VEVENT
BEGIN:VEVENT
DTSTART;TZID=UTC:20250521T160000
DTEND;TZID=UTC:20250521T173000
DTSTAMP:20260421T061621
CREATED:20250428T140326Z
LAST-MODIFIED:20250618T145305Z
UID:10000977-1747843200-1747848600@getawaygirls.co.uk
SUMMARY:Young women’s space 13-16yrs
DESCRIPTION:Young womens group\, for ages 13-16 yrs
URL:https://getawaygirls.co.uk/group/young-womens-space-13-16yrs-3/2025-05-21/
LOCATION:Shine\, Harehills road\,\, Leeds\, West Yorkshire\, LS8 5HS\, United Kingdom
ATTACH;FMTTYPE=image/jpeg:https://getawaygirls.co.uk/wp-content/uploads/2024/01/Young-womens-space.jpg
END:VEVENT
BEGIN:VEVENT
DTSTART;TZID=UTC:20250522T160000
DTEND;TZID=UTC:20250522T173000
DTSTAMP:20260421T061621
CREATED:20250428T140835Z
LAST-MODIFIED:20250618T145431Z
UID:10000861-1747929600-1747935000@getawaygirls.co.uk
SUMMARY:Vocal Girls
DESCRIPTION:Campaigning Group for girls 15-18yrs
URL:https://getawaygirls.co.uk/group/vocal-girls-5/2025-05-22/
LOCATION:Getaway Girls\, 19 Brooklands Avenue\, Leeds\, West Yorkshire\, LS14 6SG\, United Kingdom
ATTACH;FMTTYPE=image/jpeg:https://getawaygirls.co.uk/wp-content/uploads/2024/10/Vocal-Girls-event-2.jpg
END:VEVENT
END:VCALENDAR