BEGIN:VCALENDAR
VERSION:2.0
PRODID:-//Getaway Girls - ECPv6.15.20//NONSGML v1.0//EN
CALSCALE:GREGORIAN
METHOD:PUBLISH
X-WR-CALNAME:Getaway Girls
X-ORIGINAL-URL:https://getawaygirls.co.uk
X-WR-CALDESC:Events for Getaway Girls
REFRESH-INTERVAL;VALUE=DURATION:PT1H
X-Robots-Tag:noindex
X-PUBLISHED-TTL:PT1H
BEGIN:VTIMEZONE
TZID:UTC
BEGIN:STANDARD
TZOFFSETFROM:+0000
TZOFFSETTO:+0000
TZNAME:UTC
DTSTART:20240101T000000
END:STANDARD
END:VTIMEZONE
BEGIN:VEVENT
DTSTART;TZID=UTC:20250401T123000
DTEND;TZID=UTC:20250401T140000
DTSTAMP:20260421T051641
CREATED:20250618T144956Z
LAST-MODIFIED:20250618T145117Z
UID:10000960-1743510600-1743516000@getawaygirls.co.uk
SUMMARY:Yoga
DESCRIPTION:Yoga group\, refreshments and creché.
URL:https://getawaygirls.co.uk/group/yoga-4/2025-04-01/
LOCATION:Getaway Girls\, 19 Brooklands Avenue\, Leeds\, West Yorkshire\, LS14 6SG\, United Kingdom
ATTACH;FMTTYPE=image/jpeg:https://getawaygirls.co.uk/wp-content/uploads/2024/01/Yoga.jpg
END:VEVENT
BEGIN:VEVENT
DTSTART;TZID=UTC:20250401T153000
DTEND;TZID=UTC:20250401T173000
DTSTAMP:20260421T051641
CREATED:20250403T100435Z
LAST-MODIFIED:20250403T100527Z
UID:10000772-1743521400-1743528600@getawaygirls.co.uk
SUMMARY:Girls space 13-16yrs
DESCRIPTION:Girls Space for young women aged 13-16yrs
URL:https://getawaygirls.co.uk/group/girls-space-13-16yrs-3/2025-04-01/
LOCATION:Getaway Girls\, 19 Brooklands Avenue\, Leeds\, West Yorkshire\, LS14 6SG\, United Kingdom
ATTACH;FMTTYPE=image/jpeg:https://getawaygirls.co.uk/wp-content/uploads/2024/01/Girls-space.jpg
END:VEVENT
BEGIN:VEVENT
DTSTART;TZID=UTC:20250402T161500
DTEND;TZID=UTC:20250402T174500
DTSTAMP:20260421T051641
CREATED:20250403T100741Z
LAST-MODIFIED:20250403T100742Z
UID:10000821-1743610500-1743615900@getawaygirls.co.uk
SUMMARY:Young women’s space 13-16yrs
DESCRIPTION:Young womens group\, for ages 13-16 yrs
URL:https://getawaygirls.co.uk/group/young-womens-space-13-16yrs-2/2025-04-02/
LOCATION:Shine\, Harehills road\,\, Leeds\, West Yorkshire\, LS8 5HS\, United Kingdom
ATTACH;FMTTYPE=image/jpeg:https://getawaygirls.co.uk/wp-content/uploads/2024/01/Young-womens-space.jpg
END:VEVENT
BEGIN:VEVENT
DTSTART;TZID=UTC:20250403T160000
DTEND;TZID=UTC:20250403T173000
DTSTAMP:20260421T051641
CREATED:20250403T100834Z
LAST-MODIFIED:20250428T140746Z
UID:10000823-1743696000-1743701400@getawaygirls.co.uk
SUMMARY:Vocal Girls
DESCRIPTION:Campaigning Group for girls 15-18yrs
URL:https://getawaygirls.co.uk/group/vocal-girls-4/2025-04-03/
LOCATION:Getaway Girls\, 19 Brooklands Avenue\, Leeds\, West Yorkshire\, LS14 6SG\, United Kingdom
ATTACH;FMTTYPE=image/jpeg:https://getawaygirls.co.uk/wp-content/uploads/2024/10/Vocal-Girls-event-2.jpg
END:VEVENT
BEGIN:VEVENT
DTSTART;TZID=UTC:20250404T130000
DTEND;TZID=UTC:20250404T143000
DTSTAMP:20260421T051641
CREATED:20250403T100950Z
LAST-MODIFIED:20250403T100950Z
UID:10000825-1743771600-1743777000@getawaygirls.co.uk
SUMMARY:Cooking together
DESCRIPTION:Cooking together for young women aged 16-25 yrs\, creché available
URL:https://getawaygirls.co.uk/group/cooking-together-9/2025-04-04/
LOCATION:Getaway Girls\, 19 Brooklands Avenue\, Leeds\, West Yorkshire\, LS14 6SG\, United Kingdom
ATTACH;FMTTYPE=image/jpeg:https://getawaygirls.co.uk/wp-content/uploads/2024/01/Cooking-together.jpg
END:VEVENT
BEGIN:VEVENT
DTSTART;TZID=UTC:20250404T160000
DTEND;TZID=UTC:20250404T173000
DTSTAMP:20260421T051641
CREATED:20250403T101326Z
LAST-MODIFIED:20250618T145621Z
UID:10000828-1743782400-1743787800@getawaygirls.co.uk
SUMMARY:Girls Squad 11-13yrs
DESCRIPTION:Girls Space for young women aged 11-13yrs
URL:https://getawaygirls.co.uk/group/girls-space-11-13yrs-2/2025-04-04/
LOCATION:Getaway Girls\, 19 Brooklands Avenue\, Leeds\, West Yorkshire\, LS14 6SG\, United Kingdom
ATTACH;FMTTYPE=image/jpeg:https://getawaygirls.co.uk/wp-content/uploads/2024/01/Girls-space.jpg
END:VEVENT
BEGIN:VEVENT
DTSTART;TZID=UTC:20250407T121500
DTEND;TZID=UTC:20250407T143000
DTSTAMP:20260421T051641
CREATED:20250403T095807Z
LAST-MODIFIED:20250428T135843Z
UID:10000804-1744028100-1744036200@getawaygirls.co.uk
SUMMARY:Proud to be Mum group
DESCRIPTION:Proud to be Mums group\, upto 25yrs\, with creché
URL:https://getawaygirls.co.uk/group/proud-to-be-mum-group-6/2025-04-07/
LOCATION:Getaway Girls\, 19 Brooklands Avenue\, Leeds\, West Yorkshire\, LS14 6SG\, United Kingdom
ATTACH;FMTTYPE=image/jpeg:https://getawaygirls.co.uk/wp-content/uploads/2024/01/Proud-to-be-Mum.jpg
END:VEVENT
BEGIN:VEVENT
DTSTART;TZID=UTC:20250408T123000
DTEND;TZID=UTC:20250408T140000
DTSTAMP:20260421T051641
CREATED:20250618T144956Z
LAST-MODIFIED:20250618T145117Z
UID:10000961-1744115400-1744120800@getawaygirls.co.uk
SUMMARY:Yoga
DESCRIPTION:Yoga group\, refreshments and creché.
URL:https://getawaygirls.co.uk/group/yoga-4/2025-04-08/
LOCATION:Getaway Girls\, 19 Brooklands Avenue\, Leeds\, West Yorkshire\, LS14 6SG\, United Kingdom
ATTACH;FMTTYPE=image/jpeg:https://getawaygirls.co.uk/wp-content/uploads/2024/01/Yoga.jpg
END:VEVENT
BEGIN:VEVENT
DTSTART;TZID=UTC:20250410T160000
DTEND;TZID=UTC:20250410T173000
DTSTAMP:20260421T051641
CREATED:20250403T100834Z
LAST-MODIFIED:20250428T140746Z
UID:10000856-1744300800-1744306200@getawaygirls.co.uk
SUMMARY:Vocal Girls
DESCRIPTION:Campaigning Group for girls 15-18yrs
URL:https://getawaygirls.co.uk/group/vocal-girls-4/2025-04-10/
LOCATION:Getaway Girls\, 19 Brooklands Avenue\, Leeds\, West Yorkshire\, LS14 6SG\, United Kingdom
ATTACH;FMTTYPE=image/jpeg:https://getawaygirls.co.uk/wp-content/uploads/2024/10/Vocal-Girls-event-2.jpg
END:VEVENT
BEGIN:VEVENT
DTSTART;TZID=UTC:20250414T121500
DTEND;TZID=UTC:20250414T143000
DTSTAMP:20260421T051641
CREATED:20250403T095807Z
LAST-MODIFIED:20250428T135843Z
UID:10000831-1744632900-1744641000@getawaygirls.co.uk
SUMMARY:Proud to be Mum group
DESCRIPTION:Proud to be Mums group\, upto 25yrs\, with creché
URL:https://getawaygirls.co.uk/group/proud-to-be-mum-group-6/2025-04-14/
LOCATION:Getaway Girls\, 19 Brooklands Avenue\, Leeds\, West Yorkshire\, LS14 6SG\, United Kingdom
ATTACH;FMTTYPE=image/jpeg:https://getawaygirls.co.uk/wp-content/uploads/2024/01/Proud-to-be-Mum.jpg
END:VEVENT
BEGIN:VEVENT
DTSTART;TZID=UTC:20250415T123000
DTEND;TZID=UTC:20250415T140000
DTSTAMP:20260421T051641
CREATED:20250618T144956Z
LAST-MODIFIED:20250618T145117Z
UID:10000962-1744720200-1744725600@getawaygirls.co.uk
SUMMARY:Yoga
DESCRIPTION:Yoga group\, refreshments and creché.
URL:https://getawaygirls.co.uk/group/yoga-4/2025-04-15/
LOCATION:Getaway Girls\, 19 Brooklands Avenue\, Leeds\, West Yorkshire\, LS14 6SG\, United Kingdom
ATTACH;FMTTYPE=image/jpeg:https://getawaygirls.co.uk/wp-content/uploads/2024/01/Yoga.jpg
END:VEVENT
BEGIN:VEVENT
DTSTART;TZID=UTC:20250417T160000
DTEND;TZID=UTC:20250417T173000
DTSTAMP:20260421T051641
CREATED:20250403T100834Z
LAST-MODIFIED:20250428T140746Z
UID:10000857-1744905600-1744911000@getawaygirls.co.uk
SUMMARY:Vocal Girls
DESCRIPTION:Campaigning Group for girls 15-18yrs
URL:https://getawaygirls.co.uk/group/vocal-girls-4/2025-04-17/
LOCATION:Getaway Girls\, 19 Brooklands Avenue\, Leeds\, West Yorkshire\, LS14 6SG\, United Kingdom
ATTACH;FMTTYPE=image/jpeg:https://getawaygirls.co.uk/wp-content/uploads/2024/10/Vocal-Girls-event-2.jpg
END:VEVENT
BEGIN:VEVENT
DTSTART;TZID=UTC:20250418T130000
DTEND;TZID=UTC:20250418T143000
DTSTAMP:20260421T051641
CREATED:20250403T100950Z
LAST-MODIFIED:20250403T100950Z
UID:10000826-1744981200-1744986600@getawaygirls.co.uk
SUMMARY:Cooking together
DESCRIPTION:Cooking together for young women aged 16-25 yrs\, creché available
URL:https://getawaygirls.co.uk/group/cooking-together-9/2025-04-18/
LOCATION:Getaway Girls\, 19 Brooklands Avenue\, Leeds\, West Yorkshire\, LS14 6SG\, United Kingdom
ATTACH;FMTTYPE=image/jpeg:https://getawaygirls.co.uk/wp-content/uploads/2024/01/Cooking-together.jpg
END:VEVENT
BEGIN:VEVENT
DTSTART;TZID=UTC:20250418T160000
DTEND;TZID=UTC:20250418T173000
DTSTAMP:20260421T051641
CREATED:20250403T101326Z
LAST-MODIFIED:20250618T145621Z
UID:10000829-1744992000-1744997400@getawaygirls.co.uk
SUMMARY:Girls Squad 11-13yrs
DESCRIPTION:Girls Space for young women aged 11-13yrs
URL:https://getawaygirls.co.uk/group/girls-space-11-13yrs-2/2025-04-18/
LOCATION:Getaway Girls\, 19 Brooklands Avenue\, Leeds\, West Yorkshire\, LS14 6SG\, United Kingdom
ATTACH;FMTTYPE=image/jpeg:https://getawaygirls.co.uk/wp-content/uploads/2024/01/Girls-space.jpg
END:VEVENT
BEGIN:VEVENT
DTSTART;TZID=UTC:20250421T121500
DTEND;TZID=UTC:20250421T143000
DTSTAMP:20260421T051641
CREATED:20250403T095807Z
LAST-MODIFIED:20250428T135843Z
UID:10000832-1745237700-1745245800@getawaygirls.co.uk
SUMMARY:Proud to be Mum group
DESCRIPTION:Proud to be Mums group\, upto 25yrs\, with creché
URL:https://getawaygirls.co.uk/group/proud-to-be-mum-group-6/2025-04-21/
LOCATION:Getaway Girls\, 19 Brooklands Avenue\, Leeds\, West Yorkshire\, LS14 6SG\, United Kingdom
ATTACH;FMTTYPE=image/jpeg:https://getawaygirls.co.uk/wp-content/uploads/2024/01/Proud-to-be-Mum.jpg
END:VEVENT
BEGIN:VEVENT
DTSTART;TZID=UTC:20250422T123000
DTEND;TZID=UTC:20250422T140000
DTSTAMP:20260421T051641
CREATED:20250618T144956Z
LAST-MODIFIED:20250618T145117Z
UID:10000963-1745325000-1745330400@getawaygirls.co.uk
SUMMARY:Yoga
DESCRIPTION:Yoga group\, refreshments and creché.
URL:https://getawaygirls.co.uk/group/yoga-4/2025-04-22/
LOCATION:Getaway Girls\, 19 Brooklands Avenue\, Leeds\, West Yorkshire\, LS14 6SG\, United Kingdom
ATTACH;FMTTYPE=image/jpeg:https://getawaygirls.co.uk/wp-content/uploads/2024/01/Yoga.jpg
END:VEVENT
BEGIN:VEVENT
DTSTART;TZID=UTC:20250422T153000
DTEND;TZID=UTC:20250422T173000
DTSTAMP:20260421T051641
CREATED:20250428T140203Z
LAST-MODIFIED:20250428T140245Z
UID:10000820-1745335800-1745343000@getawaygirls.co.uk
SUMMARY:Girls space 13-16yrs
DESCRIPTION:Girls Space for young women aged 13-16yrs
URL:https://getawaygirls.co.uk/group/girls-space-13-16yrs-4/2025-04-22/
LOCATION:Getaway Girls\, 19 Brooklands Avenue\, Leeds\, West Yorkshire\, LS14 6SG\, United Kingdom
ATTACH;FMTTYPE=image/jpeg:https://getawaygirls.co.uk/wp-content/uploads/2024/01/Girls-space.jpg
END:VEVENT
BEGIN:VEVENT
DTSTART;TZID=UTC:20250423T160000
DTEND;TZID=UTC:20250423T173000
DTSTAMP:20260421T051641
CREATED:20250428T140326Z
LAST-MODIFIED:20250618T145305Z
UID:10000973-1745424000-1745429400@getawaygirls.co.uk
SUMMARY:Young women’s space 13-16yrs
DESCRIPTION:Young womens group\, for ages 13-16 yrs
URL:https://getawaygirls.co.uk/group/young-womens-space-13-16yrs-3/2025-04-23/
LOCATION:Shine\, Harehills road\,\, Leeds\, West Yorkshire\, LS8 5HS\, United Kingdom
ATTACH;FMTTYPE=image/jpeg:https://getawaygirls.co.uk/wp-content/uploads/2024/01/Young-womens-space.jpg
END:VEVENT
BEGIN:VEVENT
DTSTART;TZID=UTC:20250424T160000
DTEND;TZID=UTC:20250424T173000
DTSTAMP:20260421T051641
CREATED:20250403T100834Z
LAST-MODIFIED:20250428T140746Z
UID:10000824-1745510400-1745515800@getawaygirls.co.uk
SUMMARY:Vocal Girls
DESCRIPTION:Campaigning Group for girls 15-18yrs
URL:https://getawaygirls.co.uk/group/vocal-girls-4/2025-04-24/
LOCATION:Getaway Girls\, 19 Brooklands Avenue\, Leeds\, West Yorkshire\, LS14 6SG\, United Kingdom
ATTACH;FMTTYPE=image/jpeg:https://getawaygirls.co.uk/wp-content/uploads/2024/10/Vocal-Girls-event-2.jpg
END:VEVENT
BEGIN:VEVENT
DTSTART;TZID=UTC:20250425T123000
DTEND;TZID=UTC:20250425T143000
DTSTAMP:20260421T051641
CREATED:20250428T141038Z
LAST-MODIFIED:20250618T145527Z
UID:10000987-1745584200-1745591400@getawaygirls.co.uk
SUMMARY:Cooking together
DESCRIPTION:Cooking together for young women aged 16-25 yrs\, creché available
URL:https://getawaygirls.co.uk/group/cooking-together-10/2025-04-25/
LOCATION:Getaway Girls\, 19 Brooklands Avenue\, Leeds\, West Yorkshire\, LS14 6SG\, United Kingdom
ATTACH;FMTTYPE=image/jpeg:https://getawaygirls.co.uk/wp-content/uploads/2024/01/Cooking-together.jpg
END:VEVENT
BEGIN:VEVENT
DTSTART;TZID=UTC:20250425T160000
DTEND;TZID=UTC:20250425T173000
DTSTAMP:20260421T051641
CREATED:20250403T101326Z
LAST-MODIFIED:20250618T145621Z
UID:10000997-1745596800-1745602200@getawaygirls.co.uk
SUMMARY:Girls Squad 11-13yrs
DESCRIPTION:Girls Space for young women aged 11-13yrs
URL:https://getawaygirls.co.uk/group/girls-space-11-13yrs-2/2025-04-25/
LOCATION:Getaway Girls\, 19 Brooklands Avenue\, Leeds\, West Yorkshire\, LS14 6SG\, United Kingdom
ATTACH;FMTTYPE=image/jpeg:https://getawaygirls.co.uk/wp-content/uploads/2024/01/Girls-space.jpg
END:VEVENT
BEGIN:VEVENT
DTSTART;TZID=UTC:20250425T160000
DTEND;TZID=UTC:20250425T173000
DTSTAMP:20260421T051641
CREATED:20250428T141143Z
LAST-MODIFIED:20250428T141143Z
UID:10000830-1745596800-1745602200@getawaygirls.co.uk
SUMMARY:Girls space 11-13yrs
DESCRIPTION:Girls Space for young women aged 11-13yrs
URL:https://getawaygirls.co.uk/group/girls-space-11-13yrs-3/
LOCATION:Getaway Girls\, 19 Brooklands Avenue\, Leeds\, West Yorkshire\, LS14 6SG\, United Kingdom
ATTACH;FMTTYPE=image/jpeg:https://getawaygirls.co.uk/wp-content/uploads/2024/01/Girls-space.jpg
END:VEVENT
BEGIN:VEVENT
DTSTART;TZID=UTC:20250428T121500
DTEND;TZID=UTC:20250428T143000
DTSTAMP:20260421T051641
CREATED:20250428T135937Z
LAST-MODIFIED:20250729T060550Z
UID:10000806-1745842500-1745850600@getawaygirls.co.uk
SUMMARY:Proud to be Mum group
DESCRIPTION:Proud to be Mums group\, upto 25yrs\, with creché
URL:https://getawaygirls.co.uk/group/proud-to-be-mum-group-7/2025-04-28/
LOCATION:Getaway Girls\, 19 Brooklands Avenue\, Leeds\, West Yorkshire\, LS14 6SG\, United Kingdom
ATTACH;FMTTYPE=image/jpeg:https://getawaygirls.co.uk/wp-content/uploads/2024/01/Proud-to-be-Mum.jpg
END:VEVENT
BEGIN:VEVENT
DTSTART;TZID=UTC:20250428T153000
DTEND;TZID=UTC:20250428T173000
DTSTAMP:20260421T051641
CREATED:20250403T100005Z
LAST-MODIFIED:20250618T144505Z
UID:10000761-1745854200-1745861400@getawaygirls.co.uk
SUMMARY:Girls Squad 8-10yrs
DESCRIPTION:Girls Space for girls aged 8-10yrs
URL:https://getawaygirls.co.uk/group/girls-squad-8-11yrs/2025-04-28/
LOCATION:Getaway Girls\, 19 Brooklands Avenue\, Leeds\, West Yorkshire\, LS14 6SG\, United Kingdom
ATTACH;FMTTYPE=image/jpeg:https://getawaygirls.co.uk/wp-content/uploads/2024/01/Girls-space.jpg
END:VEVENT
BEGIN:VEVENT
DTSTART;TZID=UTC:20250429T123000
DTEND;TZID=UTC:20250429T140000
DTSTAMP:20260421T051641
CREATED:20250618T144956Z
LAST-MODIFIED:20250618T145117Z
UID:10000964-1745929800-1745935200@getawaygirls.co.uk
SUMMARY:Yoga
DESCRIPTION:Yoga group\, refreshments and creché.
URL:https://getawaygirls.co.uk/group/yoga-4/2025-04-29/
LOCATION:Getaway Girls\, 19 Brooklands Avenue\, Leeds\, West Yorkshire\, LS14 6SG\, United Kingdom
ATTACH;FMTTYPE=image/jpeg:https://getawaygirls.co.uk/wp-content/uploads/2024/01/Yoga.jpg
END:VEVENT
BEGIN:VEVENT
DTSTART;TZID=UTC:20250429T153000
DTEND;TZID=UTC:20250429T173000
DTSTAMP:20260421T051641
CREATED:20250428T140203Z
LAST-MODIFIED:20250428T140245Z
UID:10000842-1745940600-1745947800@getawaygirls.co.uk
SUMMARY:Girls space 13-16yrs
DESCRIPTION:Girls Space for young women aged 13-16yrs
URL:https://getawaygirls.co.uk/group/girls-space-13-16yrs-4/2025-04-29/
LOCATION:Getaway Girls\, 19 Brooklands Avenue\, Leeds\, West Yorkshire\, LS14 6SG\, United Kingdom
ATTACH;FMTTYPE=image/jpeg:https://getawaygirls.co.uk/wp-content/uploads/2024/01/Girls-space.jpg
END:VEVENT
BEGIN:VEVENT
DTSTART;TZID=UTC:20250430T160000
DTEND;TZID=UTC:20250430T173000
DTSTAMP:20260421T051641
CREATED:20250428T140326Z
LAST-MODIFIED:20250618T145305Z
UID:10000974-1746028800-1746034200@getawaygirls.co.uk
SUMMARY:Young women’s space 13-16yrs
DESCRIPTION:Young womens group\, for ages 13-16 yrs
URL:https://getawaygirls.co.uk/group/young-womens-space-13-16yrs-3/2025-04-30/
LOCATION:Shine\, Harehills road\,\, Leeds\, West Yorkshire\, LS8 5HS\, United Kingdom
ATTACH;FMTTYPE=image/jpeg:https://getawaygirls.co.uk/wp-content/uploads/2024/01/Young-womens-space.jpg
END:VEVENT
BEGIN:VEVENT
DTSTART;TZID=UTC:20250501T160000
DTEND;TZID=UTC:20250501T173000
DTSTAMP:20260421T051641
CREATED:20250428T140835Z
LAST-MODIFIED:20250618T145431Z
UID:10000858-1746115200-1746120600@getawaygirls.co.uk
SUMMARY:Vocal Girls
DESCRIPTION:Campaigning Group for girls 15-18yrs
URL:https://getawaygirls.co.uk/group/vocal-girls-5/2025-05-01/
LOCATION:Getaway Girls\, 19 Brooklands Avenue\, Leeds\, West Yorkshire\, LS14 6SG\, United Kingdom
ATTACH;FMTTYPE=image/jpeg:https://getawaygirls.co.uk/wp-content/uploads/2024/10/Vocal-Girls-event-2.jpg
END:VEVENT
BEGIN:VEVENT
DTSTART;TZID=UTC:20250502T123000
DTEND;TZID=UTC:20250502T143000
DTSTAMP:20260421T051641
CREATED:20250428T141038Z
LAST-MODIFIED:20250618T145527Z
UID:10000988-1746189000-1746196200@getawaygirls.co.uk
SUMMARY:Cooking together
DESCRIPTION:Cooking together for young women aged 16-25 yrs\, creché available
URL:https://getawaygirls.co.uk/group/cooking-together-10/2025-05-02/
LOCATION:Getaway Girls\, 19 Brooklands Avenue\, Leeds\, West Yorkshire\, LS14 6SG\, United Kingdom
ATTACH;FMTTYPE=image/jpeg:https://getawaygirls.co.uk/wp-content/uploads/2024/01/Cooking-together.jpg
END:VEVENT
BEGIN:VEVENT
DTSTART;TZID=UTC:20250502T160000
DTEND;TZID=UTC:20250502T173000
DTSTAMP:20260421T051641
CREATED:20250403T101326Z
LAST-MODIFIED:20250618T145621Z
UID:10000998-1746201600-1746207000@getawaygirls.co.uk
SUMMARY:Girls Squad 11-13yrs
DESCRIPTION:Girls Space for young women aged 11-13yrs
URL:https://getawaygirls.co.uk/group/girls-space-11-13yrs-2/2025-05-02/
LOCATION:Getaway Girls\, 19 Brooklands Avenue\, Leeds\, West Yorkshire\, LS14 6SG\, United Kingdom
ATTACH;FMTTYPE=image/jpeg:https://getawaygirls.co.uk/wp-content/uploads/2024/01/Girls-space.jpg
END:VEVENT
END:VCALENDAR