BEGIN:VCALENDAR
VERSION:2.0
PRODID:-//Getaway Girls - ECPv6.15.20//NONSGML v1.0//EN
CALSCALE:GREGORIAN
METHOD:PUBLISH
X-WR-CALNAME:Getaway Girls
X-ORIGINAL-URL:https://getawaygirls.co.uk
X-WR-CALDESC:Events for Getaway Girls
REFRESH-INTERVAL;VALUE=DURATION:PT1H
X-Robots-Tag:noindex
X-PUBLISHED-TTL:PT1H
BEGIN:VTIMEZONE
TZID:UTC
BEGIN:STANDARD
TZOFFSETFROM:+0000
TZOFFSETTO:+0000
TZNAME:UTC
DTSTART:20230101T000000
END:STANDARD
END:VTIMEZONE
BEGIN:VEVENT
DTSTART;TZID=UTC:20240313T120000
DTEND;TZID=UTC:20240313T130000
DTSTAMP:20260421T232114
CREATED:20240125T182810Z
LAST-MODIFIED:20240125T182811Z
UID:10000108-1710331200-1710334800@getawaygirls.co.uk
SUMMARY:Drop in lunch
DESCRIPTION:Drop in / Lunch for young women aged 16-25 yrs
URL:https://getawaygirls.co.uk/group/drop-in-lunch/2024-03-13/
LOCATION:Getaway Girls\, 19 Brooklands Avenue\, Leeds\, West Yorkshire\, LS14 6SG\, United Kingdom
ATTACH;FMTTYPE=image/jpeg:https://getawaygirls.co.uk/wp-content/uploads/2024/01/Drop-in-lunch.jpg
END:VEVENT
BEGIN:VEVENT
DTSTART;TZID=UTC:20240313T130000
DTEND;TZID=UTC:20240313T143000
DTSTAMP:20260421T232114
CREATED:20240125T185558Z
LAST-MODIFIED:20240125T185558Z
UID:10000135-1710334800-1710340200@getawaygirls.co.uk
SUMMARY:She Writes
DESCRIPTION:Creative writing group for young women aged 16-25 yrs\, with creché
URL:https://getawaygirls.co.uk/group/she-writes/2024-03-13/
LOCATION:Getaway Girls\, 19 Brooklands Avenue\, Leeds\, West Yorkshire\, LS14 6SG\, United Kingdom
ATTACH;FMTTYPE=image/jpeg:https://getawaygirls.co.uk/wp-content/uploads/2024/01/She-writes.jpg
END:VEVENT
BEGIN:VEVENT
DTSTART;TZID=UTC:20240313T160000
DTEND;TZID=UTC:20240313T173000
DTSTAMP:20260421T232114
CREATED:20240125T190235Z
LAST-MODIFIED:20240125T190419Z
UID:10000143-1710345600-1710351000@getawaygirls.co.uk
SUMMARY:Young women’s space
DESCRIPTION:Young womens group\, for ages 13-17 yrs
URL:https://getawaygirls.co.uk/group/young-womens-space/2024-03-13/
LOCATION:Shine\, Harehills road\,\, Leeds\, West Yorkshire\, LS8 5HS\, United Kingdom
ATTACH;FMTTYPE=image/jpeg:https://getawaygirls.co.uk/wp-content/uploads/2024/01/Young-womens-space.jpg
END:VEVENT
BEGIN:VEVENT
DTSTART;TZID=UTC:20240314T160000
DTEND;TZID=UTC:20240314T173000
DTSTAMP:20260421T232114
CREATED:20240125T234033Z
LAST-MODIFIED:20240125T234034Z
UID:10000151-1710432000-1710437400@getawaygirls.co.uk
SUMMARY:Leadership programme
DESCRIPTION:Leadership programme for young women aged 15-18 yrs
URL:https://getawaygirls.co.uk/group/leadership-programme/2024-03-14/
LOCATION:Getaway Girls\, 19 Brooklands Avenue\, Leeds\, West Yorkshire\, LS14 6SG\, United Kingdom
ATTACH;FMTTYPE=image/jpeg:https://getawaygirls.co.uk/wp-content/uploads/2024/01/Leadership-programme.jpg
END:VEVENT
BEGIN:VEVENT
DTSTART;TZID=UTC:20240315T120000
DTEND;TZID=UTC:20240315T130000
DTSTAMP:20260421T232114
CREATED:20240125T234302Z
LAST-MODIFIED:20240329T131341Z
UID:10000170-1710504000-1710507600@getawaygirls.co.uk
SUMMARY:Drop in lunch
DESCRIPTION:Drop in / Lunch for young women aged 16-25 yrs
URL:https://getawaygirls.co.uk/group/drop-in-lunch-3/2024-03-15/
LOCATION:Getaway Girls\, 19 Brooklands Avenue\, Leeds\, West Yorkshire\, LS14 6SG\, United Kingdom
ATTACH;FMTTYPE=image/jpeg:https://getawaygirls.co.uk/wp-content/uploads/2024/01/Drop-in-lunch.jpg
END:VEVENT
BEGIN:VEVENT
DTSTART;TZID=UTC:20240315T130000
DTEND;TZID=UTC:20240315T143000
DTSTAMP:20260421T232114
CREATED:20240125T235138Z
LAST-MODIFIED:20240125T235138Z
UID:10000180-1710507600-1710513000@getawaygirls.co.uk
SUMMARY:Cooking together
DESCRIPTION:Cooking together for young women aged 16-25 yrs
URL:https://getawaygirls.co.uk/group/cooking-together/2024-03-15/
LOCATION:Getaway Girls\, 19 Brooklands Avenue\, Leeds\, West Yorkshire\, LS14 6SG\, United Kingdom
ATTACH;FMTTYPE=image/jpeg:https://getawaygirls.co.uk/wp-content/uploads/2024/01/Cooking-together.jpg
END:VEVENT
BEGIN:VEVENT
DTSTART;TZID=UTC:20240317T130000
DTEND;TZID=UTC:20240317T160000
DTSTAMP:20260421T232114
CREATED:20240126T000628Z
LAST-MODIFIED:20240329T131118Z
UID:10000190-1710680400-1710691200@getawaygirls.co.uk
SUMMARY:DJing training\, MCing\, Music
DESCRIPTION:DJing training\, MCing\, Music\, for young women
URL:https://getawaygirls.co.uk/group/djing-training-mcing-music/2024-03-17/
LOCATION:Getaway Girls\, 19 Brooklands Avenue\, Leeds\, West Yorkshire\, LS14 6SG\, United Kingdom
ATTACH;FMTTYPE=image/jpeg:https://getawaygirls.co.uk/wp-content/uploads/2024/01/DJing.jpg
END:VEVENT
BEGIN:VEVENT
DTSTART;TZID=UTC:20240318T120000
DTEND;TZID=UTC:20240318T130000
DTSTAMP:20260421T232114
CREATED:20240125T085236Z
LAST-MODIFIED:20240125T175349Z
UID:10000015-1710763200-1710766800@getawaygirls.co.uk
SUMMARY:Drop in lunch
DESCRIPTION:Drop in / Lunch for young women aged 16-25 yrs
URL:https://getawaygirls.co.uk/group/drop-in-lunch-2/2024-03-18/
LOCATION:Getaway Girls\, 19 Brooklands Avenue\, Leeds\, West Yorkshire\, LS14 6SG\, United Kingdom
ATTACH;FMTTYPE=image/jpeg:https://getawaygirls.co.uk/wp-content/uploads/2024/01/Drop-in-lunch.jpg
END:VEVENT
BEGIN:VEVENT
DTSTART;TZID=UTC:20240318T130000
DTEND;TZID=UTC:20240318T143000
DTSTAMP:20260421T232114
CREATED:20240124T205426Z
LAST-MODIFIED:20240125T182158Z
UID:10000076-1710766800-1710772200@getawaygirls.co.uk
SUMMARY:Proud to be Mum group
DESCRIPTION:Proud to be Mums group\, upto 25yrs\, with creché
URL:https://getawaygirls.co.uk/group/proud-to-be-mums-group/2024-03-18/
LOCATION:Getaway Girls\, 19 Brooklands Avenue\, Leeds\, West Yorkshire\, LS14 6SG\, United Kingdom
ATTACH;FMTTYPE=image/jpeg:https://getawaygirls.co.uk/wp-content/uploads/2024/01/Proud-to-be-Mum.jpg
END:VEVENT
BEGIN:VEVENT
DTSTART;TZID=UTC:20240319T130000
DTEND;TZID=UTC:20240319T143000
DTSTAMP:20260421T232114
CREATED:20240125T123006Z
LAST-MODIFIED:20240125T182258Z
UID:10000084-1710853200-1710858600@getawaygirls.co.uk
SUMMARY:Yoga
DESCRIPTION:Yoga group\, refreshments and creché.
URL:https://getawaygirls.co.uk/group/yoga/2024-03-19/
LOCATION:Getaway Girls\, 19 Brooklands Avenue\, Leeds\, West Yorkshire\, LS14 6SG\, United Kingdom
ATTACH;FMTTYPE=image/jpeg:https://getawaygirls.co.uk/wp-content/uploads/2024/01/Yoga.jpg
END:VEVENT
BEGIN:VEVENT
DTSTART;TZID=UTC:20240320T120000
DTEND;TZID=UTC:20240320T130000
DTSTAMP:20260421T232114
CREATED:20240125T182810Z
LAST-MODIFIED:20240125T182811Z
UID:10000109-1710936000-1710939600@getawaygirls.co.uk
SUMMARY:Drop in lunch
DESCRIPTION:Drop in / Lunch for young women aged 16-25 yrs
URL:https://getawaygirls.co.uk/group/drop-in-lunch/2024-03-20/
LOCATION:Getaway Girls\, 19 Brooklands Avenue\, Leeds\, West Yorkshire\, LS14 6SG\, United Kingdom
ATTACH;FMTTYPE=image/jpeg:https://getawaygirls.co.uk/wp-content/uploads/2024/01/Drop-in-lunch.jpg
END:VEVENT
BEGIN:VEVENT
DTSTART;TZID=UTC:20240320T130000
DTEND;TZID=UTC:20240320T143000
DTSTAMP:20260421T232114
CREATED:20240125T185558Z
LAST-MODIFIED:20240125T185558Z
UID:10000136-1710939600-1710945000@getawaygirls.co.uk
SUMMARY:She Writes
DESCRIPTION:Creative writing group for young women aged 16-25 yrs\, with creché
URL:https://getawaygirls.co.uk/group/she-writes/2024-03-20/
LOCATION:Getaway Girls\, 19 Brooklands Avenue\, Leeds\, West Yorkshire\, LS14 6SG\, United Kingdom
ATTACH;FMTTYPE=image/jpeg:https://getawaygirls.co.uk/wp-content/uploads/2024/01/She-writes.jpg
END:VEVENT
BEGIN:VEVENT
DTSTART;TZID=UTC:20240321T160000
DTEND;TZID=UTC:20240321T173000
DTSTAMP:20260421T232114
CREATED:20240125T234033Z
LAST-MODIFIED:20240125T234034Z
UID:10000152-1711036800-1711042200@getawaygirls.co.uk
SUMMARY:Leadership programme
DESCRIPTION:Leadership programme for young women aged 15-18 yrs
URL:https://getawaygirls.co.uk/group/leadership-programme/2024-03-21/
LOCATION:Getaway Girls\, 19 Brooklands Avenue\, Leeds\, West Yorkshire\, LS14 6SG\, United Kingdom
ATTACH;FMTTYPE=image/jpeg:https://getawaygirls.co.uk/wp-content/uploads/2024/01/Leadership-programme.jpg
END:VEVENT
BEGIN:VEVENT
DTSTART;TZID=UTC:20240322T120000
DTEND;TZID=UTC:20240322T130000
DTSTAMP:20260421T232114
CREATED:20240125T234302Z
LAST-MODIFIED:20240329T131341Z
UID:10000171-1711108800-1711112400@getawaygirls.co.uk
SUMMARY:Drop in lunch
DESCRIPTION:Drop in / Lunch for young women aged 16-25 yrs
URL:https://getawaygirls.co.uk/group/drop-in-lunch-3/2024-03-22/
LOCATION:Getaway Girls\, 19 Brooklands Avenue\, Leeds\, West Yorkshire\, LS14 6SG\, United Kingdom
ATTACH;FMTTYPE=image/jpeg:https://getawaygirls.co.uk/wp-content/uploads/2024/01/Drop-in-lunch.jpg
END:VEVENT
BEGIN:VEVENT
DTSTART;TZID=UTC:20240322T130000
DTEND;TZID=UTC:20240322T143000
DTSTAMP:20260421T232114
CREATED:20240125T235138Z
LAST-MODIFIED:20240125T235138Z
UID:10000181-1711112400-1711117800@getawaygirls.co.uk
SUMMARY:Cooking together
DESCRIPTION:Cooking together for young women aged 16-25 yrs
URL:https://getawaygirls.co.uk/group/cooking-together/2024-03-22/
LOCATION:Getaway Girls\, 19 Brooklands Avenue\, Leeds\, West Yorkshire\, LS14 6SG\, United Kingdom
ATTACH;FMTTYPE=image/jpeg:https://getawaygirls.co.uk/wp-content/uploads/2024/01/Cooking-together.jpg
END:VEVENT
BEGIN:VEVENT
DTSTART;TZID=UTC:20240324T130000
DTEND;TZID=UTC:20240324T160000
DTSTAMP:20260421T232114
CREATED:20240126T000628Z
LAST-MODIFIED:20240329T131118Z
UID:10000191-1711285200-1711296000@getawaygirls.co.uk
SUMMARY:DJing training\, MCing\, Music
DESCRIPTION:DJing training\, MCing\, Music\, for young women
URL:https://getawaygirls.co.uk/group/djing-training-mcing-music/2024-03-24/
LOCATION:Getaway Girls\, 19 Brooklands Avenue\, Leeds\, West Yorkshire\, LS14 6SG\, United Kingdom
ATTACH;FMTTYPE=image/jpeg:https://getawaygirls.co.uk/wp-content/uploads/2024/01/DJing.jpg
END:VEVENT
BEGIN:VEVENT
DTSTART;TZID=UTC:20240325T120000
DTEND;TZID=UTC:20240325T130000
DTSTAMP:20260421T232114
CREATED:20240125T085236Z
LAST-MODIFIED:20240125T175349Z
UID:10000016-1711368000-1711371600@getawaygirls.co.uk
SUMMARY:Drop in lunch
DESCRIPTION:Drop in / Lunch for young women aged 16-25 yrs
URL:https://getawaygirls.co.uk/group/drop-in-lunch-2/2024-03-25/
LOCATION:Getaway Girls\, 19 Brooklands Avenue\, Leeds\, West Yorkshire\, LS14 6SG\, United Kingdom
ATTACH;FMTTYPE=image/jpeg:https://getawaygirls.co.uk/wp-content/uploads/2024/01/Drop-in-lunch.jpg
END:VEVENT
BEGIN:VEVENT
DTSTART;TZID=UTC:20240329T120000
DTEND;TZID=UTC:20240329T130000
DTSTAMP:20260421T232114
CREATED:20240125T234302Z
LAST-MODIFIED:20240329T131341Z
UID:10000172-1711713600-1711717200@getawaygirls.co.uk
SUMMARY:Drop in lunch
DESCRIPTION:Drop in / Lunch for young women aged 16-25 yrs
URL:https://getawaygirls.co.uk/group/drop-in-lunch-3/2024-03-29/
LOCATION:Getaway Girls\, 19 Brooklands Avenue\, Leeds\, West Yorkshire\, LS14 6SG\, United Kingdom
ATTACH;FMTTYPE=image/jpeg:https://getawaygirls.co.uk/wp-content/uploads/2024/01/Drop-in-lunch.jpg
END:VEVENT
BEGIN:VEVENT
DTSTART;TZID=UTC:20240329T130000
DTEND;TZID=UTC:20240329T143000
DTSTAMP:20260421T232114
CREATED:20240329T131238Z
LAST-MODIFIED:20240329T131258Z
UID:10000182-1711717200-1711722600@getawaygirls.co.uk
SUMMARY:Cooking together
DESCRIPTION:Cooking together for young women aged 16-25 yrs
URL:https://getawaygirls.co.uk/group/cooking-together-2/2024-03-29/
LOCATION:Getaway Girls\, 19 Brooklands Avenue\, Leeds\, West Yorkshire\, LS14 6SG\, United Kingdom
ATTACH;FMTTYPE=image/jpeg:https://getawaygirls.co.uk/wp-content/uploads/2024/01/Cooking-together.jpg
END:VEVENT
BEGIN:VEVENT
DTSTART;TZID=UTC:20240331T130000
DTEND;TZID=UTC:20240331T160000
DTSTAMP:20260421T232114
CREATED:20240126T000628Z
LAST-MODIFIED:20240329T131118Z
UID:10000192-1711890000-1711900800@getawaygirls.co.uk
SUMMARY:DJing training\, MCing\, Music
DESCRIPTION:DJing training\, MCing\, Music\, for young women
URL:https://getawaygirls.co.uk/group/djing-training-mcing-music/2024-03-31/
LOCATION:Getaway Girls\, 19 Brooklands Avenue\, Leeds\, West Yorkshire\, LS14 6SG\, United Kingdom
ATTACH;FMTTYPE=image/jpeg:https://getawaygirls.co.uk/wp-content/uploads/2024/01/DJing.jpg
END:VEVENT
BEGIN:VEVENT
DTSTART;TZID=UTC:20240401T130000
DTEND;TZID=UTC:20240401T143000
DTSTAMP:20260421T232114
CREATED:20240329T130852Z
LAST-MODIFIED:20240329T130921Z
UID:10000077-1711976400-1711981800@getawaygirls.co.uk
SUMMARY:Proud to be Mum group
DESCRIPTION:Proud to be Mums group\, upto 25yrs\, with creché
URL:https://getawaygirls.co.uk/group/proud-to-be-mum-group/2024-04-01/
LOCATION:Getaway Girls\, 19 Brooklands Avenue\, Leeds\, West Yorkshire\, LS14 6SG\, United Kingdom
ATTACH;FMTTYPE=image/jpeg:https://getawaygirls.co.uk/wp-content/uploads/2024/01/Proud-to-be-Mum.jpg
END:VEVENT
BEGIN:VEVENT
DTSTART;TZID=UTC:20240403T120000
DTEND;TZID=UTC:20240403T130000
DTSTAMP:20260421T232114
CREATED:20240329T123950Z
LAST-MODIFIED:20240329T124047Z
UID:10000110-1712145600-1712149200@getawaygirls.co.uk
SUMMARY:Drop in lunch
DESCRIPTION:Drop in / Lunch for young women aged 16-25 yrs
URL:https://getawaygirls.co.uk/group/drop-in-lunch-5/2024-04-03/
LOCATION:Getaway Girls\, 19 Brooklands Avenue\, Leeds\, West Yorkshire\, LS14 6SG\, United Kingdom
ATTACH;FMTTYPE=image/jpeg:https://getawaygirls.co.uk/wp-content/uploads/2024/01/Drop-in-lunch.jpg
END:VEVENT
BEGIN:VEVENT
DTSTART;TZID=UTC:20240403T130000
DTEND;TZID=UTC:20240403T143000
DTSTAMP:20260421T232114
CREATED:20240329T123233Z
LAST-MODIFIED:20240329T131525Z
UID:10000352-1712149200-1712154600@getawaygirls.co.uk
SUMMARY:She Writes
DESCRIPTION:Creative writing group for young women aged 16-25 yrs\, with creché
URL:https://getawaygirls.co.uk/group/she-writes-2/2024-04-03/
LOCATION:Getaway Girls\, 19 Brooklands Avenue\, Leeds\, West Yorkshire\, LS14 6SG\, United Kingdom
ATTACH;FMTTYPE=image/jpeg:https://getawaygirls.co.uk/wp-content/uploads/2024/01/She-writes.jpg
END:VEVENT
BEGIN:VEVENT
DTSTART;TZID=UTC:20240405T120000
DTEND;TZID=UTC:20240405T130000
DTSTAMP:20260421T232114
CREATED:20240125T234302Z
LAST-MODIFIED:20240329T131341Z
UID:10000348-1712318400-1712322000@getawaygirls.co.uk
SUMMARY:Drop in lunch
DESCRIPTION:Drop in / Lunch for young women aged 16-25 yrs
URL:https://getawaygirls.co.uk/group/drop-in-lunch-3/2024-04-05/
LOCATION:Getaway Girls\, 19 Brooklands Avenue\, Leeds\, West Yorkshire\, LS14 6SG\, United Kingdom
ATTACH;FMTTYPE=image/jpeg:https://getawaygirls.co.uk/wp-content/uploads/2024/01/Drop-in-lunch.jpg
END:VEVENT
BEGIN:VEVENT
DTSTART;TZID=UTC:20240405T130000
DTEND;TZID=UTC:20240405T143000
DTSTAMP:20260421T232114
CREATED:20240329T131238Z
LAST-MODIFIED:20240329T131258Z
UID:10000344-1712322000-1712327400@getawaygirls.co.uk
SUMMARY:Cooking together
DESCRIPTION:Cooking together for young women aged 16-25 yrs
URL:https://getawaygirls.co.uk/group/cooking-together-2/2024-04-05/
LOCATION:Getaway Girls\, 19 Brooklands Avenue\, Leeds\, West Yorkshire\, LS14 6SG\, United Kingdom
ATTACH;FMTTYPE=image/jpeg:https://getawaygirls.co.uk/wp-content/uploads/2024/01/Cooking-together.jpg
END:VEVENT
BEGIN:VEVENT
DTSTART;TZID=UTC:20240407T130000
DTEND;TZID=UTC:20240407T160000
DTSTAMP:20260421T232114
CREATED:20240126T000628Z
LAST-MODIFIED:20240329T131118Z
UID:10000340-1712494800-1712505600@getawaygirls.co.uk
SUMMARY:DJing training\, MCing\, Music
DESCRIPTION:DJing training\, MCing\, Music\, for young women
URL:https://getawaygirls.co.uk/group/djing-training-mcing-music/2024-04-07/
LOCATION:Getaway Girls\, 19 Brooklands Avenue\, Leeds\, West Yorkshire\, LS14 6SG\, United Kingdom
ATTACH;FMTTYPE=image/jpeg:https://getawaygirls.co.uk/wp-content/uploads/2024/01/DJing.jpg
END:VEVENT
BEGIN:VEVENT
DTSTART;TZID=UTC:20240408T130000
DTEND;TZID=UTC:20240408T143000
DTSTAMP:20260421T232114
CREATED:20240329T130852Z
LAST-MODIFIED:20240329T130921Z
UID:10000332-1712581200-1712586600@getawaygirls.co.uk
SUMMARY:Proud to be Mum group
DESCRIPTION:Proud to be Mums group\, upto 25yrs\, with creché
URL:https://getawaygirls.co.uk/group/proud-to-be-mum-group/2024-04-08/
LOCATION:Getaway Girls\, 19 Brooklands Avenue\, Leeds\, West Yorkshire\, LS14 6SG\, United Kingdom
ATTACH;FMTTYPE=image/jpeg:https://getawaygirls.co.uk/wp-content/uploads/2024/01/Proud-to-be-Mum.jpg
END:VEVENT
BEGIN:VEVENT
DTSTART;TZID=UTC:20240409T130000
DTEND;TZID=UTC:20240409T143000
DTSTAMP:20260421T232114
CREATED:20240329T130608Z
LAST-MODIFIED:20240329T130658Z
UID:10000085-1712667600-1712673000@getawaygirls.co.uk
SUMMARY:Yoga
DESCRIPTION:Yoga group\, refreshments and creché.
URL:https://getawaygirls.co.uk/group/yoga-2/2024-04-09/
LOCATION:Getaway Girls\, 19 Brooklands Avenue\, Leeds\, West Yorkshire\, LS14 6SG\, United Kingdom
ATTACH;FMTTYPE=image/jpeg:https://getawaygirls.co.uk/wp-content/uploads/2024/01/Yoga.jpg
END:VEVENT
BEGIN:VEVENT
DTSTART;TZID=UTC:20240410T120000
DTEND;TZID=UTC:20240410T130000
DTSTAMP:20260421T232114
CREATED:20240329T123950Z
LAST-MODIFIED:20240329T124047Z
UID:10000266-1712750400-1712754000@getawaygirls.co.uk
SUMMARY:Drop in lunch
DESCRIPTION:Drop in / Lunch for young women aged 16-25 yrs
URL:https://getawaygirls.co.uk/group/drop-in-lunch-5/2024-04-10/
LOCATION:Getaway Girls\, 19 Brooklands Avenue\, Leeds\, West Yorkshire\, LS14 6SG\, United Kingdom
ATTACH;FMTTYPE=image/jpeg:https://getawaygirls.co.uk/wp-content/uploads/2024/01/Drop-in-lunch.jpg
END:VEVENT
BEGIN:VEVENT
DTSTART;TZID=UTC:20240410T130000
DTEND;TZID=UTC:20240410T143000
DTSTAMP:20260421T232114
CREATED:20240329T123233Z
LAST-MODIFIED:20240329T131525Z
UID:10000353-1712754000-1712759400@getawaygirls.co.uk
SUMMARY:She Writes
DESCRIPTION:Creative writing group for young women aged 16-25 yrs\, with creché
URL:https://getawaygirls.co.uk/group/she-writes-2/2024-04-10/
LOCATION:Getaway Girls\, 19 Brooklands Avenue\, Leeds\, West Yorkshire\, LS14 6SG\, United Kingdom
ATTACH;FMTTYPE=image/jpeg:https://getawaygirls.co.uk/wp-content/uploads/2024/01/She-writes.jpg
END:VEVENT
END:VCALENDAR