BEGIN:VCALENDAR
VERSION:2.0
PRODID:-//Getaway Girls - ECPv6.15.20//NONSGML v1.0//EN
CALSCALE:GREGORIAN
METHOD:PUBLISH
X-WR-CALNAME:Getaway Girls
X-ORIGINAL-URL:https://getawaygirls.co.uk
X-WR-CALDESC:Events for Getaway Girls
REFRESH-INTERVAL;VALUE=DURATION:PT1H
X-Robots-Tag:noindex
X-PUBLISHED-TTL:PT1H
BEGIN:VTIMEZONE
TZID:UTC
BEGIN:STANDARD
TZOFFSETFROM:+0000
TZOFFSETTO:+0000
TZNAME:UTC
DTSTART:20240101T000000
END:STANDARD
END:VTIMEZONE
BEGIN:VEVENT
DTSTART;TZID=UTC:20251217T123000
DTEND;TZID=UTC:20251217T143000
DTSTAMP:20260420T154008
CREATED:20250904T083545Z
LAST-MODIFIED:20260327T164812Z
UID:10001512-1765974600-1765981800@getawaygirls.co.uk
SUMMARY:Proud to be Mum group
DESCRIPTION:Proud to be Mums group\, 18- 25yrs\, with creché
URL:https://getawaygirls.co.uk/group/proud-to-be-mum-group-9/2025-12-17/
LOCATION:Getaway Girls\, 19 Brooklands Avenue\, Leeds\, West Yorkshire\, LS14 6SG\, United Kingdom
ATTACH;FMTTYPE=image/jpeg:https://getawaygirls.co.uk/wp-content/uploads/2024/01/Proud-to-be-Mum.jpg
END:VEVENT
BEGIN:VEVENT
DTSTART;TZID=UTC:20251217T153000
DTEND;TZID=UTC:20251217T173000
DTSTAMP:20260420T154008
CREATED:20250904T085053Z
LAST-MODIFIED:20260327T165606Z
UID:10001233-1765985400-1765992600@getawaygirls.co.uk
SUMMARY:Girls space 12-14yrs
DESCRIPTION:Girls Space for young women aged 12-14yrs
URL:https://getawaygirls.co.uk/group/girls-space-13-17yrs/2025-12-17/
LOCATION:Getaway Girls\, 19 Brooklands Avenue\, Leeds\, West Yorkshire\, LS14 6SG\, United Kingdom
ATTACH;FMTTYPE=image/jpeg:https://getawaygirls.co.uk/wp-content/uploads/2024/01/Girls-space.jpg
END:VEVENT
END:VCALENDAR