BEGIN:VCALENDAR
VERSION:2.0
PRODID:-//Getaway Girls - ECPv6.15.20//NONSGML v1.0//EN
CALSCALE:GREGORIAN
METHOD:PUBLISH
X-WR-CALNAME:Getaway Girls
X-ORIGINAL-URL:https://getawaygirls.co.uk
X-WR-CALDESC:Events for Getaway Girls
REFRESH-INTERVAL;VALUE=DURATION:PT1H
X-Robots-Tag:noindex
X-PUBLISHED-TTL:PT1H
BEGIN:VTIMEZONE
TZID:UTC
BEGIN:STANDARD
TZOFFSETFROM:+0000
TZOFFSETTO:+0000
TZNAME:UTC
DTSTART:20240101T000000
END:STANDARD
END:VTIMEZONE
BEGIN:VEVENT
DTSTART;TZID=UTC:20250730T113000
DTEND;TZID=UTC:20250730T153000
DTSTAMP:20260420T205556
CREATED:20250729T062513Z
LAST-MODIFIED:20250729T075939Z
UID:10001072-1753875000-1753889400@getawaygirls.co.uk
SUMMARY:13-17’s Summer Scheme
DESCRIPTION:You must book through Healthy Holidays and be on free school meals
URL:https://getawaygirls.co.uk/group/13-17s-summer-scheme/
LOCATION:Getaway Girls\, 19 Brooklands Avenue\, Leeds\, West Yorkshire\, LS14 6SG\, United Kingdom
ATTACH;FMTTYPE=image/png:https://getawaygirls.co.uk/wp-content/uploads/2025/07/13-17s-summer-scheme.png
END:VEVENT
END:VCALENDAR