BEGIN:VCALENDAR
VERSION:2.0
PRODID:-//Getaway Girls - ECPv6.15.20//NONSGML v1.0//EN
CALSCALE:GREGORIAN
METHOD:PUBLISH
X-WR-CALNAME:Getaway Girls
X-ORIGINAL-URL:https://getawaygirls.co.uk
X-WR-CALDESC:Events for Getaway Girls
REFRESH-INTERVAL;VALUE=DURATION:PT1H
X-Robots-Tag:noindex
X-PUBLISHED-TTL:PT1H
BEGIN:VTIMEZONE
TZID:UTC
BEGIN:STANDARD
TZOFFSETFROM:+0000
TZOFFSETTO:+0000
TZNAME:UTC
DTSTART:20240101T000000
END:STANDARD
END:VTIMEZONE
BEGIN:VEVENT
DTSTART;TZID=UTC:20250520T123000
DTEND;TZID=UTC:20250520T140000
DTSTAMP:20260421T005729
CREATED:20250618T144956Z
LAST-MODIFIED:20250618T145117Z
UID:10000967-1747744200-1747749600@getawaygirls.co.uk
SUMMARY:Yoga
DESCRIPTION:Yoga group\, refreshments and creché.
URL:https://getawaygirls.co.uk/group/yoga-4/2025-05-20/
LOCATION:Getaway Girls\, 19 Brooklands Avenue\, Leeds\, West Yorkshire\, LS14 6SG\, United Kingdom
ATTACH;FMTTYPE=image/jpeg:https://getawaygirls.co.uk/wp-content/uploads/2024/01/Yoga.jpg
END:VEVENT
BEGIN:VEVENT
DTSTART;TZID=UTC:20250520T153000
DTEND;TZID=UTC:20250520T173000
DTSTAMP:20260421T005729
CREATED:20250428T140203Z
LAST-MODIFIED:20250428T140245Z
UID:10000845-1747755000-1747762200@getawaygirls.co.uk
SUMMARY:Girls space 13-16yrs
DESCRIPTION:Girls Space for young women aged 13-16yrs
URL:https://getawaygirls.co.uk/group/girls-space-13-16yrs-4/2025-05-20/
LOCATION:Getaway Girls\, 19 Brooklands Avenue\, Leeds\, West Yorkshire\, LS14 6SG\, United Kingdom
ATTACH;FMTTYPE=image/jpeg:https://getawaygirls.co.uk/wp-content/uploads/2024/01/Girls-space.jpg
END:VEVENT
END:VCALENDAR