BEGIN:VCALENDAR
VERSION:2.0
PRODID:-//Getaway Girls - ECPv6.15.20//NONSGML v1.0//EN
CALSCALE:GREGORIAN
METHOD:PUBLISH
X-ORIGINAL-URL:https://getawaygirls.co.uk
X-WR-CALDESC:Events for Getaway Girls
REFRESH-INTERVAL;VALUE=DURATION:PT1H
X-Robots-Tag:noindex
X-PUBLISHED-TTL:PT1H
BEGIN:VTIMEZONE
TZID:UTC
BEGIN:STANDARD
TZOFFSETFROM:+0000
TZOFFSETTO:+0000
TZNAME:UTC
DTSTART:20240101T000000
END:STANDARD
END:VTIMEZONE
BEGIN:VEVENT
DTSTART;TZID=UTC:20250213T160000
DTEND;TZID=UTC:20250213T173000
DTSTAMP:20260421T010508
CREATED:20250103T100016Z
LAST-MODIFIED:20250311T155056Z
UID:10000716-1739462400-1739467800@getawaygirls.co.uk
SUMMARY:Vocal Girls
DESCRIPTION:Campaigning Group for girls 15-18yrs
URL:https://getawaygirls.co.uk/group/vocal-girls-3/2025-02-13/
LOCATION:Getaway Girls\, 19 Brooklands Avenue\, Leeds\, West Yorkshire\, LS14 6SG\, United Kingdom
ATTACH;FMTTYPE=image/jpeg:https://getawaygirls.co.uk/wp-content/uploads/2024/10/Vocal-Girls-event-2.jpg
END:VEVENT
BEGIN:VEVENT
DTSTART;TZID=UTC:20250213T160000
DTEND;TZID=UTC:20250213T173000
DTSTAMP:20260421T010508
CREATED:20250215T121448Z
LAST-MODIFIED:20250311T155322Z
UID:10000723-1739462400-1739467800@getawaygirls.co.uk
SUMMARY:Romanian Girls group 11-16yrs
DESCRIPTION:Romanian Girls group 11-16yrs
URL:https://getawaygirls.co.uk/group/romanian-girls-group-11-16yrs/2025-02-13/
LOCATION:St Aidans Church Hall\, Harehills\, Elford Place West\, Leeds\, LS8 5QD
ATTACH;FMTTYPE=image/png:https://getawaygirls.co.uk/wp-content/uploads/2025/02/Romanian-Girls.png
END:VEVENT
END:VCALENDAR