BEGIN:VCALENDAR
VERSION:2.0
PRODID:-//Getaway Girls - ECPv6.15.20//NONSGML v1.0//EN
CALSCALE:GREGORIAN
METHOD:PUBLISH
X-WR-CALNAME:Getaway Girls
X-ORIGINAL-URL:https://getawaygirls.co.uk
X-WR-CALDESC:Events for Getaway Girls
REFRESH-INTERVAL;VALUE=DURATION:PT1H
X-Robots-Tag:noindex
X-PUBLISHED-TTL:PT1H
BEGIN:VTIMEZONE
TZID:UTC
BEGIN:STANDARD
TZOFFSETFROM:+0000
TZOFFSETTO:+0000
TZNAME:UTC
DTSTART:20230101T000000
END:STANDARD
END:VTIMEZONE
BEGIN:VEVENT
DTSTART;TZID=UTC:20241016T123000
DTEND;TZID=UTC:20241016T143000
DTSTAMP:20260418T103943
CREATED:20241004T141410Z
LAST-MODIFIED:20241029T143139Z
UID:10000580-1729081800-1729089000@getawaygirls.co.uk
SUMMARY:Introduction to Youthwork
DESCRIPTION:training level 1
URL:https://getawaygirls.co.uk/group/vocal-girls/2024-10-16/
LOCATION:Getaway Girls\, 19 Brooklands Avenue\, Leeds\, West Yorkshire\, LS14 6SG\, United Kingdom
ATTACH;FMTTYPE=image/jpeg:https://getawaygirls.co.uk/wp-content/uploads/2024/01/DJing.jpg
END:VEVENT
BEGIN:VEVENT
DTSTART;TZID=UTC:20241016T160000
DTEND;TZID=UTC:20241016T173000
DTSTAMP:20260418T103943
CREATED:20240503T082110Z
LAST-MODIFIED:20241029T143053Z
UID:10000575-1729094400-1729099800@getawaygirls.co.uk
SUMMARY:Young women’s space 13-16yrs
DESCRIPTION:Young womens group\, for ages 13-16 yrs
URL:https://getawaygirls.co.uk/group/young-womens-space-3/2024-10-16/
LOCATION:Shine\, Harehills road\,\, Leeds\, West Yorkshire\, LS8 5HS\, United Kingdom
ATTACH;FMTTYPE=image/jpeg:https://getawaygirls.co.uk/wp-content/uploads/2024/01/Young-womens-space.jpg
END:VEVENT
END:VCALENDAR