BEGIN:VCALENDAR
VERSION:2.0
PRODID:-//Getaway Girls - ECPv6.15.20//NONSGML v1.0//EN
CALSCALE:GREGORIAN
METHOD:PUBLISH
X-WR-CALNAME:Getaway Girls
X-ORIGINAL-URL:https://getawaygirls.co.uk
X-WR-CALDESC:Events for Getaway Girls
REFRESH-INTERVAL;VALUE=DURATION:PT1H
X-Robots-Tag:noindex
X-PUBLISHED-TTL:PT1H
BEGIN:VTIMEZONE
TZID:UTC
BEGIN:STANDARD
TZOFFSETFROM:+0000
TZOFFSETTO:+0000
TZNAME:UTC
DTSTART:20230101T000000
END:STANDARD
END:VTIMEZONE
BEGIN:VEVENT
DTSTART;TZID=UTC:20240309T160000
DTEND;TZID=UTC:20240309T180000
DTSTAMP:20260421T213420
CREATED:20240304T170844Z
LAST-MODIFIED:20240304T171212Z
UID:10000253-1710000000-1710007200@getawaygirls.co.uk
SUMMARY:International Women’s Day
DESCRIPTION:For Girls and Young Women aged 11-18yrs
URL:https://getawaygirls.co.uk/group/international-womens-day/
LOCATION:Leeds Playhouse\, Playhouse Square\, Leeds\, West Yorkshire\, LS2 7UP\, United Kingdom
ATTACH;FMTTYPE=image/jpeg:https://getawaygirls.co.uk/wp-content/uploads/2024/03/Int-Womens-Day-24-EVENT.jpg
END:VEVENT
END:VCALENDAR