BEGIN:VCALENDAR
VERSION:2.0
PRODID:-//Getaway Girls - ECPv6.15.20//NONSGML v1.0//EN
CALSCALE:GREGORIAN
METHOD:PUBLISH
X-ORIGINAL-URL:https://getawaygirls.co.uk
X-WR-CALDESC:Events for Getaway Girls
REFRESH-INTERVAL;VALUE=DURATION:PT1H
X-Robots-Tag:noindex
X-PUBLISHED-TTL:PT1H
BEGIN:VTIMEZONE
TZID:UTC
BEGIN:STANDARD
TZOFFSETFROM:+0000
TZOFFSETTO:+0000
TZNAME:UTC
DTSTART:20230101T000000
END:STANDARD
END:VTIMEZONE
BEGIN:VEVENT
DTSTART;TZID=UTC:20240204T130000
DTEND;TZID=UTC:20240204T160000
DTSTAMP:20260421T230635
CREATED:20240126T000628Z
LAST-MODIFIED:20240329T131118Z
UID:10000184-1707051600-1707062400@getawaygirls.co.uk
SUMMARY:DJing training\, MCing\, Music
DESCRIPTION:DJing training\, MCing\, Music\, for young women
URL:https://getawaygirls.co.uk/group/djing-training-mcing-music/2024-02-04/
LOCATION:Getaway Girls\, 19 Brooklands Avenue\, Leeds\, West Yorkshire\, LS14 6SG\, United Kingdom
ATTACH;FMTTYPE=image/jpeg:https://getawaygirls.co.uk/wp-content/uploads/2024/01/DJing.jpg
END:VEVENT
END:VCALENDAR